Workbook

Sheet Lohnjournal
A1: Personal-Nr. | B1: Name | C1: Vorname | D1: Funktion | E1: Ort | F1: Kanton | G1: AHV-Nummer | H1: Beschäftigungsgrad | I1: Lohnmonat | J1: Monatslohn 100 % | K1: Bruttolohn | L1: Kinderzulagen | M1: Bonus / Provision | N1: Bruttolohn total | O1: AHV/IV/EO Arbeitnehmer | P1: ALV Arbeitnehmer | Q1: NBU Arbeitnehmer | R1: BVG Arbeitnehmer | S1: Quellensteuer | T1: Weitere Abzüge | U1: Nettolohn | V1: AHV/IV/EO Arbeitgeber | W1: ALV Arbeitgeber | X1: FAK Arbeitgeber | Y1: BU Arbeitgeber | Z1: BVG Arbeitgeber | AA1: Weitere Arbeitgeberkosten | AB1: Arbeitgeberkosten total | AC1: Gesamtkosten Arbeitgeber | AD1: Quellensteuerpflichtig | AE1: Bemerkung
A2: P-1001 | B2: Keller | C2: Andrea | D2: Administration | E2: Zürich | F2: ZH | G2: 756.1234.5678.90 | H2: 0.8 | I2: 46053 | J2: 6800 | K2: =IF($A2="","",$J2*$H2) | L2: 400 | M2: 0 | N2: =IF($A2="","",SUM($K2:$M2)) | O2: =IF($A2="","",IFERROR($N2*VLOOKUP("AHV/IV/EO Arbeitnehmer",Parameter!$A$2:$B$20,2,FALSE),0)) | P2: =IF($A2="","",IFERROR(MIN($N2,VLOOKUP("ALV Jahresgrenze",Parameter!$A$2:$B$20,2,FALSE)/12)*VLOOKUP("ALV Arbeitnehmer",Parameter!$A$2:$B$20,2,FALSE),0)) | Q2: =IF($A2="","",IFERROR($N2*VLOOKUP("NBU Arbeitnehmer",Parameter!$A$2:$B$20,2,FALSE),0)) | R2: =IF($A2="","",IFERROR($N2*VLOOKUP("BVG Arbeitnehmer",Parameter!$A$2:$B$20,2,FALSE),0)) | S2: =IF($A2="","",IF($AD2="Ja",IFERROR($N2*VLOOKUP("Quellensteuer Standardsatz",Parameter!$A$2:$B$20,2,FALSE),0),0)) | T2: 0 | U2: =IF($A2="","",IFERROR($N2-SUM($O2:$T2),0)) | V2: =IF($A2="","",IFERROR($N2*VLOOKUP("AHV/IV/EO Arbeitgeber",Parameter!$A$2:$B$20,2,FALSE),0)) | W2: =IF($A2="","",IFERROR(MIN($N2,VLOOKUP("ALV Jahresgrenze",Parameter!$A$2:$B$20,2,FALSE)/12)*VLOOKUP("ALV Arbeitgeber",Parameter!$A$2:$B$20,2,FALSE),0)) | X2: =IF($A2="","",IFERROR($N2*VLOOKUP("FAK Arbeitgeber",Parameter!$A$2:$B$20,2,FALSE),0)) | Y2: =IF($A2="","",IFERROR($N2*VLOOKUP("BU Arbeitgeber",Parameter!$A$2:$B$20,2,FALSE),0)) | Z2: =IF($A2="","",IFERROR($N2*VLOOKUP("BVG Arbeitgeber",Parameter!$A$2:$B$20,2,FALSE),0)) | AA2: 0 | AB2: =IF($A2="","",SUM($V2:$AA2)) | AC2: =IF($A2="","",IFERROR($N2+$AB2,0)) | AD2: Nein | AE2: =IF($A2="","",IF($AD2="Ja","Prüfen","Nein"))
A3: P-1002 | B3: Steiner | C3: Markus | D3: Verkauf | E3: Bern | F3: BE | G3: 756.2345.6789.01 | H3: 1 | I3: 46053 | J3: 7500 | K3: =IF($A3="","",$J3*$H3) | L3: 0 | M3: 1200 | N3: =IF($A3="","",SUM($K3:$M3)) | O3: =IF($A3="","",IFERROR($N3*VLOOKUP("AHV/IV/EO Arbeitnehmer",Parameter!$A$2:$B$20,2,FALSE),0)) | P3: =IF($A3="","",IFERROR(MIN($N3,VLOOKUP("ALV Jahresgrenze",Parameter!$A$2:$B$20,2,FALSE)/12)*VLOOKUP("ALV Arbeitnehmer",Parameter!$A$2:$B$20,2,FALSE),0)) | Q3: =IF($A3="","",IFERROR($N3*VLOOKUP("NBU Arbeitnehmer",Parameter!$A$2:$B$20,2,FALSE),0)) | R3: =IF($A3="","",IFERROR($N3*VLOOKUP("BVG Arbeitnehmer",Parameter!$A$2:$B$20,2,FALSE),0)) | S3: =IF($A3="","",IF($AD3="Ja",IFERROR($N3*VLOOKUP("Quellensteuer Standardsatz",Parameter!$A$2:$B$20,2,FALSE),0),0)) | T3: 0 | U3: =IF($A3="","",IFERROR($N3-SUM($O3:$T3),0)) | V3: =IF($A3="","",IFERROR($N3*VLOOKUP("AHV/IV/EO Arbeitgeber",Parameter!$A$2:$B$20,2,FALSE),0)) | W3: =IF($A3="","",IFERROR(MIN($N3,VLOOKUP("ALV Jahresgrenze",Parameter!$A$2:$B$20,2,FALSE)/12)*VLOOKUP("ALV Arbeitgeber",Parameter!$A$2:$B$20,2,FALSE),0)) | X3: =IF($A3="","",IFERROR($N3*VLOOKUP("FAK Arbeitgeber",Parameter!$A$2:$B$20,2,FALSE),0)) | Y3: =IF($A3="","",IFERROR($N3*VLOOKUP("BU Arbeitgeber",Parameter!$A$2:$B$20,2,FALSE),0)) | Z3: =IF($A3="","",IFERROR($N3*VLOOKUP("BVG Arbeitgeber",Parameter!$A$2:$B$20,2,FALSE),0)) | AA3: 0 | AB3: =IF($A3="","",SUM($V3:$AA3)) | AC3: =IF($A3="","",IFERROR($N3+$AB3,0)) | AD3: Nein | AE3: =IF($A3="","",IF($AD3="Ja","Prüfen","Nein"))
A4: P-1003 | B4: Meier | C4: Sandra | D4: Projektleitung | E4: Genf | F4: GE | G4: 756.3456.7890.12 | H4: 0.9 | I4: 46053 | J4: 9200 | K4: =IF($A4="","",$J4*$H4) | L4: 0 | M4: 0 | N4: =IF($A4="","",SUM($K4:$M4)) | O4: =IF($A4="","",IFERROR($N4*VLOOKUP("AHV/IV/EO Arbeitnehmer",Parameter!$A$2:$B$20,2,FALSE),0)) | P4: =IF($A4="","",IFERROR(MIN($N4,VLOOKUP("ALV Jahresgrenze",Parameter!$A$2:$B$20,2,FALSE)/12)*VLOOKUP("ALV Arbeitnehmer",Parameter!$A$2:$B$20,2,FALSE),0)) | Q4: =IF($A4="","",IFERROR($N4*VLOOKUP("NBU Arbeitnehmer",Parameter!$A$2:$B$20,2,FALSE),0)) | R4: =IF($A4="","",IFERROR($N4*VLOOKUP("BVG Arbeitnehmer",Parameter!$A$2:$B$20,2,FALSE),0)) | S4: =IF($A4="","",IF($AD4="Ja",IFERROR($N4*VLOOKUP("Quellensteuer Standardsatz",Parameter!$A$2:$B$20,2,FALSE),0),0)) | T4: 0 | U4: =IF($A4="","",IFERROR($N4-SUM($O4:$T4),0)) | V4: =IF($A4="","",IFERROR($N4*VLOOKUP("AHV/IV/EO Arbeitgeber",Parameter!$A$2:$B$20,2,FALSE),0)) | W4: =IF($A4="","",IFERROR(MIN($N4,VLOOKUP("ALV Jahresgrenze",Parameter!$A$2:$B$20,2,FALSE)/12)*VLOOKUP("ALV Arbeitgeber",Parameter!$A$2:$B$20,2,FALSE),0)) | X4: =IF($A4="","",IFERROR($N4*VLOOKUP("FAK Arbeitgeber",Parameter!$A$2:$B$20,2,FALSE),0)) | Y4: =IF($A4="","",IFERROR($N4*VLOOKUP("BU Arbeitgeber",Parameter!$A$2:$B$20,2,FALSE),0)) | Z4: =IF($A4="","",IFERROR($N4*VLOOKUP("BVG Arbeitgeber",Parameter!$A$2:$B$20,2,FALSE),0)) | AA4: 0 | AB4: =IF($A4="","",SUM($V4:$AA4)) | AC4: =IF($A4="","",IFERROR($N4+$AB4,0)) | AD4: Ja | AE4: =IF($A4="","",IF($AD4="Ja","Prüfen","Nein"))
A5: P-1004 | B5: Müller | C5: Thomas | D5: IT-Support | E5: Basel | F5: BS | G5: 756.4567.8901.23 | H5: 1 | I5: 46053 | J5: 7800 | K5: =IF($A5="","",$J5*$H5) | L5: 250 | M5: 500 | N5: =IF($A5="","",SUM($K5:$M5)) | O5: =IF($A5="","",IFERROR($N5*VLOOKUP("AHV/IV/EO Arbeitnehmer",Parameter!$A$2:$B$20,2,FALSE),0)) | P5: =IF($A5="","",IFERROR(MIN($N5,VLOOKUP("ALV Jahresgrenze",Parameter!$A$2:$B$20,2,FALSE)/12)*VLOOKUP("ALV Arbeitnehmer",Parameter!$A$2:$B$20,2,FALSE),0)) | Q5: =IF($A5="","",IFERROR($N5*VLOOKUP("NBU Arbeitnehmer",Parameter!$A$2:$B$20,2,FALSE),0)) | R5: =IF($A5="","",IFERROR($N5*VLOOKUP("BVG Arbeitnehmer",Parameter!$A$2:$B$20,2,FALSE),0)) | S5: =IF($A5="","",IF($AD5="Ja",IFERROR($N5*VLOOKUP("Quellensteuer Standardsatz",Parameter!$A$2:$B$20,2,FALSE),0),0)) | T5: 0 | U5: =IF($A5="","",IFERROR($N5-SUM($O5:$T5),0)) | V5: =IF($A5="","",IFERROR($N5*VLOOKUP("AHV/IV/EO Arbeitgeber",Parameter!$A$2:$B$20,2,FALSE),0)) | W5: =IF($A5="","",IFERROR(MIN($N5,VLOOKUP("ALV Jahresgrenze",Parameter!$A$2:$B$20,2,FALSE)/12)*VLOOKUP("ALV Arbeitgeber",Parameter!$A$2:$B$20,2,FALSE),0)) | X5: =IF($A5="","",IFERROR($N5*VLOOKUP("FAK Arbeitgeber",Parameter!$A$2:$B$20,2,FALSE),0)) | Y5: =IF($A5="","",IFERROR($N5*VLOOKUP("BU Arbeitgeber",Parameter!$A$2:$B$20,2,FALSE),0)) | Z5: =IF($A5="","",IFERROR($N5*VLOOKUP("BVG Arbeitgeber",Parameter!$A$2:$B$20,2,FALSE),0)) | AA5: 0 | AB5: =IF($A5="","",SUM($V5:$AA5)) | AC5: =IF($A5="","",IFERROR($N5+$AB5,0)) | AD5: Nein | AE5: =IF($A5="","",IF($AD5="Ja","Prüfen","Nein"))
A6: P-1005 | B6: Brunner | C6: Reto | D6: Logistik | E6: Lausanne | F6: VD | G6: 756.5678.9012.34 | H6: 0.7 | I6: 46053 | J6: 6200 | K6: =IF($A6="","",$J6*$H6) | L6: 400 | M6: 0 | N6: =IF($A6="","",SUM($K6:$M6)) | O6: =IF($A6="","",IFERROR($N6*VLOOKUP("AHV/IV/EO Arbeitnehmer",Parameter!$A$2:$B$20,2,FALSE),0)) | P6: =IF($A6="","",IFERROR(MIN($N6,VLOOKUP("ALV Jahresgrenze",Parameter!$A$2:$B$20,2,FALSE)/12)*VLOOKUP("ALV Arbeitnehmer",Parameter!$A$2:$B$20,2,FALSE),0)) | Q6: =IF($A6="","",IFERROR($N6*VLOOKUP("NBU Arbeitnehmer",Parameter!$A$2:$B$20,2,FALSE),0)) | R6: =IF($A6="","",IFERROR($N6*VLOOKUP("BVG Arbeitnehmer",Parameter!$A$2:$B$20,2,FALSE),0)) | S6: =IF($A6="","",IF($AD6="Ja",IFERROR($N6*VLOOKUP("Quellensteuer Standardsatz",Parameter!$A$2:$B$20,2,FALSE),0),0)) | T6: 0 | U6: =IF($A6="","",IFERROR($N6-SUM($O6:$T6),0)) | V6: =IF($A6="","",IFERROR($N6*VLOOKUP("AHV/IV/EO Arbeitgeber",Parameter!$A$2:$B$20,2,FALSE),0)) | W6: =IF($A6="","",IFERROR(MIN($N6,VLOOKUP("ALV Jahresgrenze",Parameter!$A$2:$B$20,2,FALSE)/12)*VLOOKUP("ALV Arbeitgeber",Parameter!$A$2:$B$20,2,FALSE),0)) | X6: =IF($A6="","",IFERROR($N6*VLOOKUP("FAK Arbeitgeber",Parameter!$A$2:$B$20,2,FALSE),0)) | Y6: =IF($A6="","",IFERROR($N6*VLOOKUP("BU Arbeitgeber",Parameter!$A$2:$B$20,2,FALSE),0)) | Z6: =IF($A6="","",IFERROR($N6*VLOOKUP("BVG Arbeitgeber",Parameter!$A$2:$B$20,2,FALSE),0)) | AA6: 0 | AB6: =IF($A6="","",SUM($V6:$AA6)) | AC6: =IF($A6="","",IFERROR($N6+$AB6,0)) | AD6: Ja | AE6: =IF($A6="","",IF($AD6="Ja","Prüfen","Nein"))
A7: P-1006 | B7: Frei | C7: Nicole | D7: Sachbearbeitung | E7: Luzern | F7: LU | G7: 756.6789.0123.45 | H7: 0.8 | I7: 46053 | J7: 5900 | K7: =IF($A7="","",$J7*$H7) | L7: 0 | M7: 0 | N7: =IF($A7="","",SUM($K7:$M7)) | O7: =IF($A7="","",IFERROR($N7*VLOOKUP("AHV/IV/EO Arbeitnehmer",Parameter!$A$2:$B$20,2,FALSE),0)) | P7: =IF($A7="","",IFERROR(MIN($N7,VLOOKUP("ALV Jahresgrenze",Parameter!$A$2:$B$20,2,FALSE)/12)*VLOOKUP("ALV Arbeitnehmer",Parameter!$A$2:$B$20,2,FALSE),0)) | Q7: =IF($A7="","",IFERROR($N7*VLOOKUP("NBU Arbeitnehmer",Parameter!$A$2:$B$20,2,FALSE),0)) | R7: =IF($A7="","",IFERROR($N7*VLOOKUP("BVG Arbeitnehmer",Parameter!$A$2:$B$20,2,FALSE),0)) | S7: =IF($A7="","",IF($AD7="Ja",IFERROR($N7*VLOOKUP("Quellensteuer Standardsatz",Parameter!$A$2:$B$20,2,FALSE),0),0)) | T7: 0 | U7: =IF($A7="","",IFERROR($N7-SUM($O7:$T7),0)) | V7: =IF($A7="","",IFERROR($N7*VLOOKUP("AHV/IV/EO Arbeitgeber",Parameter!$A$2:$B$20,2,FALSE),0)) | W7: =IF($A7="","",IFERROR(MIN($N7,VLOOKUP("ALV Jahresgrenze",Parameter!$A$2:$B$20,2,FALSE)/12)*VLOOKUP("ALV Arbeitgeber",Parameter!$A$2:$B$20,2,FALSE),0)) | X7: =IF($A7="","",IFERROR($N7*VLOOKUP("FAK Arbeitgeber",Parameter!$A$2:$B$20,2,FALSE),0)) | Y7: =IF($A7="","",IFERROR($N7*VLOOKUP("BU Arbeitgeber",Parameter!$A$2:$B$20,2,FALSE),0)) | Z7: =IF($A7="","",IFERROR($N7*VLOOKUP("BVG Arbeitgeber",Parameter!$A$2:$B$20,2,FALSE),0)) | AA7: 0 | AB7: =IF($A7="","",SUM($V7:$AA7)) | AC7: =IF($A7="","",IFERROR($N7+$AB7,0)) | AD7: Nein | AE7: =IF($A7="","",IF($AD7="Ja","Prüfen","Nein"))
A8: P-1007 | B8: Wenger | C8: Stefan | D8: Beratung | E8: St. Gallen | F8: SG | G8: 756.7890.1234.56 | H8: 1 | I8: 46053 | J8: 8500 | K8: =IF($A8="","",$J8*$H8) | L8: 0 | M8: 800 | N8: =IF($A8="","",SUM($K8:$M8)) | O8: =IF($A8="","",IFERROR($N8*VLOOKUP("AHV/IV/EO Arbeitnehmer",Parameter!$A$2:$B$20,2,FALSE),0)) | P8: =IF($A8="","",IFERROR(MIN($N8,VLOOKUP("ALV Jahresgrenze",Parameter!$A$2:$B$20,2,FALSE)/12)*VLOOKUP("ALV Arbeitnehmer",Parameter!$A$2:$B$20,2,FALSE),0)) | Q8: =IF($A8="","",IFERROR($N8*VLOOKUP("NBU Arbeitnehmer",Parameter!$A$2:$B$20,2,FALSE),0)) | R8: =IF($A8="","",IFERROR($N8*VLOOKUP("BVG Arbeitnehmer",Parameter!$A$2:$B$20,2,FALSE),0)) | S8: =IF($A8="","",IF($AD8="Ja",IFERROR($N8*VLOOKUP("Quellensteuer Standardsatz",Parameter!$A$2:$B$20,2,FALSE),0),0)) | T8: 0 | U8: =IF($A8="","",IFERROR($N8-SUM($O8:$T8),0)) | V8: =IF($A8="","",IFERROR($N8*VLOOKUP("AHV/IV/EO Arbeitgeber",Parameter!$A$2:$B$20,2,FALSE),0)) | W8: =IF($A8="","",IFERROR(MIN($N8,VLOOKUP("ALV Jahresgrenze",Parameter!$A$2:$B$20,2,FALSE)/12)*VLOOKUP("ALV Arbeitgeber",Parameter!$A$2:$B$20,2,FALSE),0)) | X8: =IF($A8="","",IFERROR($N8*VLOOKUP("FAK Arbeitgeber",Parameter!$A$2:$B$20,2,FALSE),0)) | Y8: =IF($A8="","",IFERROR($N8*VLOOKUP("BU Arbeitgeber",Parameter!$A$2:$B$20,2,FALSE),0)) | Z8: =IF($A8="","",IFERROR($N8*VLOOKUP("BVG Arbeitgeber",Parameter!$A$2:$B$20,2,FALSE),0)) | AA8: 150 | AB8: =IF($A8="","",SUM($V8:$AA8)) | AC8: =IF($A8="","",IFERROR($N8+$AB8,0)) | AD8: Nein | AE8: =IF($A8="","",IF($AD8="Ja","Prüfen","Nein"))
A9: P-1008 | B9: Rossi | C9: Claudia | D9: Finanzen | E9: Lugano | F9: TI | G9: 756.8901.2345.67 | H9: 0.9 | I9: 46053 | J9: 8800 | K9: =IF($A9="","",$J9*$H9) | L9: 250 | M9: 0 | N9: =IF($A9="","",SUM($K9:$M9)) | O9: =IF($A9="","",IFERROR($N9*VLOOKUP("AHV/IV/EO Arbeitnehmer",Parameter!$A$2:$B$20,2,FALSE),0)) | P9: =IF($A9="","",IFERROR(MIN($N9,VLOOKUP("ALV Jahresgrenze",Parameter!$A$2:$B$20,2,FALSE)/12)*VLOOKUP("ALV Arbeitnehmer",Parameter!$A$2:$B$20,2,FALSE),0)) | Q9: =IF($A9="","",IFERROR($N9*VLOOKUP("NBU Arbeitnehmer",Parameter!$A$2:$B$20,2,FALSE),0)) | R9: =IF($A9="","",IFERROR($N9*VLOOKUP("BVG Arbeitnehmer",Parameter!$A$2:$B$20,2,FALSE),0)) | S9: =IF($A9="","",IF($AD9="Ja",IFERROR($N9*VLOOKUP("Quellensteuer Standardsatz",Parameter!$A$2:$B$20,2,FALSE),0),0)) | T9: 0 | U9: =IF($A9="","",IFERROR($N9-SUM($O9:$T9),0)) | V9: =IF($A9="","",IFERROR($N9*VLOOKUP("AHV/IV/EO Arbeitgeber",Parameter!$A$2:$B$20,2,FALSE),0)) | W9: =IF($A9="","",IFERROR(MIN($N9,VLOOKUP("ALV Jahresgrenze",Parameter!$A$2:$B$20,2,FALSE)/12)*VLOOKUP("ALV Arbeitgeber",Parameter!$A$2:$B$20,2,FALSE),0)) | X9: =IF($A9="","",IFERROR($N9*VLOOKUP("FAK Arbeitgeber",Parameter!$A$2:$B$20,2,FALSE),0)) | Y9: =IF($A9="","",IFERROR($N9*VLOOKUP("BU Arbeitgeber",Parameter!$A$2:$B$20,2,FALSE),0)) | Z9: =IF($A9="","",IFERROR($N9*VLOOKUP("BVG Arbeitgeber",Parameter!$A$2:$B$20,2,FALSE),0)) | AA9: 0 | AB9: =IF($A9="","",SUM($V9:$AA9)) | AC9: =IF($A9="","",IFERROR($N9+$AB9,0)) | AD9: Ja | AE9: =IF($A9="","",IF($AD9="Ja","Prüfen","Nein"))
A10: P-1009 | B10: Schmid | C10: Daniela | D10: Empfang | E10: Winterthur | F10: ZH | G10: 756.9012.3456.78 | H10: 0.6 | I10: 46053 | J10: 4500 | K10: =IF($A10="","",$J10*$H10) | L10: 200 | M10: 0 | N10: =IF($A10="","",SUM($K10:$M10)) | O10: =IF($A10="","",IFERROR($N10*VLOOKUP("AHV/IV/EO Arbeitnehmer",Parameter!$A$2:$B$20,2,FALSE),0)) | P10: =IF($A10="","",IFERROR(MIN($N10,VLOOKUP("ALV Jahresgrenze",Parameter!$A$2:$B$20,2,FALSE)/12)*VLOOKUP("ALV Arbeitnehmer",Parameter!$A$2:$B$20,2,FALSE),0)) | Q10: =IF($A10="","",IFERROR($N10*VLOOKUP("NBU Arbeitnehmer",Parameter!$A$2:$B$20,2,FALSE),0)) | R10: =IF($A10="","",IFERROR($N10*VLOOKUP("BVG Arbeitnehmer",Parameter!$A$2:$B$20,2,FALSE),0)) | S10: =IF($A10="","",IF($AD10="Ja",IFERROR($N10*VLOOKUP("Quellensteuer Standardsatz",Parameter!$A$2:$B$20,2,FALSE),0),0)) | T10: 0 | U10: =IF($A10="","",IFERROR($N10-SUM($O10:$T10),0)) | V10: =IF($A10="","",IFERROR($N10*VLOOKUP("AHV/IV/EO Arbeitgeber",Parameter!$A$2:$B$20,2,FALSE),0)) | W10: =IF($A10="","",IFERROR(MIN($N10,VLOOKUP("ALV Jahresgrenze",Parameter!$A$2:$B$20,2,FALSE)/12)*VLOOKUP("ALV Arbeitgeber",Parameter!$A$2:$B$20,2,FALSE),0)) | X10: =IF($A10="","",IFERROR($N10*VLOOKUP("FAK Arbeitgeber",Parameter!$A$2:$B$20,2,FALSE),0)) | Y10: =IF($A10="","",IFERROR($N10*VLOOKUP("BU Arbeitgeber",Parameter!$A$2:$B$20,2,FALSE),0)) | Z10: =IF($A10="","",IFERROR($N10*VLOOKUP("BVG Arbeitgeber",Parameter!$A$2:$B$20,2,FALSE),0)) | AA10: 0 | AB10: =IF($A10="","",SUM($V10:$AA10)) | AC10: =IF($A10="","",IFERROR($N10+$AB10,0)) | AD10: Nein | AE10: =IF($A10="","",IF($AD10="Ja","Prüfen","Nein"))
K11: =IF($A11="","",$J11*$H11) | N11: =IF($A11="","",SUM($K11:$M11)) | O11: =IF($A11="","",IFERROR($N11*VLOOKUP("AHV/IV/EO Arbeitnehmer",Parameter!$A$2:$B$20,2,FALSE),0)) | P11: =IF($A11="","",IFERROR(MIN($N11,VLOOKUP("ALV Jahresgrenze",Parameter!$A$2:$B$20,2,FALSE)/12)*VLOOKUP("ALV Arbeitnehmer",Parameter!$A$2:$B$20,2,FALSE),0)) | Q11: =IF($A11="","",IFERROR($N11*VLOOKUP("NBU Arbeitnehmer",Parameter!$A$2:$B$20,2,FALSE),0)) | R11: =IF($A11="","",IFERROR($N11*VLOOKUP("BVG Arbeitnehmer",Parameter!$A$2:$B$20,2,FALSE),0)) | S11: =IF($A11="","",IF($AD11="Ja",IFERROR($N11*VLOOKUP("Quellensteuer Standardsatz",Parameter!$A$2:$B$20,2,FALSE),0),0)) | U11: =IF($A11="","",IFERROR($N11-SUM($O11:$T11),0)) | V11: =IF($A11="","",IFERROR($N11*VLOOKUP("AHV/IV/EO Arbeitgeber",Parameter!$A$2:$B$20,2,FALSE),0)) | W11: =IF($A11="","",IFERROR(MIN($N11,VLOOKUP("ALV Jahresgrenze",Parameter!$A$2:$B$20,2,FALSE)/12)*VLOOKUP("ALV Arbeitgeber",Parameter!$A$2:$B$20,2,FALSE),0)) | X11: =IF($A11="","",IFERROR($N11*VLOOKUP("FAK Arbeitgeber",Parameter!$A$2:$B$20,2,FALSE),0)) | Y11: =IF($A11="","",IFERROR($N11*VLOOKUP("BU Arbeitgeber",Parameter!$A$2:$B$20,2,FALSE),0)) | Z11: =IF($A11="","",IFERROR($N11*VLOOKUP("BVG Arbeitgeber",Parameter!$A$2:$B$20,2,FALSE),0)) | AB11: =IF($A11="","",SUM($V11:$AA11)) | AC11: =IF($A11="","",IFERROR($N11+$AB11,0)) | AE11: =IF($A11="","",IF($AD11="Ja","Prüfen","Nein"))
K12: =IF($A12="","",$J12*$H12) | N12: =IF($A12="","",SUM($K12:$M12)) | O12: =IF($A12="","",IFERROR($N12*VLOOKUP("AHV/IV/EO Arbeitnehmer",Parameter!$A$2:$B$20,2,FALSE),0)) | P12: =IF($A12="","",IFERROR(MIN($N12,VLOOKUP("ALV Jahresgrenze",Parameter!$A$2:$B$20,2,FALSE)/12)*VLOOKUP("ALV Arbeitnehmer",Parameter!$A$2:$B$20,2,FALSE),0)) | Q12: =IF($A12="","",IFERROR($N12*VLOOKUP("NBU Arbeitnehmer",Parameter!$A$2:$B$20,2,FALSE),0)) | R12: =IF($A12="","",IFERROR($N12*VLOOKUP("BVG Arbeitnehmer",Parameter!$A$2:$B$20,2,FALSE),0)) | S12: =IF($A12="","",IF($AD12="Ja",IFERROR($N12*VLOOKUP("Quellensteuer Standardsatz",Parameter!$A$2:$B$20,2,FALSE),0),0)) | U12: =IF($A12="","",IFERROR($N12-SUM($O12:$T12),0)) | V12: =IF($A12="","",IFERROR($N12*VLOOKUP("AHV/IV/EO Arbeitgeber",Parameter!$A$2:$B$20,2,FALSE),0)) | W12: =IF($A12="","",IFERROR(MIN($N12,VLOOKUP("ALV Jahresgrenze",Parameter!$A$2:$B$20,2,FALSE)/12)*VLOOKUP("ALV Arbeitgeber",Parameter!$A$2:$B$20,2,FALSE),0)) | X12: =IF($A12="","",IFERROR($N12*VLOOKUP("FAK Arbeitgeber",Parameter!$A$2:$B$20,2,FALSE),0)) | Y12: =IF($A12="","",IFERROR($N12*VLOOKUP("BU Arbeitgeber",Parameter!$A$2:$B$20,2,FALSE),0)) | Z12: =IF($A12="","",IFERROR($N12*VLOOKUP("BVG Arbeitgeber",Parameter!$A$2:$B$20,2,FALSE),0)) | AB12: =IF($A12="","",SUM($V12:$AA12)) | AC12: =IF($A12="","",IFERROR($N12+$AB12,0)) | AE12: =IF($A12="","",IF($AD12="Ja","Prüfen","Nein"))
K13: =IF($A13="","",$J13*$H13) | N13: =IF($A13="","",SUM($K13:$M13)) | O13: =IF($A13="","",IFERROR($N13*VLOOKUP("AHV/IV/EO Arbeitnehmer",Parameter!$A$2:$B$20,2,FALSE),0)) | P13: =IF($A13="","",IFERROR(MIN($N13,VLOOKUP("ALV Jahresgrenze",Parameter!$A$2:$B$20,2,FALSE)/12)*VLOOKUP("ALV Arbeitnehmer",Parameter!$A$2:$B$20,2,FALSE),0)) | Q13: =IF($A13="","",IFERROR($N13*VLOOKUP("NBU Arbeitnehmer",Parameter!$A$2:$B$20,2,FALSE),0)) | R13: =IF($A13="","",IFERROR($N13*VLOOKUP("BVG Arbeitnehmer",Parameter!$A$2:$B$20,2,FALSE),0)) | S13: =IF($A13="","",IF($AD13="Ja",IFERROR($N13*VLOOKUP("Quellensteuer Standardsatz",Parameter!$A$2:$B$20,2,FALSE),0),0)) | U13: =IF($A13="","",IFERROR($N13-SUM($O13:$T13),0)) | V13: =IF($A13="","",IFERROR($N13*VLOOKUP("AHV/IV/EO Arbeitgeber",Parameter!$A$2:$B$20,2,FALSE),0)) | W13: =IF($A13="","",IFERROR(MIN($N13,VLOOKUP("ALV Jahresgrenze",Parameter!$A$2:$B$20,2,FALSE)/12)*VLOOKUP("ALV Arbeitgeber",Parameter!$A$2:$B$20,2,FALSE),0)) | X13: =IF($A13="","",IFERROR($N13*VLOOKUP("FAK Arbeitgeber",Parameter!$A$2:$B$20,2,FALSE),0)) | Y13: =IF($A13="","",IFERROR($N13*VLOOKUP("BU Arbeitgeber",Parameter!$A$2:$B$20,2,FALSE),0)) | Z13: =IF($A13="","",IFERROR($N13*VLOOKUP("BVG Arbeitgeber",Parameter!$A$2:$B$20,2,FALSE),0)) | AB13: =IF($A13="","",SUM($V13:$AA13)) | AC13: =IF($A13="","",IFERROR($N13+$AB13,0)) | AE13: =IF($A13="","",IF($AD13="Ja","Prüfen","Nein"))
K14: =IF($A14="","",$J14*$H14) | N14: =IF($A14="","",SUM($K14:$M14)) | O14: =IF($A14="","",IFERROR($N14*VLOOKUP("AHV/IV/EO Arbeitnehmer",Parameter!$A$2:$B$20,2,FALSE),0)) | P14: =IF($A14="","",IFERROR(MIN($N14,VLOOKUP("ALV Jahresgrenze",Parameter!$A$2:$B$20,2,FALSE)/12)*VLOOKUP("ALV Arbeitnehmer",Parameter!$A$2:$B$20,2,FALSE),0)) | Q14: =IF($A14="","",IFERROR($N14*VLOOKUP("NBU Arbeitnehmer",Parameter!$A$2:$B$20,2,FALSE),0)) | R14: =IF($A14="","",IFERROR($N14*VLOOKUP("BVG Arbeitnehmer",Parameter!$A$2:$B$20,2,FALSE),0)) | S14: =IF($A14="","",IF($AD14="Ja",IFERROR($N14*VLOOKUP("Quellensteuer Standardsatz",Parameter!$A$2:$B$20,2,FALSE),0),0)) | U14: =IF($A14="","",IFERROR($N14-SUM($O14:$T14),0)) | V14: =IF($A14="","",IFERROR($N14*VLOOKUP("AHV/IV/EO Arbeitgeber",Parameter!$A$2:$B$20,2,FALSE),0)) | W14: =IF($A14="","",IFERROR(MIN($N14,VLOOKUP("ALV Jahresgrenze",Parameter!$A$2:$B$20,2,FALSE)/12)*VLOOKUP("ALV Arbeitgeber",Parameter!$A$2:$B$20,2,FALSE),0)) | X14: =IF($A14="","",IFERROR($N14*VLOOKUP("FAK Arbeitgeber",Parameter!$A$2:$B$20,2,FALSE),0)) | Y14: =IF($A14="","",IFERROR($N14*VLOOKUP("BU Arbeitgeber",Parameter!$A$2:$B$20,2,FALSE),0)) | Z14: =IF($A14="","",IFERROR($N14*VLOOKUP("BVG Arbeitgeber",Parameter!$A$2:$B$20,2,FALSE),0)) | AB14: =IF($A14="","",SUM($V14:$AA14)) | AC14: =IF($A14="","",IFERROR($N14+$AB14,0)) | AE14: =IF($A14="","",IF($AD14="Ja","Prüfen","Nein"))
K15: =IF($A15="","",$J15*$H15) | N15: =IF($A15="","",SUM($K15:$M15)) | O15: =IF($A15="","",IFERROR($N15*VLOOKUP("AHV/IV/EO Arbeitnehmer",Parameter!$A$2:$B$20,2,FALSE),0)) | P15: =IF($A15="","",IFERROR(MIN($N15,VLOOKUP("ALV Jahresgrenze",Parameter!$A$2:$B$20,2,FALSE)/12)*VLOOKUP("ALV Arbeitnehmer",Parameter!$A$2:$B$20,2,FALSE),0)) | Q15: =IF($A15="","",IFERROR($N15*VLOOKUP("NBU Arbeitnehmer",Parameter!$A$2:$B$20,2,FALSE),0)) | R15: =IF($A15="","",IFERROR($N15*VLOOKUP("BVG Arbeitnehmer",Parameter!$A$2:$B$20,2,FALSE),0)) | S15: =IF($A15="","",IF($AD15="Ja",IFERROR($N15*VLOOKUP("Quellensteuer Standardsatz",Parameter!$A$2:$B$20,2,FALSE),0),0)) | U15: =IF($A15="","",IFERROR($N15-SUM($O15:$T15),0)) | V15: =IF($A15="","",IFERROR($N15*VLOOKUP("AHV/IV/EO Arbeitgeber",Parameter!$A$2:$B$20,2,FALSE),0)) | W15: =IF($A15="","",IFERROR(MIN($N15,VLOOKUP("ALV Jahresgrenze",Parameter!$A$2:$B$20,2,FALSE)/12)*VLOOKUP("ALV Arbeitgeber",Parameter!$A$2:$B$20,2,FALSE),0)) | X15: =IF($A15="","",IFERROR($N15*VLOOKUP("FAK Arbeitgeber",Parameter!$A$2:$B$20,2,FALSE),0)) | Y15: =IF($A15="","",IFERROR($N15*VLOOKUP("BU Arbeitgeber",Parameter!$A$2:$B$20,2,FALSE),0)) | Z15: =IF($A15="","",IFERROR($N15*VLOOKUP("BVG Arbeitgeber",Parameter!$A$2:$B$20,2,FALSE),0)) | AB15: =IF($A15="","",SUM($V15:$AA15)) | AC15: =IF($A15="","",IFERROR($N15+$AB15,0)) | AE15: =IF($A15="","",IF($AD15="Ja","Prüfen","Nein"))
K16: =IF($A16="","",$J16*$H16) | N16: =IF($A16="","",SUM($K16:$M16)) | O16: =IF($A16="","",IFERROR($N16*VLOOKUP("AHV/IV/EO Arbeitnehmer",Parameter!$A$2:$B$20,2,FALSE),0)) | P16: =IF($A16="","",IFERROR(MIN($N16,VLOOKUP("ALV Jahresgrenze",Parameter!$A$2:$B$20,2,FALSE)/12)*VLOOKUP("ALV Arbeitnehmer",Parameter!$A$2:$B$20,2,FALSE),0)) | Q16: =IF($A16="","",IFERROR($N16*VLOOKUP("NBU Arbeitnehmer",Parameter!$A$2:$B$20,2,FALSE),0)) | R16: =IF($A16="","",IFERROR($N16*VLOOKUP("BVG Arbeitnehmer",Parameter!$A$2:$B$20,2,FALSE),0)) | S16: =IF($A16="","",IF($AD16="Ja",IFERROR($N16*VLOOKUP("Quellensteuer Standardsatz",Parameter!$A$2:$B$20,2,FALSE),0),0)) | U16: =IF($A16="","",IFERROR($N16-SUM($O16:$T16),0)) | V16: =IF($A16="","",IFERROR($N16*VLOOKUP("AHV/IV/EO Arbeitgeber",Parameter!$A$2:$B$20,2,FALSE),0)) | W16: =IF($A16="","",IFERROR(MIN($N16,VLOOKUP("ALV Jahresgrenze",Parameter!$A$2:$B$20,2,FALSE)/12)*VLOOKUP("ALV Arbeitgeber",Parameter!$A$2:$B$20,2,FALSE),0)) | X16: =IF($A16="","",IFERROR($N16*VLOOKUP("FAK Arbeitgeber",Parameter!$A$2:$B$20,2,FALSE),0)) | Y16: =IF($A16="","",IFERROR($N16*VLOOKUP("BU Arbeitgeber",Parameter!$A$2:$B$20,2,FALSE),0)) | Z16: =IF($A16="","",IFERROR($N16*VLOOKUP("BVG Arbeitgeber",Parameter!$A$2:$B$20,2,FALSE),0)) | AB16: =IF($A16="","",SUM($V16:$AA16)) | AC16: =IF($A16="","",IFERROR($N16+$AB16,0)) | AE16: =IF($A16="","",IF($AD16="Ja","Prüfen","Nein"))
K17: =IF($A17="","",$J17*$H17) | N17: =IF($A17="","",SUM($K17:$M17)) | O17: =IF($A17="","",IFERROR($N17*VLOOKUP("AHV/IV/EO Arbeitnehmer",Parameter!$A$2:$B$20,2,FALSE),0)) | P17: =IF($A17="","",IFERROR(MIN($N17,VLOOKUP("ALV Jahresgrenze",Parameter!$A$2:$B$20,2,FALSE)/12)*VLOOKUP("ALV Arbeitnehmer",Parameter!$A$2:$B$20,2,FALSE),0)) | Q17: =IF($A17="","",IFERROR($N17*VLOOKUP("NBU Arbeitnehmer",Parameter!$A$2:$B$20,2,FALSE),0)) | R17: =IF($A17="","",IFERROR($N17*VLOOKUP("BVG Arbeitnehmer",Parameter!$A$2:$B$20,2,FALSE),0)) | S17: =IF($A17="","",IF($AD17="Ja",IFERROR($N17*VLOOKUP("Quellensteuer Standardsatz",Parameter!$A$2:$B$20,2,FALSE),0),0)) | U17: =IF($A17="","",IFERROR($N17-SUM($O17:$T17),0)) | V17: =IF($A17="","",IFERROR($N17*VLOOKUP("AHV/IV/EO Arbeitgeber",Parameter!$A$2:$B$20,2,FALSE),0)) | W17: =IF($A17="","",IFERROR(MIN($N17,VLOOKUP("ALV Jahresgrenze",Parameter!$A$2:$B$20,2,FALSE)/12)*VLOOKUP("ALV Arbeitgeber",Parameter!$A$2:$B$20,2,FALSE),0)) | X17: =IF($A17="","",IFERROR($N17*VLOOKUP("FAK Arbeitgeber",Parameter!$A$2:$B$20,2,FALSE),0)) | Y17: =IF($A17="","",IFERROR($N17*VLOOKUP("BU Arbeitgeber",Parameter!$A$2:$B$20,2,FALSE),0)) | Z17: =IF($A17="","",IFERROR($N17*VLOOKUP("BVG Arbeitgeber",Parameter!$A$2:$B$20,2,FALSE),0)) | AB17: =IF($A17="","",SUM($V17:$AA17)) | AC17: =IF($A17="","",IFERROR($N17+$AB17,0)) | AE17: =IF($A17="","",IF($AD17="Ja","Prüfen","Nein"))
K18: =IF($A18="","",$J18*$H18) | N18: =IF($A18="","",SUM($K18:$M18)) | O18: =IF($A18="","",IFERROR($N18*VLOOKUP("AHV/IV/EO Arbeitnehmer",Parameter!$A$2:$B$20,2,FALSE),0)) | P18: =IF($A18="","",IFERROR(MIN($N18,VLOOKUP("ALV Jahresgrenze",Parameter!$A$2:$B$20,2,FALSE)/12)*VLOOKUP("ALV Arbeitnehmer",Parameter!$A$2:$B$20,2,FALSE),0)) | Q18: =IF($A18="","",IFERROR($N18*VLOOKUP("NBU Arbeitnehmer",Parameter!$A$2:$B$20,2,FALSE),0)) | R18: =IF($A18="","",IFERROR($N18*VLOOKUP("BVG Arbeitnehmer",Parameter!$A$2:$B$20,2,FALSE),0)) | S18: =IF($A18="","",IF($AD18="Ja",IFERROR($N18*VLOOKUP("Quellensteuer Standardsatz",Parameter!$A$2:$B$20,2,FALSE),0),0)) | U18: =IF($A18="","",IFERROR($N18-SUM($O18:$T18),0)) | V18: =IF($A18="","",IFERROR($N18*VLOOKUP("AHV/IV/EO Arbeitgeber",Parameter!$A$2:$B$20,2,FALSE),0)) | W18: =IF($A18="","",IFERROR(MIN($N18,VLOOKUP("ALV Jahresgrenze",Parameter!$A$2:$B$20,2,FALSE)/12)*VLOOKUP("ALV Arbeitgeber",Parameter!$A$2:$B$20,2,FALSE),0)) | X18: =IF($A18="","",IFERROR($N18*VLOOKUP("FAK Arbeitgeber",Parameter!$A$2:$B$20,2,FALSE),0)) | Y18: =IF($A18="","",IFERROR($N18*VLOOKUP("BU Arbeitgeber",Parameter!$A$2:$B$20,2,FALSE),0)) | Z18: =IF($A18="","",IFERROR($N18*VLOOKUP("BVG Arbeitgeber",Parameter!$A$2:$B$20,2,FALSE),0)) | AB18: =IF($A18="","",SUM($V18:$AA18)) | AC18: =IF($A18="","",IFERROR($N18+$AB18,0)) | AE18: =IF($A18="","",IF($AD18="Ja","Prüfen","Nein"))
K19: =IF($A19="","",$J19*$H19) | N19: =IF($A19="","",SUM($K19:$M19)) | O19: =IF($A19="","",IFERROR($N19*VLOOKUP("AHV/IV/EO Arbeitnehmer",Parameter!$A$2:$B$20,2,FALSE),0)) | P19: =IF($A19="","",IFERROR(MIN($N19,VLOOKUP("ALV Jahresgrenze",Parameter!$A$2:$B$20,2,FALSE)/12)*VLOOKUP("ALV Arbeitnehmer",Parameter!$A$2:$B$20,2,FALSE),0)) | Q19: =IF($A19="","",IFERROR($N19*VLOOKUP("NBU Arbeitnehmer",Parameter!$A$2:$B$20,2,FALSE),0)) | R19: =IF($A19="","",IFERROR($N19*VLOOKUP("BVG Arbeitnehmer",Parameter!$A$2:$B$20,2,FALSE),0)) | S19: =IF($A19="","",IF($AD19="Ja",IFERROR($N19*VLOOKUP("Quellensteuer Standardsatz",Parameter!$A$2:$B$20,2,FALSE),0),0)) | U19: =IF($A19="","",IFERROR($N19-SUM($O19:$T19),0)) | V19: =IF($A19="","",IFERROR($N19*VLOOKUP("AHV/IV/EO Arbeitgeber",Parameter!$A$2:$B$20,2,FALSE),0)) | W19: =IF($A19="","",IFERROR(MIN($N19,VLOOKUP("ALV Jahresgrenze",Parameter!$A$2:$B$20,2,FALSE)/12)*VLOOKUP("ALV Arbeitgeber",Parameter!$A$2:$B$20,2,FALSE),0)) | X19: =IF($A19="","",IFERROR($N19*VLOOKUP("FAK Arbeitgeber",Parameter!$A$2:$B$20,2,FALSE),0)) | Y19: =IF($A19="","",IFERROR($N19*VLOOKUP("BU Arbeitgeber",Parameter!$A$2:$B$20,2,FALSE),0)) | Z19: =IF($A19="","",IFERROR($N19*VLOOKUP("BVG Arbeitgeber",Parameter!$A$2:$B$20,2,FALSE),0)) | AB19: =IF($A19="","",SUM($V19:$AA19)) | AC19: =IF($A19="","",IFERROR($N19+$AB19,0)) | AE19: =IF($A19="","",IF($AD19="Ja","Prüfen","Nein"))
K20: =IF($A20="","",$J20*$H20) | N20: =IF($A20="","",SUM($K20:$M20)) | O20: =IF($A20="","",IFERROR($N20*VLOOKUP("AHV/IV/EO Arbeitnehmer",Parameter!$A$2:$B$20,2,FALSE),0)) | P20: =IF($A20="","",IFERROR(MIN($N20,VLOOKUP("ALV Jahresgrenze",Parameter!$A$2:$B$20,2,FALSE)/12)*VLOOKUP("ALV Arbeitnehmer",Parameter!$A$2:$B$20,2,FALSE),0)) | Q20: =IF($A20="","",IFERROR($N20*VLOOKUP("NBU Arbeitnehmer",Parameter!$A$2:$B$20,2,FALSE),0)) | R20: =IF($A20="","",IFERROR($N20*VLOOKUP("BVG Arbeitnehmer",Parameter!$A$2:$B$20,2,FALSE),0)) | S20: =IF($A20="","",IF($AD20="Ja",IFERROR($N20*VLOOKUP("Quellensteuer Standardsatz",Parameter!$A$2:$B$20,2,FALSE),0),0)) | U20: =IF($A20="","",IFERROR($N20-SUM($O20:$T20),0)) | V20: =IF($A20="","",IFERROR($N20*VLOOKUP("AHV/IV/EO Arbeitgeber",Parameter!$A$2:$B$20,2,FALSE),0)) | W20: =IF($A20="","",IFERROR(MIN($N20,VLOOKUP("ALV Jahresgrenze",Parameter!$A$2:$B$20,2,FALSE)/12)*VLOOKUP("ALV Arbeitgeber",Parameter!$A$2:$B$20,2,FALSE),0)) | X20: =IF($A20="","",IFERROR($N20*VLOOKUP("FAK Arbeitgeber",Parameter!$A$2:$B$20,2,FALSE),0)) | Y20: =IF($A20="","",IFERROR($N20*VLOOKUP("BU Arbeitgeber",Parameter!$A$2:$B$20,2,FALSE),0)) | Z20: =IF($A20="","",IFERROR($N20*VLOOKUP("BVG Arbeitgeber",Parameter!$A$2:$B$20,2,FALSE),0)) | AB20: =IF($A20="","",SUM($V20:$AA20)) | AC20: =IF($A20="","",IFERROR($N20+$AB20,0)) | AE20: =IF($A20="","",IF($AD20="Ja","Prüfen","Nein"))
K21: =IF($A21="","",$J21*$H21) | N21: =IF($A21="","",SUM($K21:$M21)) | O21: =IF($A21="","",IFERROR($N21*VLOOKUP("AHV/IV/EO Arbeitnehmer",Parameter!$A$2:$B$20,2,FALSE),0)) | P21: =IF($A21="","",IFERROR(MIN($N21,VLOOKUP("ALV Jahresgrenze",Parameter!$A$2:$B$20,2,FALSE)/12)*VLOOKUP("ALV Arbeitnehmer",Parameter!$A$2:$B$20,2,FALSE),0)) | Q21: =IF($A21="","",IFERROR($N21*VLOOKUP("NBU Arbeitnehmer",Parameter!$A$2:$B$20,2,FALSE),0)) | R21: =IF($A21="","",IFERROR($N21*VLOOKUP("BVG Arbeitnehmer",Parameter!$A$2:$B$20,2,FALSE),0)) | S21: =IF($A21="","",IF($AD21="Ja",IFERROR($N21*VLOOKUP("Quellensteuer Standardsatz",Parameter!$A$2:$B$20,2,FALSE),0),0)) | U21: =IF($A21="","",IFERROR($N21-SUM($O21:$T21),0)) | V21: =IF($A21="","",IFERROR($N21*VLOOKUP("AHV/IV/EO Arbeitgeber",Parameter!$A$2:$B$20,2,FALSE),0)) | W21: =IF($A21="","",IFERROR(MIN($N21,VLOOKUP("ALV Jahresgrenze",Parameter!$A$2:$B$20,2,FALSE)/12)*VLOOKUP("ALV Arbeitgeber",Parameter!$A$2:$B$20,2,FALSE),0)) | X21: =IF($A21="","",IFERROR($N21*VLOOKUP("FAK Arbeitgeber",Parameter!$A$2:$B$20,2,FALSE),0)) | Y21: =IF($A21="","",IFERROR($N21*VLOOKUP("BU Arbeitgeber",Parameter!$A$2:$B$20,2,FALSE),0)) | Z21: =IF($A21="","",IFERROR($N21*VLOOKUP("BVG Arbeitgeber",Parameter!$A$2:$B$20,2,FALSE),0)) | AB21: =IF($A21="","",SUM($V21:$AA21)) | AC21: =IF($A21="","",IFERROR($N21+$AB21,0)) | AE21: =IF($A21="","",IF($AD21="Ja","Prüfen","Nein"))
K22: =IF($A22="","",$J22*$H22) | N22: =IF($A22="","",SUM($K22:$M22)) | O22: =IF($A22="","",IFERROR($N22*VLOOKUP("AHV/IV/EO Arbeitnehmer",Parameter!$A$2:$B$20,2,FALSE),0)) | P22: =IF($A22="","",IFERROR(MIN($N22,VLOOKUP("ALV Jahresgrenze",Parameter!$A$2:$B$20,2,FALSE)/12)*VLOOKUP("ALV Arbeitnehmer",Parameter!$A$2:$B$20,2,FALSE),0)) | Q22: =IF($A22="","",IFERROR($N22*VLOOKUP("NBU Arbeitnehmer",Parameter!$A$2:$B$20,2,FALSE),0)) | R22: =IF($A22="","",IFERROR($N22*VLOOKUP("BVG Arbeitnehmer",Parameter!$A$2:$B$20,2,FALSE),0)) | S22: =IF($A22="","",IF($AD22="Ja",IFERROR($N22*VLOOKUP("Quellensteuer Standardsatz",Parameter!$A$2:$B$20,2,FALSE),0),0)) | U22: =IF($A22="","",IFERROR($N22-SUM($O22:$T22),0)) | V22: =IF($A22="","",IFERROR($N22*VLOOKUP("AHV/IV/EO Arbeitgeber",Parameter!$A$2:$B$20,2,FALSE),0)) | W22: =IF($A22="","",IFERROR(MIN($N22,VLOOKUP("ALV Jahresgrenze",Parameter!$A$2:$B$20,2,FALSE)/12)*VLOOKUP("ALV Arbeitgeber",Parameter!$A$2:$B$20,2,FALSE),0)) | X22: =IF($A22="","",IFERROR($N22*VLOOKUP("FAK Arbeitgeber",Parameter!$A$2:$B$20,2,FALSE),0)) | Y22: =IF($A22="","",IFERROR($N22*VLOOKUP("BU Arbeitgeber",Parameter!$A$2:$B$20,2,FALSE),0)) | Z22: =IF($A22="","",IFERROR($N22*VLOOKUP("BVG Arbeitgeber",Parameter!$A$2:$B$20,2,FALSE),0)) | AB22: =IF($A22="","",SUM($V22:$AA22)) | AC22: =IF($A22="","",IFERROR($N22+$AB22,0)) | AE22: =IF($A22="","",IF($AD22="Ja","Prüfen","Nein"))
... K101: =IF($A101="","",$J101*$H101) | N101: =IF($A101="","",SUM($K101:$M101)) | O101: =IF($A101="","",IFERROR($N101*VLOOKUP("AHV/IV/EO Arbeitnehmer",Parameter!$A$2:$B$20,2,FALSE),0)) | P101: =IF($A101="","",IFERROR(MIN($N101,VLOOKUP("ALV Jahresgrenze",Parameter!$A$2:$B$20,2,FALSE)/12)*VLOOKUP("ALV Arbeitnehmer",Parameter!$A$2:$B$20,2,FALSE),0)) | Q101: =IF($A101="","",IFERROR($N101*VLOOKUP("NBU Arbeitnehmer",Parameter!$A$2:$B$20,2,FALSE),0)) | R101: =IF($A101="","",IFERROR($N101*VLOOKUP("BVG Arbeitnehmer",Parameter!$A$2:$B$20,2,FALSE),0)) | S101: =IF($A101="","",IF($AD101="Ja",IFERROR($N101*VLOOKUP("Quellensteuer Standardsatz",Parameter!$A$2:$B$20,2,FALSE),0),0)) | U101: =IF($A101="","",IFERROR($N101-SUM($O101:$T101),0)) | V101: =IF($A101="","",IFERROR($N101*VLOOKUP("AHV/IV/EO Arbeitgeber",Parameter!$A$2:$B$20,2,FALSE),0)) | W101: =IF($A101="","",IFERROR(MIN($N101,VLOOKUP("ALV Jahresgrenze",Parameter!$A$2:$B$20,2,FALSE)/12)*VLOOKUP("ALV Arbeitgeber",Parameter!$A$2:$B$20,2,FALSE),0)) | X101: =IF($A101="","",IFERROR($N101*VLOOKUP("FAK Arbeitgeber",Parameter!$A$2:$B$20,2,FALSE),0)) | Y101: =IF($A101="","",IFERROR($N101*VLOOKUP("BU Arbeitgeber",Parameter!$A$2:$B$20,2,FALSE),0)) | Z101: =IF($A101="","",IFERROR($N101*VLOOKUP("BVG Arbeitgeber",Parameter!$A$2:$B$20,2,FALSE),0)) | AB101: =IF($A101="","",SUM($V101:$AA101)) | AC101: =IF($A101="","",IFERROR($N101+$AB101,0)) | AE101: =IF($A101="","",IF($AD101="Ja","Prüfen","Nein"))

Sheet Parameter
A1: Parameter | B1: Wert | C1: Einheit | D1: Beschreibung
A2: AHV/IV/EO Arbeitnehmer | B2: 0.053 | C2: % | D2: Sozialversicherungsbeitrag Arbeitnehmer (AHV/IV/EO)
A3: AHV/IV/EO Arbeitgeber | B3: 0.053 | C3: % | D3: Sozialversicherungsbeitrag Arbeitgeber (AHV/IV/EO)
A4: ALV Arbeitnehmer | B4: 0.011 | C4: % | D4: Arbeitslosenversicherung Arbeitnehmer
A5: ALV Arbeitgeber | B5: 0.011 | C5: % | D5: Arbeitslosenversicherung Arbeitgeber
A6: ALV Jahresgrenze | B6: 148200 | C6: CHF | D6: Maximaler ALV-pflichtiger Jahreslohn (editierbar)
A7: FAK Arbeitgeber | B7: 0.015 | C7: % | D7: Familienausgleichskasse, Arbeitgeberbeitrag
A8: BU Arbeitgeber | B8: 0.003 | C8: % | D8: Berufsunfallversicherung, Arbeitgeberbeitrag
A9: NBU Arbeitnehmer | B9: 0.012 | C9: % | D9: Nichtberufsunfallversicherung, Arbeitnehmerbeitrag
A10: BVG Arbeitnehmer | B10: 0.05 | C10: % | D10: Pensionskasse (BVG), Arbeitnehmeranteil (Beispielwert)
A11: BVG Arbeitgeber | B11: 0.05 | C11: % | D11: Pensionskasse (BVG), Arbeitgeberanteil (Beispielwert)
A12: Quellensteuer Standardsatz | B12: 0.03 | C12: % | D12: Vereinfachter Standardsatz Quellensteuer (editierbar)
A13: Lohnmonat | B13: 46053 | C13: Datum | D13: Abrechnungsmonat des Lohnjournals
A14: Firma | B14: Beispiel AG | C14: Text | D14: Firmenname
A15: UID-Nummer | B15: CHE-123.456.789 MWST | C15: Text | D15: Unternehmens-Identifikationsnummer
A17: Hinweis: Alle Prozentsätze und Grenzwerte sind Beispielwerte und müssen vor produktivem Einsatz mit den aktuellen kantonalen und eidgenössischen Ansätzen abgeglichen werden. Gelbe Zellen sind editierbar.

Sheet Auswertung
A1: Auswertung Lohnjournal – Januar 2026
A2: Kennzahlen für Geschäftsleitung und Personaladministration
A3: Anzahl Mitarbeitende | B3: =COUNTIF(Lohnjournal!$A$2:$A$101,"<>")
A4: Total Bruttolohn | B4: =SUM(Lohnjournal!$N$2:$N$101)
A5: Durchschnittlicher Bruttolohn | B5: =IFERROR(AVERAGE(Lohnjournal!$N$2:$N$101),0)
A6: Total Nettolohn | B6: =SUM(Lohnjournal!$U$2:$U$101)
A7: Total Sozialabgaben Arbeitnehmer | B7: =SUM(Lohnjournal!$O$2:$T$101)
A8: Total Arbeitgeberkosten | B8: =SUM(Lohnjournal!$AB$2:$AB$101)
A9: Total Gesamtkosten Arbeitgeber | B9: =SUM(Lohnjournal!$AC$2:$AC$101)
A10: Anteil quellensteuerpflichtige Mitarbeitende | B10: =IFERROR(COUNTIF(Lohnjournal!$AD$2:$AD$101,"Ja")/COUNTIF(Lohnjournal!$A$2:$A$101,"<>"),0)
A11: Arbeitgeberkostenquote | B11: =IFERROR(SUM(Lohnjournal!$AB$2:$AB$101)/SUM(Lohnjournal!$N$2:$N$101),0)
A13: Auswertung nach Kanton | E13: Zusammensetzung Arbeitgeberkosten
A14: Kanton | B14: Anzahl | C14: Bruttolohn total | E14: Kostenart | F14: Betrag | M14: Mitarbeitende | N14: Bruttolohn total
A15: ZH | B15: =COUNTIF(Lohnjournal!$F$2:$F$101,$A15) | C15: =SUMIF(Lohnjournal!$F$2:$F$101,$A15,Lohnjournal!$N$2:$N$101) | E15: AHV/IV/EO Arbeitgeber | F15: =SUM(Lohnjournal!$V$2:$V$101) | M15: =IF(Lohnjournal!$A2="","",Lohnjournal!$B2&" "&Lohnjournal!$C2) | N15: =IF(Lohnjournal!$A2="","",Lohnjournal!$N2)
A16: BE | B16: =COUNTIF(Lohnjournal!$F$2:$F$101,$A16) | C16: =SUMIF(Lohnjournal!$F$2:$F$101,$A16,Lohnjournal!$N$2:$N$101) | E16: ALV Arbeitgeber | F16: =SUM(Lohnjournal!$W$2:$W$101) | M16: =IF(Lohnjournal!$A3="","",Lohnjournal!$B3&" "&Lohnjournal!$C3) | N16: =IF(Lohnjournal!$A3="","",Lohnjournal!$N3)
A17: GE | B17: =COUNTIF(Lohnjournal!$F$2:$F$101,$A17) | C17: =SUMIF(Lohnjournal!$F$2:$F$101,$A17,Lohnjournal!$N$2:$N$101) | E17: FAK Arbeitgeber | F17: =SUM(Lohnjournal!$X$2:$X$101) | M17: =IF(Lohnjournal!$A4="","",Lohnjournal!$B4&" "&Lohnjournal!$C4) | N17: =IF(Lohnjournal!$A4="","",Lohnjournal!$N4)
A18: BS | B18: =COUNTIF(Lohnjournal!$F$2:$F$101,$A18) | C18: =SUMIF(Lohnjournal!$F$2:$F$101,$A18,Lohnjournal!$N$2:$N$101) | E18: BU Arbeitgeber | F18: =SUM(Lohnjournal!$Y$2:$Y$101) | M18: =IF(Lohnjournal!$A5="","",Lohnjournal!$B5&" "&Lohnjournal!$C5) | N18: =IF(Lohnjournal!$A5="","",Lohnjournal!$N5)
A19: VD | B19: =COUNTIF(Lohnjournal!$F$2:$F$101,$A19) | C19: =SUMIF(Lohnjournal!$F$2:$F$101,$A19,Lohnjournal!$N$2:$N$101) | E19: BVG Arbeitgeber | F19: =SUM(Lohnjournal!$Z$2:$Z$101) | M19: =IF(Lohnjournal!$A6="","",Lohnjournal!$B6&" "&Lohnjournal!$C6) | N19: =IF(Lohnjournal!$A6="","",Lohnjournal!$N6)
A20: LU | B20: =COUNTIF(Lohnjournal!$F$2:$F$101,$A20) | C20: =SUMIF(Lohnjournal!$F$2:$F$101,$A20,Lohnjournal!$N$2:$N$101) | F20: =IF($E20="","",0) | M20: =IF(Lohnjournal!$A7="","",Lohnjournal!$B7&" "&Lohnjournal!$C7) | N20: =IF(Lohnjournal!$A7="","",Lohnjournal!$N7)
A21: SG | B21: =COUNTIF(Lohnjournal!$F$2:$F$101,$A21) | C21: =SUMIF(Lohnjournal!$F$2:$F$101,$A21,Lohnjournal!$N$2:$N$101) | F21: =IF($E21="","",0) | M21: =IF(Lohnjournal!$A8="","",Lohnjournal!$B8&" "&Lohnjournal!$C8) | N21: =IF(Lohnjournal!$A8="","",Lohnjournal!$N8)
A22: TI | B22: =COUNTIF(Lohnjournal!$F$2:$F$101,$A22) | C22: =SUMIF(Lohnjournal!$F$2:$F$101,$A22,Lohnjournal!$N$2:$N$101) | F22: =IF($E22="","",0) | M22: =IF(Lohnjournal!$A9="","",Lohnjournal!$B9&" "&Lohnjournal!$C9) | N22: =IF(Lohnjournal!$A9="","",Lohnjournal!$N9)
B23: =IF($A23="","",0) | C23: =IF($A23="","",0) | F23: =IF($E23="","",0) | M23: =IF(Lohnjournal!$A10="","",Lohnjournal!$B10&" "&Lohnjournal!$C10) | N23: =IF(Lohnjournal!$A10="","",Lohnjournal!$N10)
B24: =IF($A24="","",0) | C24: =IF($A24="","",0) | F24: =IF($E24="","",0) | M24: =IF(Lohnjournal!$A11="","",Lohnjournal!$B11&" "&Lohnjournal!$C11) | N24: =IF(Lohnjournal!$A11="","",Lohnjournal!$N11)
B25: =IF($A25="","",0) | C25: =IF($A25="","",0) | F25: =IF($E25="","",0) | M25: =IF(Lohnjournal!$A12="","",Lohnjournal!$B12&" "&Lohnjournal!$C12) | N25: =IF(Lohnjournal!$A12="","",Lohnjournal!$N12)
B26: =IF($A26="","",0) | C26: =IF($A26="","",0) | F26: =IF($E26="","",0) | M26: =IF(Lohnjournal!$A13="","",Lohnjournal!$B13&" "&Lohnjournal!$C13) | N26: =IF(Lohnjournal!$A13="","",Lohnjournal!$N13)
B27: =IF($A27="","",0) | C27: =IF($A27="","",0) | F27: =IF($E27="","",0) | M27: =IF(Lohnjournal!$A14="","",Lohnjournal!$B14&" "&Lohnjournal!$C14) | N27: =IF(Lohnjournal!$A14="","",Lohnjournal!$N14)
B28: =IF($A28="","",0) | C28: =IF($A28="","",0) | F28: =IF($E28="","",0) | M28: =IF(Lohnjournal!$A15="","",Lohnjournal!$B15&" "&Lohnjournal!$C15) | N28: =IF(Lohnjournal!$A15="","",Lohnjournal!$N15)
B29: =IF($A29="","",0) | C29: =IF($A29="","",0) | F29: =IF($E29="","",0) | M29: =IF(Lohnjournal!$A16="","",Lohnjournal!$B16&" "&Lohnjournal!$C16) | N29: =IF(Lohnjournal!$A16="","",Lohnjournal!$N16)
B30: =IF($A30="","",0) | C30: =IF($A30="","",0) | F30: =IF($E30="","",0) | M30: =IF(Lohnjournal!$A17="","",Lohnjournal!$B17&" "&Lohnjournal!$C17) | N30: =IF(Lohnjournal!$A17="","",Lohnjournal!$N17)
B31: =IF($A31="","",0) | C31: =IF($A31="","",0) | F31: =IF($E31="","",0) | M31: =IF(Lohnjournal!$A18="","",Lohnjournal!$B18&" "&Lohnjournal!$C18) | N31: =IF(Lohnjournal!$A18="","",Lohnjournal!$N18)
B32: =IF($A32="","",0) | C32: =IF($A32="","",0) | F32: =IF($E32="","",0) | M32: =IF(Lohnjournal!$A19="","",Lohnjournal!$B19&" "&Lohnjournal!$C19) | N32: =IF(Lohnjournal!$A19="","",Lohnjournal!$N19)
B33: =IF($A33="","",0) | C33: =IF($A33="","",0) | F33: =IF($E33="","",0) | M33: =IF(Lohnjournal!$A20="","",Lohnjournal!$B20&" "&Lohnjournal!$C20) | N33: =IF(Lohnjournal!$A20="","",Lohnjournal!$N20)
B34: =IF($A34="","",0) | C34: =IF($A34="","",0) | F34: =IF($E34="","",0) | M34: =IF(Lohnjournal!$A21="","",Lohnjournal!$B21&" "&Lohnjournal!$C21) | N34: =IF(Lohnjournal!$A21="","",Lohnjournal!$N21)
... B114: =IF($A114="","",0) | C114: =IF($A114="","",0) | F114: =IF($E114="","",0) | M114: =IF(Lohnjournal!$A101="","",Lohnjournal!$B101&" "&Lohnjournal!$C101) | N114: =IF(Lohnjournal!$A101="","",Lohnjournal!$N101)

Sheet Anleitung
A1: Lohnjournal Excel Vorlage Schweiz – Anleitung
A3: 1. Blatt «Lohnjournal»
A4: Haupttabelle für den monatlichen Lohnlauf. Erfassen Sie pro Zeile eine Mitarbeiterin oder einen Mitarbeiter.
A5: Gelb hinterlegte Zellen (Personal-Nr., Name, Vorname, Funktion, Ort, Kanton, AHV-Nummer, Beschäftigungsgrad,
A6: Lohnmonat, Monatslohn 100 %, Kinderzulagen, Bonus / Provision, Weitere Abzüge, Weitere Arbeitgeberkosten,
A7: Quellensteuerpflichtig) sind Eingabefelder. Alle übrigen Spalten werden automatisch berechnet.
A8: Bruttolohn = Monatslohn 100 % × Beschäftigungsgrad. Bruttolohn total = Bruttolohn + Kinderzulagen + Bonus.
A9: AHV/IV/EO, ALV (mit Jahresgrenze), NBU, BVG und Quellensteuer werden aus dem Blatt «Parameter» gelesen.
A10: Nettolohn = Bruttolohn total minus sämtliche Arbeitnehmerabzüge. Die Spalten V bis AC zeigen die Arbeitgeberkosten.
A11: Die Spalte «Bemerkung» zeigt «Prüfen», wenn eine Person quellensteuerpflichtig ist.
A12: Es sind 100 Datenzeilen vorbereitet; die Formeln und Filter decken den gesamten Bereich ab.
A14: 2. Blatt «Parameter»
... A29: Diese Vorlage ersetzt keine Beratung durch eine Treuhandstelle oder die Ausgleichskasse.
