Workbook

Sheet Kassenzählung
A1: Kassenzählprotokoll
A2: Tägliche Kassenbestandsaufnahme in CHF
A3: Unternehmen | B3: Musterbetrieb AG | D3: UID-Nummer | E3: CHE-123.456.789 MWST | H3: Standort | I3: Zürich
A4: Kassen-Nr. | B4: Kasse 01 | D4: Zähldatum | E4: 46276 | H4: Zählzeit | I4: 0.76041667
A5: Gezählt durch | B5: Andrea Keller | D5: Kontrolliert durch | E5: Markus Frei
A7: Eröffnungsbestand | B7: 300 | D7: Barumsatz gemäss Kassenbericht | E7: 1245.5 | H7: Barauslagen | I7: 85
A8: Erwarteter Soll-Bestand | B8: =IF(OR(B7="",E7="",I7=""),"",B7+E7-I7) | H8: Status Kassensturz | I8: =IF(H115=0,"Ausgeglichen",IF(H115>0,"Überschuss","Fehlbetrag"))
A10: Erfassen Sie jede physisch gezählte Münz- und Banknotensorte. Gelbe Felder sind Eingabefelder.
A15: Position | B15: Geldart | C15: Nominalwert | D15: Anzahl | E15: Gezählter Betrag CHF | F15: Soll-Anzahl | G15: Soll-Betrag CHF | H15: Differenz CHF | I15: Anteil am Ist-Bestand | J15: Bemerkung | K15: Kategorie
A16: =IF(OR(B16<>"",C16<>"",D16<>""),1,"") | B16: Münze | C16: 0.05 | D16: 18 | E16: =IF(OR(C16="",D16=""),"",C16*D16) | F16: 18 | G16: =IF(OR(C16="",F16=""),"",C16*F16) | H16: =IF(OR(E16="",G16=""),"",E16-G16) | I16: =IF(OR($E$116=0,E16=""),"",E16/$E$116) | K16: =IF(B16="","",IFERROR(VLOOKUP(IF(B16="Münze","M","N"),'Auswertung'!$A$16:$C$17,3,FALSE),""))
A17: =IF(OR(B17<>"",C17<>"",D17<>""),2,"") | B17: Münze | C17: 0.1 | D17: 26 | E17: =IF(OR(C17="",D17=""),"",C17*D17) | F17: 26 | G17: =IF(OR(C17="",F17=""),"",C17*F17) | H17: =IF(OR(E17="",G17=""),"",E17-G17) | I17: =IF(OR($E$116=0,E17=""),"",E17/$E$116) | K17: =IF(B17="","",IFERROR(VLOOKUP(IF(B17="Münze","M","N"),'Auswertung'!$A$16:$C$17,3,FALSE),""))
A18: =IF(OR(B18<>"",C18<>"",D18<>""),3,"") | B18: Münze | C18: 0.2 | D18: 34 | E18: =IF(OR(C18="",D18=""),"",C18*D18) | F18: 35 | G18: =IF(OR(C18="",F18=""),"",C18*F18) | H18: =IF(OR(E18="",G18=""),"",E18-G18) | I18: =IF(OR($E$116=0,E18=""),"",E18/$E$116) | J18: Soll-Anzahl prüfen | K18: =IF(B18="","",IFERROR(VLOOKUP(IF(B18="Münze","M","N"),'Auswertung'!$A$16:$C$17,3,FALSE),""))
A19: =IF(OR(B19<>"",C19<>"",D19<>""),4,"") | B19: Münze | C19: 0.5 | D19: 22 | E19: =IF(OR(C19="",D19=""),"",C19*D19) | F19: 22 | G19: =IF(OR(C19="",F19=""),"",C19*F19) | H19: =IF(OR(E19="",G19=""),"",E19-G19) | I19: =IF(OR($E$116=0,E19=""),"",E19/$E$116) | K19: =IF(B19="","",IFERROR(VLOOKUP(IF(B19="Münze","M","N"),'Auswertung'!$A$16:$C$17,3,FALSE),""))
A20: =IF(OR(B20<>"",C20<>"",D20<>""),5,"") | B20: Münze | C20: 1 | D20: 41 | E20: =IF(OR(C20="",D20=""),"",C20*D20) | F20: 40 | G20: =IF(OR(C20="",F20=""),"",C20*F20) | H20: =IF(OR(E20="",G20=""),"",E20-G20) | I20: =IF(OR($E$116=0,E20=""),"",E20/$E$116) | J20: Zusätzliche Münze | K20: =IF(B20="","",IFERROR(VLOOKUP(IF(B20="Münze","M","N"),'Auswertung'!$A$16:$C$17,3,FALSE),""))
A21: =IF(OR(B21<>"",C21<>"",D21<>""),6,"") | B21: Münze | C21: 2 | D21: 36 | E21: =IF(OR(C21="",D21=""),"",C21*D21) | F21: 36 | G21: =IF(OR(C21="",F21=""),"",C21*F21) | H21: =IF(OR(E21="",G21=""),"",E21-G21) | I21: =IF(OR($E$116=0,E21=""),"",E21/$E$116) | K21: =IF(B21="","",IFERROR(VLOOKUP(IF(B21="Münze","M","N"),'Auswertung'!$A$16:$C$17,3,FALSE),""))
A22: =IF(OR(B22<>"",C22<>"",D22<>""),7,"") | B22: Münze | C22: 5 | D22: 19 | E22: =IF(OR(C22="",D22=""),"",C22*D22) | F22: 19 | G22: =IF(OR(C22="",F22=""),"",C22*F22) | H22: =IF(OR(E22="",G22=""),"",E22-G22) | I22: =IF(OR($E$116=0,E22=""),"",E22/$E$116) | K22: =IF(B22="","",IFERROR(VLOOKUP(IF(B22="Münze","M","N"),'Auswertung'!$A$16:$C$17,3,FALSE),""))
A23: =IF(OR(B23<>"",C23<>"",D23<>""),8,"") | B23: Banknote | C23: 10 | D23: 14 | E23: =IF(OR(C23="",D23=""),"",C23*D23) | F23: 14 | G23: =IF(OR(C23="",F23=""),"",C23*F23) | H23: =IF(OR(E23="",G23=""),"",E23-G23) | I23: =IF(OR($E$116=0,E23=""),"",E23/$E$116) | K23: =IF(B23="","",IFERROR(VLOOKUP(IF(B23="Münze","M","N"),'Auswertung'!$A$16:$C$17,3,FALSE),""))
A24: =IF(OR(B24<>"",C24<>"",D24<>""),9,"") | B24: Banknote | C24: 20 | D24: 11 | E24: =IF(OR(C24="",D24=""),"",C24*D24) | F24: 12 | G24: =IF(OR(C24="",F24=""),"",C24*F24) | H24: =IF(OR(E24="",G24=""),"",E24-G24) | I24: =IF(OR($E$116=0,E24=""),"",E24/$E$116) | J24: Eine Note fehlt | K24: =IF(B24="","",IFERROR(VLOOKUP(IF(B24="Münze","M","N"),'Auswertung'!$A$16:$C$17,3,FALSE),""))
A25: =IF(OR(B25<>"",C25<>"",D25<>""),10,"") | B25: Banknote | C25: 50 | D25: 7 | E25: =IF(OR(C25="",D25=""),"",C25*D25) | F25: 7 | G25: =IF(OR(C25="",F25=""),"",C25*F25) | H25: =IF(OR(E25="",G25=""),"",E25-G25) | I25: =IF(OR($E$116=0,E25=""),"",E25/$E$116) | K25: =IF(B25="","",IFERROR(VLOOKUP(IF(B25="Münze","M","N"),'Auswertung'!$A$16:$C$17,3,FALSE),""))
A26: =IF(OR(B26<>"",C26<>"",D26<>""),11,"") | E26: =IF(OR(C26="",D26=""),"",C26*D26) | G26: =IF(OR(C26="",F26=""),"",C26*F26) | H26: =IF(OR(E26="",G26=""),"",E26-G26) | I26: =IF(OR($E$116=0,E26=""),"",E26/$E$116) | K26: =IF(B26="","",IFERROR(VLOOKUP(IF(B26="Münze","M","N"),'Auswertung'!$A$16:$C$17,3,FALSE),""))
A27: =IF(OR(B27<>"",C27<>"",D27<>""),12,"") | E27: =IF(OR(C27="",D27=""),"",C27*D27) | G27: =IF(OR(C27="",F27=""),"",C27*F27) | H27: =IF(OR(E27="",G27=""),"",E27-G27) | I27: =IF(OR($E$116=0,E27=""),"",E27/$E$116) | K27: =IF(B27="","",IFERROR(VLOOKUP(IF(B27="Münze","M","N"),'Auswertung'!$A$16:$C$17,3,FALSE),""))
A28: =IF(OR(B28<>"",C28<>"",D28<>""),13,"") | E28: =IF(OR(C28="",D28=""),"",C28*D28) | G28: =IF(OR(C28="",F28=""),"",C28*F28) | H28: =IF(OR(E28="",G28=""),"",E28-G28) | I28: =IF(OR($E$116=0,E28=""),"",E28/$E$116) | K28: =IF(B28="","",IFERROR(VLOOKUP(IF(B28="Münze","M","N"),'Auswertung'!$A$16:$C$17,3,FALSE),""))
A29: =IF(OR(B29<>"",C29<>"",D29<>""),14,"") | E29: =IF(OR(C29="",D29=""),"",C29*D29) | G29: =IF(OR(C29="",F29=""),"",C29*F29) | H29: =IF(OR(E29="",G29=""),"",E29-G29) | I29: =IF(OR($E$116=0,E29=""),"",E29/$E$116) | K29: =IF(B29="","",IFERROR(VLOOKUP(IF(B29="Münze","M","N"),'Auswertung'!$A$16:$C$17,3,FALSE),""))
A30: =IF(OR(B30<>"",C30<>"",D30<>""),15,"") | E30: =IF(OR(C30="",D30=""),"",C30*D30) | G30: =IF(OR(C30="",F30=""),"",C30*F30) | H30: =IF(OR(E30="",G30=""),"",E30-G30) | I30: =IF(OR($E$116=0,E30=""),"",E30/$E$116) | K30: =IF(B30="","",IFERROR(VLOOKUP(IF(B30="Münze","M","N"),'Auswertung'!$A$16:$C$17,3,FALSE),""))
A31: =IF(OR(B31<>"",C31<>"",D31<>""),16,"") | E31: =IF(OR(C31="",D31=""),"",C31*D31) | G31: =IF(OR(C31="",F31=""),"",C31*F31) | H31: =IF(OR(E31="",G31=""),"",E31-G31) | I31: =IF(OR($E$116=0,E31=""),"",E31/$E$116) | K31: =IF(B31="","",IFERROR(VLOOKUP(IF(B31="Münze","M","N"),'Auswertung'!$A$16:$C$17,3,FALSE),""))
A32: =IF(OR(B32<>"",C32<>"",D32<>""),17,"") | E32: =IF(OR(C32="",D32=""),"",C32*D32) | G32: =IF(OR(C32="",F32=""),"",C32*F32) | H32: =IF(OR(E32="",G32=""),"",E32-G32) | I32: =IF(OR($E$116=0,E32=""),"",E32/$E$116) | K32: =IF(B32="","",IFERROR(VLOOKUP(IF(B32="Münze","M","N"),'Auswertung'!$A$16:$C$17,3,FALSE),""))
A33: =IF(OR(B33<>"",C33<>"",D33<>""),18,"") | E33: =IF(OR(C33="",D33=""),"",C33*D33) | G33: =IF(OR(C33="",F33=""),"",C33*F33) | H33: =IF(OR(E33="",G33=""),"",E33-G33) | I33: =IF(OR($E$116=0,E33=""),"",E33/$E$116) | K33: =IF(B33="","",IFERROR(VLOOKUP(IF(B33="Münze","M","N"),'Auswertung'!$A$16:$C$17,3,FALSE),""))
A34: =IF(OR(B34<>"",C34<>"",D34<>""),19,"") | E34: =IF(OR(C34="",D34=""),"",C34*D34) | G34: =IF(OR(C34="",F34=""),"",C34*F34) | H34: =IF(OR(E34="",G34=""),"",E34-G34) | I34: =IF(OR($E$116=0,E34=""),"",E34/$E$116) | K34: =IF(B34="","",IFERROR(VLOOKUP(IF(B34="Münze","M","N"),'Auswertung'!$A$16:$C$17,3,FALSE),""))
A35: =IF(OR(B35<>"",C35<>"",D35<>""),20,"") | E35: =IF(OR(C35="",D35=""),"",C35*D35) | G35: =IF(OR(C35="",F35=""),"",C35*F35) | H35: =IF(OR(E35="",G35=""),"",E35-G35) | I35: =IF(OR($E$116=0,E35=""),"",E35/$E$116) | K35: =IF(B35="","",IFERROR(VLOOKUP(IF(B35="Münze","M","N"),'Auswertung'!$A$16:$C$17,3,FALSE),""))
A36: =IF(OR(B36<>"",C36<>"",D36<>""),21,"") | E36: =IF(OR(C36="",D36=""),"",C36*D36) | G36: =IF(OR(C36="",F36=""),"",C36*F36) | H36: =IF(OR(E36="",G36=""),"",E36-G36) | I36: =IF(OR($E$116=0,E36=""),"",E36/$E$116) | K36: =IF(B36="","",IFERROR(VLOOKUP(IF(B36="Münze","M","N"),'Auswertung'!$A$16:$C$17,3,FALSE),""))
A37: =IF(OR(B37<>"",C37<>"",D37<>""),22,"") | E37: =IF(OR(C37="",D37=""),"",C37*D37) | G37: =IF(OR(C37="",F37=""),"",C37*F37) | H37: =IF(OR(E37="",G37=""),"",E37-G37) | I37: =IF(OR($E$116=0,E37=""),"",E37/$E$116) | K37: =IF(B37="","",IFERROR(VLOOKUP(IF(B37="Münze","M","N"),'Auswertung'!$A$16:$C$17,3,FALSE),""))
A38: =IF(OR(B38<>"",C38<>"",D38<>""),23,"") | E38: =IF(OR(C38="",D38=""),"",C38*D38) | G38: =IF(OR(C38="",F38=""),"",C38*F38) | H38: =IF(OR(E38="",G38=""),"",E38-G38) | I38: =IF(OR($E$116=0,E38=""),"",E38/$E$116) | K38: =IF(B38="","",IFERROR(VLOOKUP(IF(B38="Münze","M","N"),'Auswertung'!$A$16:$C$17,3,FALSE),""))
A39: =IF(OR(B39<>"",C39<>"",D39<>""),24,"") | E39: =IF(OR(C39="",D39=""),"",C39*D39) | G39: =IF(OR(C39="",F39=""),"",C39*F39) | H39: =IF(OR(E39="",G39=""),"",E39-G39) | I39: =IF(OR($E$116=0,E39=""),"",E39/$E$116) | K39: =IF(B39="","",IFERROR(VLOOKUP(IF(B39="Münze","M","N"),'Auswertung'!$A$16:$C$17,3,FALSE),""))
A40: =IF(OR(B40<>"",C40<>"",D40<>""),25,"") | E40: =IF(OR(C40="",D40=""),"",C40*D40) | G40: =IF(OR(C40="",F40=""),"",C40*F40) | H40: =IF(OR(E40="",G40=""),"",E40-G40) | I40: =IF(OR($E$116=0,E40=""),"",E40/$E$116) | K40: =IF(B40="","",IFERROR(VLOOKUP(IF(B40="Münze","M","N"),'Auswertung'!$A$16:$C$17,3,FALSE),""))
A41: =IF(OR(B41<>"",C41<>"",D41<>""),26,"") | E41: =IF(OR(C41="",D41=""),"",C41*D41) | G41: =IF(OR(C41="",F41=""),"",C41*F41) | H41: =IF(OR(E41="",G41=""),"",E41-G41) | I41: =IF(OR($E$116=0,E41=""),"",E41/$E$116) | K41: =IF(B41="","",IFERROR(VLOOKUP(IF(B41="Münze","M","N"),'Auswertung'!$A$16:$C$17,3,FALSE),""))
A42: =IF(OR(B42<>"",C42<>"",D42<>""),27,"") | E42: =IF(OR(C42="",D42=""),"",C42*D42) | G42: =IF(OR(C42="",F42=""),"",C42*F42) | H42: =IF(OR(E42="",G42=""),"",E42-G42) | I42: =IF(OR($E$116=0,E42=""),"",E42/$E$116) | K42: =IF(B42="","",IFERROR(VLOOKUP(IF(B42="Münze","M","N"),'Auswertung'!$A$16:$C$17,3,FALSE),""))
A43: =IF(OR(B43<>"",C43<>"",D43<>""),28,"") | E43: =IF(OR(C43="",D43=""),"",C43*D43) | G43: =IF(OR(C43="",F43=""),"",C43*F43) | H43: =IF(OR(E43="",G43=""),"",E43-G43) | I43: =IF(OR($E$116=0,E43=""),"",E43/$E$116) | K43: =IF(B43="","",IFERROR(VLOOKUP(IF(B43="Münze","M","N"),'Auswertung'!$A$16:$C$17,3,FALSE),""))
A44: =IF(OR(B44<>"",C44<>"",D44<>""),29,"") | E44: =IF(OR(C44="",D44=""),"",C44*D44) | G44: =IF(OR(C44="",F44=""),"",C44*F44) | H44: =IF(OR(E44="",G44=""),"",E44-G44) | I44: =IF(OR($E$116=0,E44=""),"",E44/$E$116) | K44: =IF(B44="","",IFERROR(VLOOKUP(IF(B44="Münze","M","N"),'Auswertung'!$A$16:$C$17,3,FALSE),""))
A45: =IF(OR(B45<>"",C45<>"",D45<>""),30,"") | E45: =IF(OR(C45="",D45=""),"",C45*D45) | G45: =IF(OR(C45="",F45=""),"",C45*F45) | H45: =IF(OR(E45="",G45=""),"",E45-G45) | I45: =IF(OR($E$116=0,E45=""),"",E45/$E$116) | K45: =IF(B45="","",IFERROR(VLOOKUP(IF(B45="Münze","M","N"),'Auswertung'!$A$16:$C$17,3,FALSE),""))
A46: =IF(OR(B46<>"",C46<>"",D46<>""),31,"") | E46: =IF(OR(C46="",D46=""),"",C46*D46) | G46: =IF(OR(C46="",F46=""),"",C46*F46) | H46: =IF(OR(E46="",G46=""),"",E46-G46) | I46: =IF(OR($E$116=0,E46=""),"",E46/$E$116) | K46: =IF(B46="","",IFERROR(VLOOKUP(IF(B46="Münze","M","N"),'Auswertung'!$A$16:$C$17,3,FALSE),""))
...

Sheet Auswertung
A1: Auswertung Kassenzählprotokoll
A2: Kennzahlen für die Kassenverantwortlichen
A3: Kennzahl | B3: Wert
A4: Ist-Bestand | B4: ='Kassenzählung'!$E$116
A5: Soll-Bestand | B5: ='Kassenzählung'!$G$116
A6: Differenz in CHF | B6: ='Kassenzählung'!$H$116
A7: Differenz in Prozent | B7: =IF(B5=0,0,B6/B5)
A8: Anzahl Positionen mit Abweichung | B8: =COUNTIFS('Kassenzählung'!$H$16:$H$115,"<>0",'Kassenzählung'!$H$16:$H$115,"<>")
A9: Durchschnittlicher Betrag pro Nominalwert | B9: =IFERROR(AVERAGE('Kassenzählung'!$E$16:$E$115),0)
A10: Status des Kassensturzes | B10: =IF(AND(B6>-0.01,B6<0.01),"Ausgeglichen","Kontrolle erforderlich")
A11: Grösste positive Abweichung | B11: =MAX('Kassenzählung'!$H$16:$H$115)
A12: Grösste negative Abweichung | B12: =MIN('Kassenzählung'!$H$16:$H$115)
A13: Soll gemäss Kassenbericht | B13: ='Kassenzählung'!$B$8
A14: Positionen Münzen | B14: =COUNTIF('Kassenzählung'!$B$16:$B$115,"Münze")
A15: Code | B15: Geldart | C15: Kategorie | E15: Nominalwert | F15: Gezählter Betrag CHF | G15: Differenz CHF | I15: Geldart | J15: Ist-Bestand CHF
A16: M | B16: Münze | C16: Bargeld | E16: 0.05 | F16: =SUMIF('Kassenzählung'!$C$16:$C$115,E16,'Kassenzählung'!$E$16:$E$115) | G16: =SUMIF('Kassenzählung'!$C$16:$C$115,E16,'Kassenzählung'!$H$16:$H$115) | I16: Münze | J16: =SUMIF('Kassenzählung'!$B$16:$B$115,I16,'Kassenzählung'!$E$16:$E$115)
A17: N | B17: Banknote | C17: Bargeld | E17: 0.1 | F17: =SUMIF('Kassenzählung'!$C$16:$C$115,E17,'Kassenzählung'!$E$16:$E$115) | G17: =SUMIF('Kassenzählung'!$C$16:$C$115,E17,'Kassenzählung'!$H$16:$H$115) | I17: Banknote | J17: =SUMIF('Kassenzählung'!$B$16:$B$115,I17,'Kassenzählung'!$E$16:$E$115)
E18: 0.2 | F18: =SUMIF('Kassenzählung'!$C$16:$C$115,E18,'Kassenzählung'!$E$16:$E$115) | G18: =SUMIF('Kassenzählung'!$C$16:$C$115,E18,'Kassenzählung'!$H$16:$H$115)
E19: 0.5 | F19: =SUMIF('Kassenzählung'!$C$16:$C$115,E19,'Kassenzählung'!$E$16:$E$115) | G19: =SUMIF('Kassenzählung'!$C$16:$C$115,E19,'Kassenzählung'!$H$16:$H$115)
E20: 1 | F20: =SUMIF('Kassenzählung'!$C$16:$C$115,E20,'Kassenzählung'!$E$16:$E$115) | G20: =SUMIF('Kassenzählung'!$C$16:$C$115,E20,'Kassenzählung'!$H$16:$H$115)
E21: 2 | F21: =SUMIF('Kassenzählung'!$C$16:$C$115,E21,'Kassenzählung'!$E$16:$E$115) | G21: =SUMIF('Kassenzählung'!$C$16:$C$115,E21,'Kassenzählung'!$H$16:$H$115)
E22: 5 | F22: =SUMIF('Kassenzählung'!$C$16:$C$115,E22,'Kassenzählung'!$E$16:$E$115) | G22: =SUMIF('Kassenzählung'!$C$16:$C$115,E22,'Kassenzählung'!$H$16:$H$115)
E23: 10 | F23: =SUMIF('Kassenzählung'!$C$16:$C$115,E23,'Kassenzählung'!$E$16:$E$115) | G23: =SUMIF('Kassenzählung'!$C$16:$C$115,E23,'Kassenzählung'!$H$16:$H$115)
E24: 20 | F24: =SUMIF('Kassenzählung'!$C$16:$C$115,E24,'Kassenzählung'!$E$16:$E$115) | G24: =SUMIF('Kassenzählung'!$C$16:$C$115,E24,'Kassenzählung'!$H$16:$H$115)
E25: 50 | F25: =SUMIF('Kassenzählung'!$C$16:$C$115,E25,'Kassenzählung'!$E$16:$E$115) | G25: =SUMIF('Kassenzählung'!$C$16:$C$115,E25,'Kassenzählung'!$H$16:$H$115)
E26: 100 | F26: =SUMIF('Kassenzählung'!$C$16:$C$115,E26,'Kassenzählung'!$E$16:$E$115) | G26: =SUMIF('Kassenzählung'!$C$16:$C$115,E26,'Kassenzählung'!$H$16:$H$115)
E27: 200 | F27: =SUMIF('Kassenzählung'!$C$16:$C$115,E27,'Kassenzählung'!$E$16:$E$115) | G27: =SUMIF('Kassenzählung'!$C$16:$C$115,E27,'Kassenzählung'!$H$16:$H$115)
E28: 500 | F28: =SUMIF('Kassenzählung'!$C$16:$C$115,E28,'Kassenzählung'!$E$16:$E$115) | G28: =SUMIF('Kassenzählung'!$C$16:$C$115,E28,'Kassenzählung'!$H$16:$H$115)
E29: 1000 | F29: =SUMIF('Kassenzählung'!$C$16:$C$115,E29,'Kassenzählung'!$E$16:$E$115) | G29: =SUMIF('Kassenzählung'!$C$16:$C$115,E29,'Kassenzählung'!$H$16:$H$115)

Sheet Anleitung
A1: Anleitung Kassenzählprotokoll
A3: So verwenden Sie diese Vorlage
A5: 1. Kopfbereich vollständig ausfüllen.
A6: 2. Jede Münz- und Banknotensorte physisch zählen.
A7: 3. Anzahl in die gelben Eingabefelder eintragen.
A8: 4. Soll-Anzahlen nur verwenden, wenn ein Vergleich mit dem Kassenbericht vorgesehen ist.
A9: 5. Differenzen prüfen und bei Bedarf eine Bemerkung erfassen.
A10: 6. Protokoll durch die verantwortliche Person kontrollieren und archivieren.
A11: 7. Bei wiederholten Fehlbeträgen interne Kassenrichtlinien prüfen.
A14: Hinweis
A15: Das Protokoll ersetzt keine Buchhaltungs- oder MWST-Abrechnung. Barbewegungen sind gemäss internen Kontrollen und dem Kontenrahmen KMU zu dokumentieren.
A18: Blattübersicht
A19: Arbeitsblatt | B19: Zweck
A20: Kassenzählung | B20: Erfassung der gezählten Geldbestände, Soll-Anzahlen, Differenzen und Bemerkungen.
A21: Auswertung | B21: Kennzahlen, Geldarten-Lookup und Diagramme für den Kassensturz.
A22: Anleitung | B22: Kurze Arbeitsanleitung und Hinweise zur korrekten Verwendung.
