Workbook

Sheet Kassenzählung
A1: Kassenzählprotokoll
A2: Tägliche Kassenbestandsaufnahme in CHF
A3: Unternehmen | B3: Musterbetrieb AG | D3: UID-Nummer | E3: CHE-123.456.789 MWST | H3: Standort | I3: Zürich
A4: Kassen-Nr. | B4: Kasse 01 | D4: Zähldatum | E4: 46276 | H4: Zählzeit | I4: 0.76041667
A5: Gezählt durch | B5: Andrea Keller | D5: Kontrolliert durch | E5: Markus Frei
A7: Eröffnungsbestand | B7: 300 | D7: Barumsatz gemäss Kassenbericht | E7: 1245.5 | H7: Barauslagen | I7: 85
A8: Erwarteter Soll-Bestand | B8: =IF(OR(B7="",E7="",I7=""),"",B7+E7-I7) | H8: Status Kassensturz | I8: =IF(H115=0,"Ausgeglichen",IF(H115>0,"Überschuss","Fehlbetrag"))
A10: Erfassen Sie jede physisch gezählte Münz- und Banknotensorte. Gelbe Felder sind Eingabefelder.
A15: Position | B15: Geldart | C15: Nominalwert | D15: Anzahl | E15: Gezählter Betrag CHF | F15: Soll-Anzahl | G15: Soll-Betrag CHF | H15: Differenz CHF | I15: Anteil am Ist-Bestand | J15: Bemerkung | K15: Kategorie
A16: =IF(OR(B16<>"",C16<>"",D16<>""),1,"") | B16: Münze | C16: 0.05 | D16: 18 | E16: =IF(OR(C16="",D16=""),"",C16*D16) | F16: 18 | G16: =IF(OR(C16="",F16=""),"",C16*F16) | H16: =IF(OR(E16="",G16=""),"",E16-G16) | I16: =IF(OR($E$116=0,E16=""),"",E16/$E$116) | K16: =IF(B16="","",IFERROR(VLOOKUP(IF(B16="Münze","M","N"),'Auswertung'!$A$16:$C$17,3,FALSE),""))
A17: =IF(OR(B17<>"",C17<>"",D17<>""),2,"") | B17: Münze | C17: 0.1 | D17: 26 | E17: =IF(OR(C17="",D17=""),"",C17*D17) | F17: 26 | G17: =IF(OR(C17="",F17=""),"",C17*F17) | H17: =IF(OR(E17="",G17=""),"",E17-G17) | I17: =IF(OR($E$116=0,E17=""),"",E17/$E$116) | K17: =IF(B17="","",IFERROR(VLOOKUP(IF(B17="Münze","M","N"),'Auswertung'!$A$16:$C$17,3,FALSE),""))
A18: =IF(OR(B18<>"",C18<>"",D18<>""),3,"") | B18: Münze | C18: 0.2 | D18: 34 | E18: =IF(OR(C18="",D18=""),"",C18*D18) | F18: 35 | G18: =IF(OR(C18="",F18=""),"",C18*F18) | H18: =IF(OR(E18="",G18=""),"",E18-G18) | I18: =IF(OR($E$116=0,E18=""),"",E18/$E$116) | J18: Soll-Anzahl prüfen | K18: =IF(B18="","",IFERROR(VLOOKUP(IF(B18="Münze","M","N"),'Auswertung'!$A$16:$C$17,3,FALSE),""))
A19: =IF(OR(B19<>"",C19<>"",D19<>""),4,"") | B19: Münze | C19: 0.5 | D19: 22 | E19: =IF(OR(C19="",D19=""),"",C19*D19) | F19: 22 | G19: =IF(OR(C19="",F19=""),"",C19*F19) | H19: =IF(OR(E19="",G19=""),"",E19-G19) | I19: =IF(OR($E$116=0,E19=""),"",E19/$E$116) | K19: =IF(B19="","",IFERROR(VLOOKUP(IF(B19="Münze","M","N"),'Auswertung'!$A$16:$C$17,3,FALSE),""))
A20: =IF(OR(B20<>"",C20<>"",D20<>""),5,"") | B20: Münze | C20: 1 | D20: 41 | E20: =IF(OR(C20="",D20=""),"",C20*D20) | F20: 40 | G20: =IF(OR(C20="",F20=""),"",C20*F20) | H20: =IF(OR(E20="",G20=""),"",E20-G20) | I20: =IF(OR($E$116=0,E20=""),"",E20/$E$116) | J20: Zusätzliche Münze | K20: =IF(B20="","",IFERROR(VLOOKUP(IF(B20="Münze","M","N"),'Auswertung'!$A$16:$C$17,3,FALSE),""))
A21: =IF(OR(B21<>"",C21<>"",D21<>""),6,"") | B21: Münze | C21: 2 | D21: 36 | E21: =IF(OR(C21="",D21=""),"",C21*D21) | F21: 36 | G21: =IF(OR(C21="",F21=""),"",C21*F21) | H21: =IF(OR(E21="",G21=""),"",E21-G21) | I21: =IF(OR($E$116=0,E21=""),"",E21/$E$116) | K21: =IF(B21="","",IFERROR(VLOOKUP(IF(B21="Münze","M","N"),'Auswertung'!$A$16:$C$17,3,FALSE),""))
A22: =IF(OR(B22<>"",C22<>"",D22<>""),7,"") | B22: Münze | C22: 5 | D22: 19 | E22: =IF(OR(C22="",D22=""),"",C22*D22) | F22: 19 | G22: =IF(OR(C22="",F22=""),"",C22*F22) | H22: =IF(OR(E22="",G22=""),"",E22-G22) | I22: =IF(OR($E$116=0,E22=""),"",E22/$E$116) | K22: =IF(B22="","",IFERROR(VLOOKUP(IF(B22="Münze","M","N"),'Auswertung'!$A$16:$C$17,3,FALSE),""))
A23: =IF(OR(B23<>"",C23<>"",D23<>""),8,"") | B23: Banknote | C23: 10 | D23: 14 | E23: =IF(OR(C23="",D23=""),"",C23*D23) | F23: 14 | G23: =IF(OR(C23="",F23=""),"",C23*F23) | H23: =IF(OR(E23="",G23=""),"",E23-G23) | I23: =IF(OR($E$116=0,E23=""),"",E23/$E$116) | K23: =IF(B23="","",IFERROR(VLOOKUP(IF(B23="Münze","M","N"),'Auswertung'!$A$16:$C$17,3,FALSE),""))
A24: =IF(OR(B24<>"",C24<>"",D24<>""),9,"") | B24: Banknote | C24: 20 | D24: 11 | E24: =IF(OR(C24="",D24=""),"",C24*D24) | F24: 12 | G24: =IF(OR(C24="",F24=""),"",C24*F24) | H24: =IF(OR(E24="",G24=""),"",E24-G24) | I24: =IF(OR($E$116=0,E24=""),"",E24/$E$116) | J24: Eine Note fehlt | K24: =IF(B24="","",IFERROR(VLOOKUP(IF(B24="Münze","M","N"),'Auswertung'!$A$16:$C$17,3,FALSE),""))
A25: =IF(OR(B25<>"",C25<>"",D25<>""),10,"") | B25: Banknote | C25: 50 | D25: 7 | E25: =IF(OR(C25="",D25=""),"",C25*D25) | F25: 7 | G25: =IF(OR(C25="",F25=""),"",C25*F25) | H25: =IF(OR(E25="",G25=""),"",E25-G25) | I25: =IF(OR($E$116=0,E25=""),"",E25/$E$116) | K25: =IF(B25="","",IFERROR(VLOOKUP(IF(B25="Münze","M","N"),'Auswertung'!$A$16:$C$17,3,FALSE),""))
A26: =IF(OR(B26<>"",C26<>"",D26<>""),11,"") | E26: =IF(OR(C26="",D26=""),"",C26*D26) | G26: =IF(OR(C26="",F26=""),"",C26*F26) | H26: =IF(OR(E26="",G26=""),"",E26-G26) | I26: =IF(OR($E$116=0,E26=""),"",E26/$E$116) | K26: =IF(B26="","",IFERROR(VLOOKUP(IF(B26="Münze","M","N"),'Auswertung'!$A$16:$C$17,3,FALSE),""))
A27: =IF(OR(B27<>"",C27<>"",D27<>""),12,"") | E27: =IF(OR(C27="",D27=""),"",C27*D27) | G27: =IF(OR(C27="",F27=""),"",C27*F27) | H27: =IF(OR(E27="",G27=""),"",E27-G27) | I27: =IF(OR($E$116=0,E27=""),"",E27/$E$116) | K27: =IF(B27="","",IFERROR(VLOOKUP(IF(B27="Münze","M","N"),'Auswertung'!$A$16:$C$17,3,FALSE),""))
A28: =IF(OR(B28<>"",C28<>"",D28<>""),13,"") | E28: =IF(OR(C28="",D28=""),"",C28*D28) | G28: =IF(OR(C28="",F28=""),"",C28*F28) | H28: =IF(OR(E28="",G28=""),"",E28-G28) | I28: =IF(OR($E$116=0,E28=""),"",E28/$E$116) | K28: =IF(B28="","",IFERROR(VLOOKUP(IF(B28="Münze","M","N"),'Auswertung'!$A$16:$C$17,3,FALSE),""))
A29: =IF(OR(B29<>"",C29<>"",D29<>""),14,"") | E29: =IF(OR(C29="",D29=""),"",C29*D29) | G29: =IF(OR(C29="",F29=""),"",C29*F29) | H29: =IF(OR(E29="",G29=""),"",E29-G29) | I29: =IF(OR($E$116=0,E29=""),"",E29/$E$116) | K29: =IF(B29="","",IFERROR(VLOOKUP(IF(B29="Münze","M","N"),'Auswertung'!$A$16:$C$17,3,FALSE),""))
A30: =IF(OR(B30<>"",C30<>"",D30<>""),15,"") | E30: =IF(OR(C30="",D30=""),"",C30*D30) | G30: =IF(OR(C30="",F30=""),"",C30*F30) | H30: =IF(OR(E30="",G30=""),"",E30-G30) | I30: =IF(OR($E$116=0,E30=""),"",E30/$E$116) | K30: =IF(B30="","",IFERROR(VLOOKUP(IF(B30="Münze","M","N"),'Auswertung'!$A$16:$C$17,3,FALSE),""))
A31: =IF(OR(B31<>"",C31<>"",D31<>""),16,"") | E31: =IF(OR(C31="",D31=""),"",C31*D31) | G31: =IF(OR(C31="",F31=""),"",C31*F31) | H31: =IF(OR(E31="",G31=""),"",E31-G31) | I31: =IF(OR($E$116=0,E31=""),"",E31/$E$116) | K31: =IF(B31="","",IFERROR(VLOOKUP(IF(B31="Münze","M","N"),'Auswertung'!$A$16:$C$17,3,FALSE),""))
A32: =IF(OR(B32<>"",C32<>"",D32<>""),17,"") | E32: =IF(OR(C32="",D32=""),"",C32*D32) | G32: =IF(OR(C32="",F32=""),"",C32*F32) | H32: =IF(OR(E32="",G32=""),"",E32-G32) | I32: =IF(OR($E$116=0,E32=""),"",E32/$E$116) | K32: =IF(B32="","",IFERROR(VLOOKUP(IF(B32="Münze","M","N"),'Auswertung'!$A$16:$C$17,3,FALSE),""))
A33: =IF(OR(B33<>"",C33<>"",D33<>""),18,"") | E33: =IF(OR(C33="",D33=""),"",C33*D33) | G33: =IF(OR(C33="",F33=""),"",C33*F33) | H33: =IF(OR(E33="",G33=""),"",E33-G33) | I33: =IF(OR($E$116=0,E33=""),"",E33/$E$116) | K33: =IF(B33="","",IFERROR(VLOOKUP(IF(B33="Münze","M","N"),'Auswertung'!$A$16:$C$17,3,FALSE),""))
A34: =IF(OR(B34<>"",C34<>"",D34<>""),19,"") | E34: =IF(OR(C34="",D34=""),"",C34*D34) | G34: =IF(OR(C34="",F34=""),"",C34*F34) | H34: =IF(OR(E34="",G34=""),"",E34-G34) | I34: =IF(OR($E$116=0,E34=""),"",E34/$E$116) | K34: =IF(B34="","",IFERROR(VLOOKUP(IF(B34="Münze","M","N"),'Auswertung'!$A$16:$C$17,3,FALSE),""))
A35: =IF(OR(B35<>"",C35<>"",D35<>""),20,"") | E35: =IF(OR(C35="",D35=""),"",C35*D35) | G35: =IF(OR(C35="",F35=""),"",C35*F35) | H35: =IF(OR(E35="",G35=""),"",E35-G35) | I35: =IF(OR($E$116=0,E35=""),"",E35/$E$116) | K35: =IF(B35="","",IFERROR(VLOOKUP(IF(B35="Münze","M","N"),'Auswertung'!$A$16:$C$17,3,FALSE),""))
A36: =IF(OR(B36<>"",C36<>"",D36<>""),21,"") | E36: =IF(OR(C36="",D36=""),"",C36*D36) | G36: =IF(OR(C36="",F36=""),"",C36*F36) | H36: =IF(OR(E36="",G36=""),"",E36-G36) | I36: =IF(OR($E$116=0,E36=""),"",E36/$E$116) | K36: =IF(B36="","",IFERROR(VLOOKUP(IF(B36="Münze","M","N"),'Auswertung'!$A$16:$C$17,3,FALSE),""))
A37: =IF(OR(B37<>"",C37<>"",D37<>""),22,"") | E37: =IF(OR(C37="",D37=""),"",C37*D37) | G37: =IF(OR(C37="",F37=""),"",C37*F37) | H37: =IF(OR(E37="",G37=""),"",E37-G37) | I37: =IF(OR($E$116=0,E37=""),"",E37/$E$116) | K37: =IF(B37="","",IFERROR(VLOOKUP(IF(B37="Münze","M","N"),'Auswertung'!$A$16:$C$17,3,FALSE),""))
A38: =IF(OR(B38<>"",C38<>"",D38<>""),23,"") | E38: =IF(OR(C38="",D38=""),"",C38*D38) | G38: =IF(OR(C38="",F38=""),"",C38*F38) | H38: =IF(OR(E38="",G38=""),"",E38-G38) | I38: =IF(OR($E$116=0,E38=""),"",E38/$E$116) | K38: =IF(B38="","",IFERROR(VLOOKUP(IF(B38="Münze","M","N"),'Auswertung'!$A$16:$C$17,3,FALSE),""))
A39: =IF(OR(B39<>"",C39<>"",D39<>""),24,"") | E39: =IF(OR(C39="",D39=""),"",C39*D39) | G39: =IF(OR(C39="",F39=""),"",C39*F39) | H39: =IF(OR(E39="",G39=""),"",E39-G39) | I39: =IF(OR($E$116=0,E39=""),"",E39/$E$116) | K39: =IF(B39="","",IFERROR(VLOOKUP(IF(B39="Münze","M","N"),'Auswertung'!$A$16:$C$17,3,FALSE),""))
A40: =IF(OR(B40<>"",C40<>"",D40<>""),25,"") | E40: =IF(OR(C40="",D40=""),"",C40*D40) | G40: =IF(OR(C40="",F40=""),"",C40*F40) | H40: =IF(OR(E40="",G40=""),"",E40-G40) | I40: =IF(OR($E$116=0,E40=""),"",E40/$E$116) | K40: =IF(B40="","",IFERROR(VLOOKUP(IF(B40="Münze","M","N"),'Auswertung'!$A$16:$C$17,3,FALSE),""))
A41: =IF(OR(B41<>"",C41<>"",D41<>""),26,"") | E41: =IF(OR(C41="",D41=""),"",C41*D41) | G41: =IF(OR(C41="",F41=""),"",C41*F41) | H41: =IF(OR(E41="",G41=""),"",E41-G41) | I41: =IF(OR($E$116=0,E41=""),"",E41/$E$116) | K41: =IF(B41="","",IFERROR(VLOOKUP(IF(B41="Münze","M","N"),'Auswertung'!$A$16:$C$17,3,FALSE),""))
A42: =IF(OR(B42<>"",C42<>"",D42<>""),27,"") | E42: =IF(OR(C42="",D42=""),"",C42*D42) | G42: =IF(OR(C42="",F42=""),"",C42*F42) | H42: =IF(OR(E42="",G42=""),"",E42-G42) | I42: =IF(OR($E$116=0,E42=""),"",E42/$E$116) | K42: =IF(B42="","",IFERROR(VLOOKUP(IF(B42="Münze","M","N"),'Auswertung'!$A$16:$C$17,3,FALSE),""))
A43: =IF(OR(B43<>"",C43<>"",D43<>""),28,"") | E43: =IF(OR(C43="",D43=""),"",C43*D43) | G43: =IF(OR(C43="",F43=""),"",C43*F43) | H43: =IF(OR(E43="",G43=""),"",E43-G43) | I43: =IF(OR($E$116=0,E43=""),"",E43/$E$116) | K43: =IF(B43="","",IFERROR(VLOOKUP(IF(B43="Münze","M","N"),'Auswertung'!$A$16:$C$17,3,FALSE),""))
A44: =IF(OR(B44<>"",C44<>"",D44<>""),29,"") | E44: =IF(OR(C44="",D44=""),"",C44*D44) | G44: =IF(OR(C44="",F44=""),"",C44*F44) | H44: =IF(OR(E44="",G44=""),"",E44-G44) | I44: =IF(OR($E$116=0,E44=""),"",E44/$E$116) | K44: =IF(B44="","",IFERROR(VLOOKUP(IF(B44="Münze","M","N"),'Auswertung'!$A$16:$C$17,3,FALSE),""))
A45: =IF(OR(B45<>"",C45<>"",D45<>""),30,"") | E45: =IF(OR(C45="",D45=""),"",C45*D45) | G45: =IF(OR(C45="",F45=""),"",C45*F45) | H45: =IF(OR(E45="",G45=""),"",E45-G45) | I45: =IF(OR($E$116=0,E45=""),"",E45/$E$116) | K45: =IF(B45="","",IFERROR(VLOOKUP(IF(B45="Münze","M","N"),'Auswertung'!$A$16:$C$17,3,FALSE),""))
A46: =IF(OR(B46<>"",C46<>"",D46<>""),31,"") | E46: =IF(OR(C46="",D46=""),"",C46*D46) | G46: =IF(OR(C46="",F46=""),"",C46*F46) | H46: =IF(OR(E46="",G46=""),"",E46-G46) | I46: =IF(OR($E$116=0,E46=""),"",E46/$E$116) | K46: =IF(B46="","",IFERROR(VLOOKUP(IF(B46="Münze","M","N"),'Auswertung'!$A$16:$C$17,3,FALSE),""))
A47: =IF(OR(B47<>"",C47<>"",D47<>""),32,"") | E47: =IF(OR(C47="",D47=""),"",C47*D47) | G47: =IF(OR(C47="",F47=""),"",C47*F47) | H47: =IF(OR(E47="",G47=""),"",E47-G47) | I47: =IF(OR($E$116=0,E47=""),"",E47/$E$116) | K47: =IF(B47="","",IFERROR(VLOOKUP(IF(B47="Münze","M","N"),'Auswertung'!$A$16:$C$17,3,FALSE),""))
A48: =IF(OR(B48<>"",C48<>"",D48<>""),33,"") | E48: =IF(OR(C48="",D48=""),"",C48*D48) | G48: =IF(OR(C48="",F48=""),"",C48*F48) | H48: =IF(OR(E48="",G48=""),"",E48-G48) | I48: =IF(OR($E$116=0,E48=""),"",E48/$E$116) | K48: =IF(B48="","",IFERROR(VLOOKUP(IF(B48="Münze","M","N"),'Auswertung'!$A$16:$C$17,3,FALSE),""))
A49: =IF(OR(B49<>"",C49<>"",D49<>""),34,"") | E49: =IF(OR(C49="",D49=""),"",C49*D49) | G49: =IF(OR(C49="",F49=""),"",C49*F49) | H49: =IF(OR(E49="",G49=""),"",E49-G49) | I49: =IF(OR($E$116=0,E49=""),"",E49/$E$116) | K49: =IF(B49="","",IFERROR(VLOOKUP(IF(B49="Münze","M","N"),'Auswertung'!$A$16:$C$17,3,FALSE),""))
A50: =IF(OR(B50<>"",C50<>"",D50<>""),35,"") | E50: =IF(OR(C50="",D50=""),"",C50*D50) | G50: =IF(OR(C50="",F50=""),"",C50*F50) | H50: =IF(OR(E50="",G50=""),"",E50-G50) | I50: =IF(OR($E$116=0,E50=""),"",E50/$E$116) | K50: =IF(B50="","",IFERROR(VLOOKUP(IF(B50="Münze","M","N"),'Auswertung'!$A$16:$C$17,3,FALSE),""))
A51: =IF(OR(B51<>"",C51<>"",D51<>""),36,"") | E51: =IF(OR(C51="",D51=""),"",C51*D51) | G51: =IF(OR(C51="",F51=""),"",C51*F51) | H51: =IF(OR(E51="",G51=""),"",E51-G51) | I51: =IF(OR($E$116=0,E51=""),"",E51/$E$116) | K51: =IF(B51="","",IFERROR(VLOOKUP(IF(B51="Münze","M","N"),'Auswertung'!$A$16:$C$17,3,FALSE),""))
A52: =IF(OR(B52<>"",C52<>"",D52<>""),37,"") | E52: =IF(OR(C52="",D52=""),"",C52*D52) | G52: =IF(OR(C52="",F52=""),"",C52*F52) | H52: =IF(OR(E52="",G52=""),"",E52-G52) | I52: =IF(OR($E$116=0,E52=""),"",E52/$E$116) | K52: =IF(B52="","",IFERROR(VLOOKUP(IF(B52="Münze","M","N"),'Auswertung'!$A$16:$C$17,3,FALSE),""))
A53: =IF(OR(B53<>"",C53<>"",D53<>""),38,"") | E53: =IF(OR(C53="",D53=""),"",C53*D53) | G53: =IF(OR(C53="",F53=""),"",C53*F53) | H53: =IF(OR(E53="",G53=""),"",E53-G53) | I53: =IF(OR($E$116=0,E53=""),"",E53/$E$116) | K53: =IF(B53="","",IFERROR(VLOOKUP(IF(B53="Münze","M","N"),'Auswertung'!$A$16:$C$17,3,FALSE),""))
A54: =IF(OR(B54<>"",C54<>"",D54<>""),39,"") | E54: =IF(OR(C54="",D54=""),"",C54*D54) | G54: =IF(OR(C54="",F54=""),"",C54*F54) | H54: =IF(OR(E54="",G54=""),"",E54-G54) | I54: =IF(OR($E$116=0,E54=""),"",E54/$E$116) | K54: =IF(B54="","",IFERROR(VLOOKUP(IF(B54="Münze","M","N"),'Auswertung'!$A$16:$C$17,3,FALSE),""))
A55: =IF(OR(B55<>"",C55<>"",D55<>""),40,"") | E55: =IF(OR(C55="",D55=""),"",C55*D55) | G55: =IF(OR(C55="",F55=""),"",C55*F55) | H55: =IF(OR(E55="",G55=""),"",E55-G55) | I55: =IF(OR($E$116=0,E55=""),"",E55/$E$116) | K55: =IF(B55="","",IFERROR(VLOOKUP(IF(B55="Münze","M","N"),'Auswertung'!$A$16:$C$17,3,FALSE),""))
A56: =IF(OR(B56<>"",C56<>"",D56<>""),41,"") | E56: =IF(OR(C56="",D56=""),"",C56*D56) | G56: =IF(OR(C56="",F56=""),"",C56*F56) | H56: =IF(OR(E56="",G56=""),"",E56-G56) | I56: =IF(OR($E$116=0,E56=""),"",E56/$E$116) | K56: =IF(B56="","",IFERROR(VLOOKUP(IF(B56="Münze","M","N"),'Auswertung'!$A$16:$C$17,3,FALSE),""))
A57: =IF(OR(B57<>"",C57<>"",D57<>""),42,"") | E57: =IF(OR(C57="",D57=""),"",C57*D57) | G57: =IF(OR(C57="",F57=""),"",C57*F57) | H57: =IF(OR(E57="",G57=""),"",E57-G57) | I57: =IF(OR($E$116=0,E57=""),"",E57/$E$116) | K57: =IF(B57="","",IFERROR(VLOOKUP(IF(B57="Münze","M","N"),'Auswertung'!$A$16:$C$17,3,FALSE),""))
A58: =IF(OR(B58<>"",C58<>"",D58<>""),43,"") | E58: =IF(OR(C58="",D58=""),"",C58*D58) | G58: =IF(OR(C58="",F58=""),"",C58*F58) | H58: =IF(OR(E58="",G58=""),"",E58-G58) | I58: =IF(OR($E$116=0,E58=""),"",E58/$E$116) | K58: =IF(B58="","",IFERROR(VLOOKUP(IF(B58="Münze","M","N"),'Auswertung'!$A$16:$C$17,3,FALSE),""))
A59: =IF(OR(B59<>"",C59<>"",D59<>""),44,"") | E59: =IF(OR(C59="",D59=""),"",C59*D59) | G59: =IF(OR(C59="",F59=""),"",C59*F59) | H59: =IF(OR(E59="",G59=""),"",E59-G59) | I59: =IF(OR($E$116=0,E59=""),"",E59/$E$116) | K59: =IF(B59="","",IFERROR(VLOOKUP(IF(B59="Münze","M","N"),'Auswertung'!$A$16:$C$17,3,FALSE),""))
A60: =IF(OR(B60<>"",C60<>"",D60<>""),45,"") | E60: =IF(OR(C60="",D60=""),"",C60*D60) | G60: =IF(OR(C60="",F60=""),"",C60*F60) | H60: =IF(OR(E60="",G60=""),"",E60-G60) | I60: =IF(OR($E$116=0,E60=""),"",E60/$E$116) | K60: =IF(B60="","",IFERROR(VLOOKUP(IF(B60="Münze","M","N"),'Auswertung'!$A$16:$C$17,3,FALSE),""))
A61: =IF(OR(B61<>"",C61<>"",D61<>""),46,"") | E61: =IF(OR(C61="",D61=""),"",C61*D61) | G61: =IF(OR(C61="",F61=""),"",C61*F61) | H61: =IF(OR(E61="",G61=""),"",E61-G61) | I61: =IF(OR($E$116=0,E61=""),"",E61/$E$116) | K61: =IF(B61="","",IFERROR(VLOOKUP(IF(B61="Münze","M","N"),'Auswertung'!$A$16:$C$17,3,FALSE),""))
A62: =IF(OR(B62<>"",C62<>"",D62<>""),47,"") | E62: =IF(OR(C62="",D62=""),"",C62*D62) | G62: =IF(OR(C62="",F62=""),"",C62*F62) | H62: =IF(OR(E62="",G62=""),"",E62-G62) | I62: =IF(OR($E$116=0,E62=""),"",E62/$E$116) | K62: =IF(B62="","",IFERROR(VLOOKUP(IF(B62="Münze","M","N"),'Auswertung'!$A$16:$C$17,3,FALSE),""))
A63: =IF(OR(B63<>"",C63<>"",D63<>""),48,"") | E63: =IF(OR(C63="",D63=""),"",C63*D63) | G63: =IF(OR(C63="",F63=""),"",C63*F63) | H63: =IF(OR(E63="",G63=""),"",E63-G63) | I63: =IF(OR($E$116=0,E63=""),"",E63/$E$116) | K63: =IF(B63="","",IFERROR(VLOOKUP(IF(B63="Münze","M","N"),'Auswertung'!$A$16:$C$17,3,FALSE),""))
A64: =IF(OR(B64<>"",C64<>"",D64<>""),49,"") | E64: =IF(OR(C64="",D64=""),"",C64*D64) | G64: =IF(OR(C64="",F64=""),"",C64*F64) | H64: =IF(OR(E64="",G64=""),"",E64-G64) | I64: =IF(OR($E$116=0,E64=""),"",E64/$E$116) | K64: =IF(B64="","",IFERROR(VLOOKUP(IF(B64="Münze","M","N"),'Auswertung'!$A$16:$C$17,3,FALSE),""))
A65: =IF(OR(B65<>"",C65<>"",D65<>""),50,"") | E65: =IF(OR(C65="",D65=""),"",C65*D65) | G65: =IF(OR(C65="",F65=""),"",C65*F65) | H65: =IF(OR(E65="",G65=""),"",E65-G65) | I65: =IF(OR($E$116=0,E65=""),"",E65/$E$116) | K65: =IF(B65="","",IFERROR(VLOOKUP(IF(B65="Münze","M","N"),'Auswertung'!$A$16:$C$17,3,FALSE),""))
A66: =IF(OR(B66<>"",C66<>"",D66<>""),51,"") | E66: =IF(OR(C66="",D66=""),"",C66*D66) | G66: =IF(OR(C66="",F66=""),"",C66*F66) | H66: =IF(OR(E66="",G66=""),"",E66-G66) | I66: =IF(OR($E$116=0,E66=""),"",E66/$E$116) | K66: =IF(B66="","",IFERROR(VLOOKUP(IF(B66="Münze","M","N"),'Auswertung'!$A$16:$C$17,3,FALSE),""))
A67: =IF(OR(B67<>"",C67<>"",D67<>""),52,"") | E67: =IF(OR(C67="",D67=""),"",C67*D67) | G67: =IF(OR(C67="",F67=""),"",C67*F67) | H67: =IF(OR(E67="",G67=""),"",E67-G67) | I67: =IF(OR($E$116=0,E67=""),"",E67/$E$116) | K67: =IF(B67="","",IFERROR(VLOOKUP(IF(B67="Münze","M","N"),'Auswertung'!$A$16:$C$17,3,FALSE),""))
A68: =IF(OR(B68<>"",C68<>"",D68<>""),53,"") | E68: =IF(OR(C68="",D68=""),"",C68*D68) | G68: =IF(OR(C68="",F68=""),"",C68*F68) | H68: =IF(OR(E68="",G68=""),"",E68-G68) | I68: =IF(OR($E$116=0,E68=""),"",E68/$E$116) | K68: =IF(B68="","",IFERROR(VLOOKUP(IF(B68="Münze","M","N"),'Auswertung'!$A$16:$C$17,3,FALSE),""))
A69: =IF(OR(B69<>"",C69<>"",D69<>""),54,"") | E69: =IF(OR(C69="",D69=""),"",C69*D69) | G69: =IF(OR(C69="",F69=""),"",C69*F69) | H69: =IF(OR(E69="",G69=""),"",E69-G69) | I69: =IF(OR($E$116=0,E69=""),"",E69/$E$116) | K69: =IF(B69="","",IFERROR(VLOOKUP(IF(B69="Münze","M","N"),'Auswertung'!$A$16:$C$17,3,FALSE),""))
A70: =IF(OR(B70<>"",C70<>"",D70<>""),55,"") | E70: =IF(OR(C70="",D70=""),"",C70*D70) | G70: =IF(OR(C70="",F70=""),"",C70*F70) | H70: =IF(OR(E70="",G70=""),"",E70-G70) | I70: =IF(OR($E$116=0,E70=""),"",E70/$E$116) | K70: =IF(B70="","",IFERROR(VLOOKUP(IF(B70="Münze","M","N"),'Auswertung'!$A$16:$C$17,3,FALSE),""))
A71: =IF(OR(B71<>"",C71<>"",D71<>""),56,"") | E71: =IF(OR(C71="",D71=""),"",C71*D71) | G71: =IF(OR(C71="",F71=""),"",C71*F71) | H71: =IF(OR(E71="",G71=""),"",E71-G71) | I71: =IF(OR($E$116=0,E71=""),"",E71/$E$116) | K71: =IF(B71="","",IFERROR(VLOOKUP(IF(B71="Münze","M","N"),'Auswertung'!$A$16:$C$17,3,FALSE),""))
A72: =IF(OR(B72<>"",C72<>"",D72<>""),57,"") | E72: =IF(OR(C72="",D72=""),"",C72*D72) | G72: =IF(OR(C72="",F72=""),"",C72*F72) | H72: =IF(OR(E72="",G72=""),"",E72-G72) | I72: =IF(OR($E$116=0,E72=""),"",E72/$E$116) | K72: =IF(B72="","",IFERROR(VLOOKUP(IF(B72="Münze","M","N"),'Auswertung'!$A$16:$C$17,3,FALSE),""))
A73: =IF(OR(B73<>"",C73<>"",D73<>""),58,"") | E73: =IF(OR(C73="",D73=""),"",C73*D73) | G73: =IF(OR(C73="",F73=""),"",C73*F73) | H73: =IF(OR(E73="",G73=""),"",E73-G73) | I73: =IF(OR($E$116=0,E73=""),"",E73/$E$116) | K73: =IF(B73="","",IFERROR(VLOOKUP(IF(B73="Münze","M","N"),'Auswertung'!$A$16:$C$17,3,FALSE),""))
A74: =IF(OR(B74<>"",C74<>"",D74<>""),59,"") | E74: =IF(OR(C74="",D74=""),"",C74*D74) | G74: =IF(OR(C74="",F74=""),"",C74*F74) | H74: =IF(OR(E74="",G74=""),"",E74-G74) | I74: =IF(OR($E$116=0,E74=""),"",E74/$E$116) | K74: =IF(B74="","",IFERROR(VLOOKUP(IF(B74="Münze","M","N"),'Auswertung'!$A$16:$C$17,3,FALSE),""))
A75: =IF(OR(B75<>"",C75<>"",D75<>""),60,"") | E75: =IF(OR(C75="",D75=""),"",C75*D75) | G75: =IF(OR(C75="",F75=""),"",C75*F75) | H75: =IF(OR(E75="",G75=""),"",E75-G75) | I75: =IF(OR($E$116=0,E75=""),"",E75/$E$116) | K75: =IF(B75="","",IFERROR(VLOOKUP(IF(B75="Münze","M","N"),'Auswertung'!$A$16:$C$17,3,FALSE),""))
A76: =IF(OR(B76<>"",C76<>"",D76<>""),61,"") | E76: =IF(OR(C76="",D76=""),"",C76*D76) | G76: =IF(OR(C76="",F76=""),"",C76*F76) | H76: =IF(OR(E76="",G76=""),"",E76-G76) | I76: =IF(OR($E$116=0,E76=""),"",E76/$E$116) | K76: =IF(B76="","",IFERROR(VLOOKUP(IF(B76="Münze","M","N"),'Auswertung'!$A$16:$C$17,3,FALSE),""))
A77: =IF(OR(B77<>"",C77<>"",D77<>""),62,"") | E77: =IF(OR(C77="",D77=""),"",C77*D77) | G77: =IF(OR(C77="",F77=""),"",C77*F77) | H77: =IF(OR(E77="",G77=""),"",E77-G77) | I77: =IF(OR($E$116=0,E77=""),"",E77/$E$116) | K77: =IF(B77="","",IFERROR(VLOOKUP(IF(B77="Münze","M","N"),'Auswertung'!$A$16:$C$17,3,FALSE),""))
A78: =IF(OR(B78<>"",C78<>"",D78<>""),63,"") | E78: =IF(OR(C78="",D78=""),"",C78*D78) | G78: =IF(OR(C78="",F78=""),"",C78*F78) | H78: =IF(OR(E78="",G78=""),"",E78-G78) | I78: =IF(OR($E$116=0,E78=""),"",E78/$E$116) | K78: =IF(B78="","",IFERROR(VLOOKUP(IF(B78="Münze","M","N"),'Auswertung'!$A$16:$C$17,3,FALSE),""))
A79: =IF(OR(B79<>"",C79<>"",D79<>""),64,"") | E79: =IF(OR(C79="",D79=""),"",C79*D79) | G79: =IF(OR(C79="",F79=""),"",C79*F79) | H79: =IF(OR(E79="",G79=""),"",E79-G79) | I79: =IF(OR($E$116=0,E79=""),"",E79/$E$116) | K79: =IF(B79="","",IFERROR(VLOOKUP(IF(B79="Münze","M","N"),'Auswertung'!$A$16:$C$17,3,FALSE),""))
A80: =IF(OR(B80<>"",C80<>"",D80<>""),65,"") | E80: =IF(OR(C80="",D80=""),"",C80*D80) | G80: =IF(OR(C80="",F80=""),"",C80*F80) | H80: =IF(OR(E80="",G80=""),"",E80-G80) | I80: =IF(OR($E$116=0,E80=""),"",E80/$E$116) | K80: =IF(B80="","",IFERROR(VLOOKUP(IF(B80="Münze","M","N"),'Auswertung'!$A$16:$C$17,3,FALSE),""))
A81: =IF(OR(B81<>"",C81<>"",D81<>""),66,"") | E81: =IF(OR(C81="",D81=""),"",C81*D81) | G81: =IF(OR(C81="",F81=""),"",C81*F81) | H81: =IF(OR(E81="",G81=""),"",E81-G81) | I81: =IF(OR($E$116=0,E81=""),"",E81/$E$116) | K81: =IF(B81="","",IFERROR(VLOOKUP(IF(B81="Münze","M","N"),'Auswertung'!$A$16:$C$17,3,FALSE),""))
A82: =IF(OR(B82<>"",C82<>"",D82<>""),67,"") | E82: =IF(OR(C82="",D82=""),"",C82*D82) | G82: =IF(OR(C82="",F82=""),"",C82*F82) | H82: =IF(OR(E82="",G82=""),"",E82-G82) | I82: =IF(OR($E$116=0,E82=""),"",E82/$E$116) | K82: =IF(B82="","",IFERROR(VLOOKUP(IF(B82="Münze","M","N"),'Auswertung'!$A$16:$C$17,3,FALSE),""))
A83: =IF(OR(B83<>"",C83<>"",D83<>""),68,"") | E83: =IF(OR(C83="",D83=""),"",C83*D83) | G83: =IF(OR(C83="",F83=""),"",C83*F83) | H83: =IF(OR(E83="",G83=""),"",E83-G83) | I83: =IF(OR($E$116=0,E83=""),"",E83/$E$116) | K83: =IF(B83="","",IFERROR(VLOOKUP(IF(B83="Münze","M","N"),'Auswertung'!$A$16:$C$17,3,FALSE),""))
A84: =IF(OR(B84<>"",C84<>"",D84<>""),69,"") | E84: =IF(OR(C84="",D84=""),"",C84*D84) | G84: =IF(OR(C84="",F84=""),"",C84*F84) | H84: =IF(OR(E84="",G84=""),"",E84-G84) | I84: =IF(OR($E$116=0,E84=""),"",E84/$E$116) | K84: =IF(B84="","",IFERROR(VLOOKUP(IF(B84="Münze","M","N"),'Auswertung'!$A$16:$C$17,3,FALSE),""))
A85: =IF(OR(B85<>"",C85<>"",D85<>""),70,"") | E85: =IF(OR(C85="",D85=""),"",C85*D85) | G85: =IF(OR(C85="",F85=""),"",C85*F85) | H85: =IF(OR(E85="",G85=""),"",E85-G85) | I85: =IF(OR($E$116=0,E85=""),"",E85/$E$116) | K85: =IF(B85="","",IFERROR(VLOOKUP(IF(B85="Münze","M","N"),'Auswertung'!$A$16:$C$17,3,FALSE),""))
A86: =IF(OR(B86<>"",C86<>"",D86<>""),71,"") | E86: =IF(OR(C86="",D86=""),"",C86*D86) | G86: =IF(OR(C86="",F86=""),"",C86*F86) | H86: =IF(OR(E86="",G86=""),"",E86-G86) | I86: =IF(OR($E$116=0,E86=""),"",E86/$E$116) | K86: =IF(B86="","",IFERROR(VLOOKUP(IF(B86="Münze","M","N"),'Auswertung'!$A$16:$C$17,3,FALSE),""))
A87: =IF(OR(B87<>"",C87<>"",D87<>""),72,"") | E87: =IF(OR(C87="",D87=""),"",C87*D87) | G87: =IF(OR(C87="",F87=""),"",C87*F87) | H87: =IF(OR(E87="",G87=""),"",E87-G87) | I87: =IF(OR($E$116=0,E87=""),"",E87/$E$116) | K87: =IF(B87="","",IFERROR(VLOOKUP(IF(B87="Münze","M","N"),'Auswertung'!$A$16:$C$17,3,FALSE),""))
A88: =IF(OR(B88<>"",C88<>"",D88<>""),73,"") | E88: =IF(OR(C88="",D88=""),"",C88*D88) | G88: =IF(OR(C88="",F88=""),"",C88*F88) | H88: =IF(OR(E88="",G88=""),"",E88-G88) | I88: =IF(OR($E$116=0,E88=""),"",E88/$E$116) | K88: =IF(B88="","",IFERROR(VLOOKUP(IF(B88="Münze","M","N"),'Auswertung'!$A$16:$C$17,3,FALSE),""))
A89: =IF(OR(B89<>"",C89<>"",D89<>""),74,"") | E89: =IF(OR(C89="",D89=""),"",C89*D89) | G89: =IF(OR(C89="",F89=""),"",C89*F89) | H89: =IF(OR(E89="",G89=""),"",E89-G89) | I89: =IF(OR($E$116=0,E89=""),"",E89/$E$116) | K89: =IF(B89="","",IFERROR(VLOOKUP(IF(B89="Münze","M","N"),'Auswertung'!$A$16:$C$17,3,FALSE),""))
A90: =IF(OR(B90<>"",C90<>"",D90<>""),75,"") | E90: =IF(OR(C90="",D90=""),"",C90*D90) | G90: =IF(OR(C90="",F90=""),"",C90*F90) | H90: =IF(OR(E90="",G90=""),"",E90-G90) | I90: =IF(OR($E$116=0,E90=""),"",E90/$E$116) | K90: =IF(B90="","",IFERROR(VLOOKUP(IF(B90="Münze","M","N"),'Auswertung'!$A$16:$C$17,3,FALSE),""))
A91: =IF(OR(B91<>"",C91<>"",D91<>""),76,"") | E91: =IF(OR(C91="",D91=""),"",C91*D91) | G91: =IF(OR(C91="",F91=""),"",C91*F91) | H91: =IF(OR(E91="",G91=""),"",E91-G91) | I91: =IF(OR($E$116=0,E91=""),"",E91/$E$116) | K91: =IF(B91="","",IFERROR(VLOOKUP(IF(B91="Münze","M","N"),'Auswertung'!$A$16:$C$17,3,FALSE),""))
A92: =IF(OR(B92<>"",C92<>"",D92<>""),77,"") | E92: =IF(OR(C92="",D92=""),"",C92*D92) | G92: =IF(OR(C92="",F92=""),"",C92*F92) | H92: =IF(OR(E92="",G92=""),"",E92-G92) | I92: =IF(OR($E$116=0,E92=""),"",E92/$E$116) | K92: =IF(B92="","",IFERROR(VLOOKUP(IF(B92="Münze","M","N"),'Auswertung'!$A$16:$C$17,3,FALSE),""))
A93: =IF(OR(B93<>"",C93<>"",D93<>""),78,"") | E93: =IF(OR(C93="",D93=""),"",C93*D93) | G93: =IF(OR(C93="",F93=""),"",C93*F93) | H93: =IF(OR(E93="",G93=""),"",E93-G93) | I93: =IF(OR($E$116=0,E93=""),"",E93/$E$116) | K93: =IF(B93="","",IFERROR(VLOOKUP(IF(B93="Münze","M","N"),'Auswertung'!$A$16:$C$17,3,FALSE),""))
A94: =IF(OR(B94<>"",C94<>"",D94<>""),79,"") | E94: =IF(OR(C94="",D94=""),"",C94*D94) | G94: =IF(OR(C94="",F94=""),"",C94*F94) | H94: =IF(OR(E94="",G94=""),"",E94-G94) | I94: =IF(OR($E$116=0,E94=""),"",E94/$E$116) | K94: =IF(B94="","",IFERROR(VLOOKUP(IF(B94="Münze","M","N"),'Auswertung'!$A$16:$C$17,3,FALSE),""))
A95: =IF(OR(B95<>"",C95<>"",D95<>""),80,"") | E95: =IF(OR(C95="",D95=""),"",C95*D95) | G95: =IF(OR(C95="",F95=""),"",C95*F95) | H95: =IF(OR(E95="",G95=""),"",E95-G95) | I95: =IF(OR($E$116=0,E95=""),"",E95/$E$116) | K95: =IF(B95="","",IFERROR(VLOOKUP(IF(B95="Münze","M","N"),'Auswertung'!$A$16:$C$17,3,FALSE),""))
A96: =IF(OR(B96<>"",C96<>"",D96<>""),81,"") | E96: =IF(OR(C96="",D96=""),"",C96*D96) | G96: =IF(OR(C96="",F96=""),"",C96*F96) | H96: =IF(OR(E96="",G96=""),"",E96-G96) | I96: =IF(OR($E$116=0,E96=""),"",E96/$E$116) | K96: =IF(B96="","",IFERROR(VLOOKUP(IF(B96="Münze","M","N"),'Auswertung'!$A$16:$C$17,3,FALSE),""))
A97: =IF(OR(B97<>"",C97<>"",D97<>""),82,"") | E97: =IF(OR(C97="",D97=""),"",C97*D97) | G97: =IF(OR(C97="",F97=""),"",C97*F97) | H97: =IF(OR(E97="",G97=""),"",E97-G97) | I97: =IF(OR($E$116=0,E97=""),"",E97/$E$116) | K97: =IF(B97="","",IFERROR(VLOOKUP(IF(B97="Münze","M","N"),'Auswertung'!$A$16:$C$17,3,FALSE),""))
A98: =IF(OR(B98<>"",C98<>"",D98<>""),83,"") | E98: =IF(OR(C98="",D98=""),"",C98*D98) | G98: =IF(OR(C98="",F98=""),"",C98*F98) | H98: =IF(OR(E98="",G98=""),"",E98-G98) | I98: =IF(OR($E$116=0,E98=""),"",E98/$E$116) | K98: =IF(B98="","",IFERROR(VLOOKUP(IF(B98="Münze","M","N"),'Auswertung'!$A$16:$C$17,3,FALSE),""))
A99: =IF(OR(B99<>"",C99<>"",D99<>""),84,"") | E99: =IF(OR(C99="",D99=""),"",C99*D99) | G99: =IF(OR(C99="",F99=""),"",C99*F99) | H99: =IF(OR(E99="",G99=""),"",E99-G99) | I99: =IF(OR($E$116=0,E99=""),"",E99/$E$116) | K99: =IF(B99="","",IFERROR(VLOOKUP(IF(B99="Münze","M","N"),'Auswertung'!$A$16:$C$17,3,FALSE),""))
A100: =IF(OR(B100<>"",C100<>"",D100<>""),85,"") | E100: =IF(OR(C100="",D100=""),"",C100*D100) | G100: =IF(OR(C100="",F100=""),"",C100*F100) | H100: =IF(OR(E100="",G100=""),"",E100-G100) | I100: =IF(OR($E$116=0,E100=""),"",E100/$E$116) | K100: =IF(B100="","",IFERROR(VLOOKUP(IF(B100="Münze","M","N"),'Auswertung'!$A$16:$C$17,3,FALSE),""))
A101: =IF(OR(B101<>"",C101<>"",D101<>""),86,"") | E101: =IF(OR(C101="",D101=""),"",C101*D101) | G101: =IF(OR(C101="",F101=""),"",C101*F101) | H101: =IF(OR(E101="",G101=""),"",E101-G101) | I101: =IF(OR($E$116=0,E101=""),"",E101/$E$116) | K101: =IF(B101="","",IFERROR(VLOOKUP(IF(B101="Münze","M","N"),'Auswertung'!$A$16:$C$17,3,FALSE),""))
A102: =IF(OR(B102<>"",C102<>"",D102<>""),87,"") | E102: =IF(OR(C102="",D102=""),"",C102*D102) | G102: =IF(OR(C102="",F102=""),"",C102*F102) | H102: =IF(OR(E102="",G102=""),"",E102-G102) | I102: =IF(OR($E$116=0,E102=""),"",E102/$E$116) | K102: =IF(B102="","",IFERROR(VLOOKUP(IF(B102="Münze","M","N"),'Auswertung'!$A$16:$C$17,3,FALSE),""))
A103: =IF(OR(B103<>"",C103<>"",D103<>""),88,"") | E103: =IF(OR(C103="",D103=""),"",C103*D103) | G103: =IF(OR(C103="",F103=""),"",C103*F103) | H103: =IF(OR(E103="",G103=""),"",E103-G103) | I103: =IF(OR($E$116=0,E103=""),"",E103/$E$116) | K103: =IF(B103="","",IFERROR(VLOOKUP(IF(B103="Münze","M","N"),'Auswertung'!$A$16:$C$17,3,FALSE),""))
A104: =IF(OR(B104<>"",C104<>"",D104<>""),89,"") | E104: =IF(OR(C104="",D104=""),"",C104*D104) | G104: =IF(OR(C104="",F104=""),"",C104*F104) | H104: =IF(OR(E104="",G104=""),"",E104-G104) | I104: =IF(OR($E$116=0,E104=""),"",E104/$E$116) | K104: =IF(B104="","",IFERROR(VLOOKUP(IF(B104="Münze","M","N"),'Auswertung'!$A$16:$C$17,3,FALSE),""))
A105: =IF(OR(B105<>"",C105<>"",D105<>""),90,"") | E105: =IF(OR(C105="",D105=""),"",C105*D105) | G105: =IF(OR(C105="",F105=""),"",C105*F105) | H105: =IF(OR(E105="",G105=""),"",E105-G105) | I105: =IF(OR($E$116=0,E105=""),"",E105/$E$116) | K105: =IF(B105="","",IFERROR(VLOOKUP(IF(B105="Münze","M","N"),'Auswertung'!$A$16:$C$17,3,FALSE),""))
A106: =IF(OR(B106<>"",C106<>"",D106<>""),91,"") | E106: =IF(OR(C106="",D106=""),"",C106*D106) | G106: =IF(OR(C106="",F106=""),"",C106*F106) | H106: =IF(OR(E106="",G106=""),"",E106-G106) | I106: =IF(OR($E$116=0,E106=""),"",E106/$E$116) | K106: =IF(B106="","",IFERROR(VLOOKUP(IF(B106="Münze","M","N"),'Auswertung'!$A$16:$C$17,3,FALSE),""))
...

Sheet Auswertung
A1: Auswertung Kassenzählprotokoll
A2: Kennzahlen für die Kassenverantwortlichen
A3: Kennzahl | B3: Wert
A4: Ist-Bestand | B4: ='Kassenzählung'!$E$116
A5: Soll-Bestand | B5: ='Kassenzählung'!$G$116
A6: Differenz in CHF | B6: ='Kassenzählung'!$H$116
A7: Differenz in Prozent | B7: =IF(B5=0,0,B6/B5)
A8: Anzahl Positionen mit Abweichung | B8: =COUNTIFS('Kassenzählung'!$H$16:$H$115,"<>0",'Kassenzählung'!$H$16:$H$115,"<>")
A9: Durchschnittlicher Betrag pro Nominalwert | B9: =IFERROR(AVERAGE('Kassenzählung'!$E$16:$E$115),0)
A10: Status des Kassensturzes | B10: =IF(AND(B6>-0.01,B6<0.01),"Ausgeglichen","Kontrolle erforderlich")
A11: Grösste positive Abweichung | B11: =MAX('Kassenzählung'!$H$16:$H$115)
A12: Grösste negative Abweichung | B12: =MIN('Kassenzählung'!$H$16:$H$115)
A13: Soll gemäss Kassenbericht | B13: ='Kassenzählung'!$B$8
A14: Positionen Münzen | B14: =COUNTIF('Kassenzählung'!$B$16:$B$115,"Münze")
A15: Code | B15: Geldart | C15: Kategorie | E15: Nominalwert | F15: Gezählter Betrag CHF | G15: Differenz CHF | I15: Geldart | J15: Ist-Bestand CHF
A16: M | B16: Münze | C16: Bargeld | E16: 0.05 | F16: =SUMIF('Kassenzählung'!$C$16:$C$115,E16,'Kassenzählung'!$E$16:$E$115) | G16: =SUMIF('Kassenzählung'!$C$16:$C$115,E16,'Kassenzählung'!$H$16:$H$115) | I16: Münze | J16: =SUMIF('Kassenzählung'!$B$16:$B$115,I16,'Kassenzählung'!$E$16:$E$115)
A17: N | B17: Banknote | C17: Bargeld | E17: 0.1 | F17: =SUMIF('Kassenzählung'!$C$16:$C$115,E17,'Kassenzählung'!$E$16:$E$115) | G17: =SUMIF('Kassenzählung'!$C$16:$C$115,E17,'Kassenzählung'!$H$16:$H$115) | I17: Banknote | J17: =SUMIF('Kassenzählung'!$B$16:$B$115,I17,'Kassenzählung'!$E$16:$E$115)
E18: 0.2 | F18: =SUMIF('Kassenzählung'!$C$16:$C$115,E18,'Kassenzählung'!$E$16:$E$115) | G18: =SUMIF('Kassenzählung'!$C$16:$C$115,E18,'Kassenzählung'!$H$16:$H$115)
E19: 0.5 | F19: =SUMIF('Kassenzählung'!$C$16:$C$115,E19,'Kassenzählung'!$E$16:$E$115) | G19: =SUMIF('Kassenzählung'!$C$16:$C$115,E19,'Kassenzählung'!$H$16:$H$115)
E20: 1 | F20: =SUMIF('Kassenzählung'!$C$16:$C$115,E20,'Kassenzählung'!$E$16:$E$115) | G20: =SUMIF('Kassenzählung'!$C$16:$C$115,E20,'Kassenzählung'!$H$16:$H$115)
E21: 2 | F21: =SUMIF('Kassenzählung'!$C$16:$C$115,E21,'Kassenzählung'!$E$16:$E$115) | G21: =SUMIF('Kassenzählung'!$C$16:$C$115,E21,'Kassenzählung'!$H$16:$H$115)
E22: 5 | F22: =SUMIF('Kassenzählung'!$C$16:$C$115,E22,'Kassenzählung'!$E$16:$E$115) | G22: =SUMIF('Kassenzählung'!$C$16:$C$115,E22,'Kassenzählung'!$H$16:$H$115)
E23: 10 | F23: =SUMIF('Kassenzählung'!$C$16:$C$115,E23,'Kassenzählung'!$E$16:$E$115) | G23: =SUMIF('Kassenzählung'!$C$16:$C$115,E23,'Kassenzählung'!$H$16:$H$115)
E24: 20 | F24: =SUMIF('Kassenzählung'!$C$16:$C$115,E24,'Kassenzählung'!$E$16:$E$115) | G24: =SUMIF('Kassenzählung'!$C$16:$C$115,E24,'Kassenzählung'!$H$16:$H$115)
E25: 50 | F25: =SUMIF('Kassenzählung'!$C$16:$C$115,E25,'Kassenzählung'!$E$16:$E$115) | G25: =SUMIF('Kassenzählung'!$C$16:$C$115,E25,'Kassenzählung'!$H$16:$H$115)
E26: 100 | F26: =SUMIF('Kassenzählung'!$C$16:$C$115,E26,'Kassenzählung'!$E$16:$E$115) | G26: =SUMIF('Kassenzählung'!$C$16:$C$115,E26,'Kassenzählung'!$H$16:$H$115)
E27: 200 | F27: =SUMIF('Kassenzählung'!$C$16:$C$115,E27,'Kassenzählung'!$E$16:$E$115) | G27: =SUMIF('Kassenzählung'!$C$16:$C$115,E27,'Kassenzählung'!$H$16:$H$115)
E28: 500 | F28: =SUMIF('Kassenzählung'!$C$16:$C$115,E28,'Kassenzählung'!$E$16:$E$115) | G28: =SUMIF('Kassenzählung'!$C$16:$C$115,E28,'Kassenzählung'!$H$16:$H$115)
E29: 1000 | F29: =SUMIF('Kassenzählung'!$C$16:$C$115,E29,'Kassenzählung'!$E$16:$E$115) | G29: =SUMIF('Kassenzählung'!$C$16:$C$115,E29,'Kassenzählung'!$H$16:$H$115)

Sheet Anleitung
A1: Anleitung Kassenzählprotokoll
A3: So verwenden Sie diese Vorlage
A5: 1. Kopfbereich vollständig ausfüllen.
A6: 2. Jede Münz- und Banknotensorte physisch zählen.
A7: 3. Anzahl in die gelben Eingabefelder eintragen.
A8: 4. Soll-Anzahlen nur verwenden, wenn ein Vergleich mit dem Kassenbericht vorgesehen ist.
A9: 5. Differenzen prüfen und bei Bedarf eine Bemerkung erfassen.
A10: 6. Protokoll durch die verantwortliche Person kontrollieren und archivieren.
A11: 7. Bei wiederholten Fehlbeträgen interne Kassenrichtlinien prüfen.
A14: Hinweis
A15: Das Protokoll ersetzt keine Buchhaltungs- oder MWST-Abrechnung. Barbewegungen sind gemäss internen Kontrollen und dem Kontenrahmen KMU zu dokumentieren.
A18: Blattübersicht
A19: Arbeitsblatt | B19: Zweck
A20: Kassenzählung | B20: Erfassung der gezählten Geldbestände, Soll-Anzahlen, Differenzen und Bemerkungen.
A21: Auswertung | B21: Kennzahlen, Geldarten-Lookup und Diagramme für den Kassensturz.
A22: Anleitung | B22: Kurze Arbeitsanleitung und Hinweise zur korrekten Verwendung.
