Workbook

Sheet Hypothekenrechner
A1: Hypothekenrechner Schweiz
A2: Einzelberechnung für Wohneigentum mit Tragbarkeit und Amortisation
B3: Eingaben | H3: Resultate
B5: Kundin/Kunde | E5: Andrea Müller | H5: Gesamte Eigenmittel | K5: =IF(COUNTA('Hypothekenrechner'!$E$9:$E$11)=0,"",SUM('Hypothekenrechner'!$E$10,'Hypothekenrechner'!$E$11))
B6: Wohnort | E6: Zürich | H6: Maximal mögliche Hypothek | K6: =IF('Hypothekenrechner'!$K$5="","",'Hypothekenrechner'!$E$9-'Hypothekenrechner'!$K$5)
B7: Kanton | E7: ZH | H7: Hypothekarbetrag | K7: =IF('Hypothekenrechner'!$K$6="","",'Hypothekenrechner'!$K$6)
B8: Berechnungsdatum | E8: 46276 | H8: Belehnungsgrad | K8: =IFERROR('Hypothekenrechner'!$K$7/'Hypothekenrechner'!$E$9,"")
B9: Kaufpreis Immobilie | E9: 1000000 | H9: 1. Hypothek maximal 65 % | K9: =IF('Hypothekenrechner'!$K$7="","",MIN('Hypothekenrechner'!$K$7,'Hypothekenrechner'!$E$9*65%))
B10: Eigenmittel | E10: 250000 | H10: 2. Hypothek | K10: =IF('Hypothekenrechner'!$K$7="","",MAX(0,'Hypothekenrechner'!$K$7-'Hypothekenrechner'!$K$9))
B11: Säule 3a / weitere Eigenmittel | E11: 50000 | H11: Jährliche Zinskosten effektiv | K11: =IF('Hypothekenrechner'!$K$7="","",'Hypothekenrechner'!$K$7*'Hypothekenrechner'!$E$13)
B12: Bruttojahreseinkommen | E12: 180000 | H12: Jährliche Amortisation | K12: =IF('Hypothekenrechner'!$K$10="","",IF('Hypothekenrechner'!$K$10>0,IFERROR('Hypothekenrechner'!$K$10/'Hypothekenrechner'!$E$15,0),0))
B13: Zinssatz Hypothek effektiv | E13: 0.0195 | H13: Jährliche Nebenkosten | K13: =IF('Hypothekenrechner'!$E$9="","",'Hypothekenrechner'!$E$9*'Hypothekenrechner'!$E$16)
B14: Kalkulatorischer Zinssatz | E14: 0.05 | H14: Jährliche Wohnkosten effektiv | K14: =IF('Hypothekenrechner'!$K$11="","",SUM('Hypothekenrechner'!$K$11:'Hypothekenrechner'!$K$13))
B15: Amortisationsdauer 2. Hypothek | E15: 15 | H15: Monatliche Wohnkosten effektiv | K15: =IF('Hypothekenrechner'!$K$14="","",IFERROR('Hypothekenrechner'!$K$14/12,0))
B16: Jährliche Nebenkosten | E16: 0.007 | H16: Tragbarkeit effektiv | K16: =IF('Hypothekenrechner'!$K$14="","",IFERROR('Hypothekenrechner'!$K$14/'Hypothekenrechner'!$E$12,0))
B17: Personen im Haushalt | E17: 2 | H17: Tragbarkeitsprüfung effektiv | K17: =IF('Hypothekenrechner'!$K$16="","",IF('Hypothekenrechner'!$K$16<=33%,"Tragbarkeit erfüllt","Tragbarkeit überschritten"))
H18: Eigenmittelquote | K18: =IFERROR('Hypothekenrechner'!$K$5/'Hypothekenrechner'!$E$9,"")
H19: Mindest-Eigenmittelprüfung | K19: =IF('Hypothekenrechner'!$K$18="","",IF('Hypothekenrechner'!$K$18>=20%,"Eigenmittel ausreichend","Zusätzliche Eigenmittel erforderlich"))
H20: Kalkulatorische jährliche Zinskosten | K20: =IF('Hypothekenrechner'!$K$7="","",'Hypothekenrechner'!$K$7*'Hypothekenrechner'!$E$14)
H21: Kalkulatorische jährliche Wohnkosten | K21: =IF('Hypothekenrechner'!$K$20="","",SUM('Hypothekenrechner'!$K$20,'Hypothekenrechner'!$K$12,'Hypothekenrechner'!$K$13))
H22: Kalkulatorische Tragbarkeit | K22: =IF('Hypothekenrechner'!$K$21="","",IFERROR('Hypothekenrechner'!$K$21/'Hypothekenrechner'!$E$12,0))
H23: Kalkulatorische Prüfung | K23: =IF('Hypothekenrechner'!$K$22="","",IF('Hypothekenrechner'!$K$22<=33%,"Tragbarkeit erfüllt","Tragbarkeit überschritten"))

Sheet Variantenvergleich
A1: Variantenvergleich Schweizer Hypotheken
A2: Vergleich von Finanzierungssituationen mit effektiver und kalkulatorischer Tragbarkeit
A3: Szenario-ID | B3: Berechnungsdatum | C3: Kundin/Kunde | D3: Wohnort | E3: Kanton | F3: Kaufpreis | G3: Eigenmittel | H3: Säule 3a | I3: Bruttojahreseinkommen | J3: Hypothekarbetrag | K3: Effektiver Zinssatz | L3: Kalkulatorischer Zinssatz | M3: Amortisationsdauer Jahre | N3: Nebenkostensatz | O3: Belehnungsgrad | P3: 1. Hypothek | Q3: 2. Hypothek | R3: Jährliche Zinskosten | S3: Jährliche Amortisation | T3: Jährliche Nebenkosten | U3: Jährliche Wohnkosten | V3: Monatliche Wohnkosten | W3: Tragbarkeit | X3: Tragbarkeit Status | Y3: Empfehlung | Z3: Kantonaler Richtwert Nebenkosten | AA3: Kalkulatorische Tragbarkeit | AB3: Kalkulatorische Prüfung | AD3: Kanton | AE3: Richtwert Nebenkosten | AF3: Hinweis
A4: S-2026-01 | B4: 46037 | C4: Andrea Müller | D4: Zürich | E4: ZH | F4: 1000000 | G4: 250000 | H4: 50000 | I4: 180000 | J4: =IF('Variantenvergleich'!$A4="","",'Variantenvergleich'!$F4-'Variantenvergleich'!$G4-'Variantenvergleich'!$H4) | K4: 0.0195 | L4: 0.05 | M4: 15 | N4: 0.007 | O4: =IF('Variantenvergleich'!$A4="","",IFERROR('Variantenvergleich'!$J4/'Variantenvergleich'!$F4,0)) | P4: =IF('Variantenvergleich'!$A4="","",MIN('Variantenvergleich'!$J4,'Variantenvergleich'!$F4*65%)) | Q4: =IF('Variantenvergleich'!$A4="","",MAX(0,'Variantenvergleich'!$J4-'Variantenvergleich'!$P4)) | R4: =IF('Variantenvergleich'!$A4="","",'Variantenvergleich'!$J4*'Variantenvergleich'!$K4) | S4: =IF('Variantenvergleich'!$A4="","",IF('Variantenvergleich'!$Q4>0,IFERROR('Variantenvergleich'!$Q4/'Variantenvergleich'!$M4,0),0)) | T4: =IF('Variantenvergleich'!$A4="","",'Variantenvergleich'!$F4*'Variantenvergleich'!$N4) | U4: =IF('Variantenvergleich'!$A4="","",SUM('Variantenvergleich'!$R4:'Variantenvergleich'!$T4)) | V4: =IF('Variantenvergleich'!$A4="","",IFERROR('Variantenvergleich'!$U4/12,0)) | W4: =IF('Variantenvergleich'!$A4="","",IFERROR('Variantenvergleich'!$U4/'Variantenvergleich'!$I4,0)) | X4: =IF('Variantenvergleich'!$A4="","",IF('Variantenvergleich'!$W4<=33%,"Erfüllt","Nicht erfüllt")) | Y4: =IF('Variantenvergleich'!$A4="","",IF(AND('Variantenvergleich'!$W4<=33%,'Variantenvergleich'!$O4<=80%),"Finanzierung realistisch","Finanzierung prüfen")) | Z4: =IF('Variantenvergleich'!$A4="","",IFERROR(VLOOKUP('Variantenvergleich'!$E4,'Variantenvergleich'!$AD$4:$AF$12,2,FALSE),"")) | AA4: =IF('Variantenvergleich'!$A4="","",IFERROR((('Variantenvergleich'!$J4*'Variantenvergleich'!$L4)+'Variantenvergleich'!$S4+'Variantenvergleich'!$T4)/'Variantenvergleich'!$I4,0)) | AB4: =IF('Variantenvergleich'!$A4="","",IF('Variantenvergleich'!$AA4<=33%,"Erfüllt","Nicht erfüllt")) | AD4: ZH | AE4: 0.007 | AF4: Richtwert für Eigentumswohnungen
A5: S-2026-02 | B5: 46065 | C5: Markus Keller | D5: Bern | E5: BE | F5: 850000 | G5: 180000 | H5: 20000 | I5: 110000 | J5: =IF('Variantenvergleich'!$A5="","",'Variantenvergleich'!$F5-'Variantenvergleich'!$G5-'Variantenvergleich'!$H5) | K5: 0.021 | L5: 0.05 | M5: 15 | N5: 0.007 | O5: =IF('Variantenvergleich'!$A5="","",IFERROR('Variantenvergleich'!$J5/'Variantenvergleich'!$F5,0)) | P5: =IF('Variantenvergleich'!$A5="","",MIN('Variantenvergleich'!$J5,'Variantenvergleich'!$F5*65%)) | Q5: =IF('Variantenvergleich'!$A5="","",MAX(0,'Variantenvergleich'!$J5-'Variantenvergleich'!$P5)) | R5: =IF('Variantenvergleich'!$A5="","",'Variantenvergleich'!$J5*'Variantenvergleich'!$K5) | S5: =IF('Variantenvergleich'!$A5="","",IF('Variantenvergleich'!$Q5>0,IFERROR('Variantenvergleich'!$Q5/'Variantenvergleich'!$M5,0),0)) | T5: =IF('Variantenvergleich'!$A5="","",'Variantenvergleich'!$F5*'Variantenvergleich'!$N5) | U5: =IF('Variantenvergleich'!$A5="","",SUM('Variantenvergleich'!$R5:'Variantenvergleich'!$T5)) | V5: =IF('Variantenvergleich'!$A5="","",IFERROR('Variantenvergleich'!$U5/12,0)) | W5: =IF('Variantenvergleich'!$A5="","",IFERROR('Variantenvergleich'!$U5/'Variantenvergleich'!$I5,0)) | X5: =IF('Variantenvergleich'!$A5="","",IF('Variantenvergleich'!$W5<=33%,"Erfüllt","Nicht erfüllt")) | Y5: =IF('Variantenvergleich'!$A5="","",IF(AND('Variantenvergleich'!$W5<=33%,'Variantenvergleich'!$O5<=80%),"Finanzierung realistisch","Finanzierung prüfen")) | Z5: =IF('Variantenvergleich'!$A5="","",IFERROR(VLOOKUP('Variantenvergleich'!$E5,'Variantenvergleich'!$AD$4:$AF$12,2,FALSE),"")) | AA5: =IF('Variantenvergleich'!$A5="","",IFERROR((('Variantenvergleich'!$J5*'Variantenvergleich'!$L5)+'Variantenvergleich'!$S5+'Variantenvergleich'!$T5)/'Variantenvergleich'!$I5,0)) | AB5: =IF('Variantenvergleich'!$A5="","",IF('Variantenvergleich'!$AA5<=33%,"Erfüllt","Nicht erfüllt")) | AD5: BE | AE5: 0.007 | AF5: Richtwert für Wohneigentum
A6: S-2026-03 | B6: 46099 | C6: Sandra Meier | D6: Genf | E6: GE | F6: 1450000 | G6: 360000 | H6: 60000 | I6: 155000 | J6: =IF('Variantenvergleich'!$A6="","",'Variantenvergleich'!$F6-'Variantenvergleich'!$G6-'Variantenvergleich'!$H6) | K6: 0.0235 | L6: 0.05 | M6: 15 | N6: 0.008 | O6: =IF('Variantenvergleich'!$A6="","",IFERROR('Variantenvergleich'!$J6/'Variantenvergleich'!$F6,0)) | P6: =IF('Variantenvergleich'!$A6="","",MIN('Variantenvergleich'!$J6,'Variantenvergleich'!$F6*65%)) | Q6: =IF('Variantenvergleich'!$A6="","",MAX(0,'Variantenvergleich'!$J6-'Variantenvergleich'!$P6)) | R6: =IF('Variantenvergleich'!$A6="","",'Variantenvergleich'!$J6*'Variantenvergleich'!$K6) | S6: =IF('Variantenvergleich'!$A6="","",IF('Variantenvergleich'!$Q6>0,IFERROR('Variantenvergleich'!$Q6/'Variantenvergleich'!$M6,0),0)) | T6: =IF('Variantenvergleich'!$A6="","",'Variantenvergleich'!$F6*'Variantenvergleich'!$N6) | U6: =IF('Variantenvergleich'!$A6="","",SUM('Variantenvergleich'!$R6:'Variantenvergleich'!$T6)) | V6: =IF('Variantenvergleich'!$A6="","",IFERROR('Variantenvergleich'!$U6/12,0)) | W6: =IF('Variantenvergleich'!$A6="","",IFERROR('Variantenvergleich'!$U6/'Variantenvergleich'!$I6,0)) | X6: =IF('Variantenvergleich'!$A6="","",IF('Variantenvergleich'!$W6<=33%,"Erfüllt","Nicht erfüllt")) | Y6: =IF('Variantenvergleich'!$A6="","",IF(AND('Variantenvergleich'!$W6<=33%,'Variantenvergleich'!$O6<=80%),"Finanzierung realistisch","Finanzierung prüfen")) | Z6: =IF('Variantenvergleich'!$A6="","",IFERROR(VLOOKUP('Variantenvergleich'!$E6,'Variantenvergleich'!$AD$4:$AF$12,2,FALSE),"")) | AA6: =IF('Variantenvergleich'!$A6="","",IFERROR((('Variantenvergleich'!$J6*'Variantenvergleich'!$L6)+'Variantenvergleich'!$S6+'Variantenvergleich'!$T6)/'Variantenvergleich'!$I6,0)) | AB6: =IF('Variantenvergleich'!$A6="","",IF('Variantenvergleich'!$AA6<=33%,"Erfüllt","Nicht erfüllt")) | AD6: GE | AE6: 0.008 | AF6: Höhere Unterhaltsreserve empfohlen
A7: S-2026-04 | B7: 46133 | C7: Thomas Frei | D7: Basel | E7: BS | F7: 780000 | G7: 150000 | H7: 20000 | I7: 70000 | J7: =IF('Variantenvergleich'!$A7="","",'Variantenvergleich'!$F7-'Variantenvergleich'!$G7-'Variantenvergleich'!$H7) | K7: 0.023 | L7: 0.05 | M7: 15 | N7: 0.007 | O7: =IF('Variantenvergleich'!$A7="","",IFERROR('Variantenvergleich'!$J7/'Variantenvergleich'!$F7,0)) | P7: =IF('Variantenvergleich'!$A7="","",MIN('Variantenvergleich'!$J7,'Variantenvergleich'!$F7*65%)) | Q7: =IF('Variantenvergleich'!$A7="","",MAX(0,'Variantenvergleich'!$J7-'Variantenvergleich'!$P7)) | R7: =IF('Variantenvergleich'!$A7="","",'Variantenvergleich'!$J7*'Variantenvergleich'!$K7) | S7: =IF('Variantenvergleich'!$A7="","",IF('Variantenvergleich'!$Q7>0,IFERROR('Variantenvergleich'!$Q7/'Variantenvergleich'!$M7,0),0)) | T7: =IF('Variantenvergleich'!$A7="","",'Variantenvergleich'!$F7*'Variantenvergleich'!$N7) | U7: =IF('Variantenvergleich'!$A7="","",SUM('Variantenvergleich'!$R7:'Variantenvergleich'!$T7)) | V7: =IF('Variantenvergleich'!$A7="","",IFERROR('Variantenvergleich'!$U7/12,0)) | W7: =IF('Variantenvergleich'!$A7="","",IFERROR('Variantenvergleich'!$U7/'Variantenvergleich'!$I7,0)) | X7: =IF('Variantenvergleich'!$A7="","",IF('Variantenvergleich'!$W7<=33%,"Erfüllt","Nicht erfüllt")) | Y7: =IF('Variantenvergleich'!$A7="","",IF(AND('Variantenvergleich'!$W7<=33%,'Variantenvergleich'!$O7<=80%),"Finanzierung realistisch","Finanzierung prüfen")) | Z7: =IF('Variantenvergleich'!$A7="","",IFERROR(VLOOKUP('Variantenvergleich'!$E7,'Variantenvergleich'!$AD$4:$AF$12,2,FALSE),"")) | AA7: =IF('Variantenvergleich'!$A7="","",IFERROR((('Variantenvergleich'!$J7*'Variantenvergleich'!$L7)+'Variantenvergleich'!$S7+'Variantenvergleich'!$T7)/'Variantenvergleich'!$I7,0)) | AB7: =IF('Variantenvergleich'!$A7="","",IF('Variantenvergleich'!$AA7<=33%,"Erfüllt","Nicht erfüllt")) | AD7: BS | AE7: 0.007 | AF7: Städtischer Richtwert
A8: S-2026-05 | B8: 46161 | C8: Reto Brunner | D8: Lausanne | E8: VD | F8: 1200000 | G8: 220000 | H8: 30000 | I8: 95000 | J8: =IF('Variantenvergleich'!$A8="","",'Variantenvergleich'!$F8-'Variantenvergleich'!$G8-'Variantenvergleich'!$H8) | K8: 0.0225 | L8: 0.05 | M8: 15 | N8: 0.008 | O8: =IF('Variantenvergleich'!$A8="","",IFERROR('Variantenvergleich'!$J8/'Variantenvergleich'!$F8,0)) | P8: =IF('Variantenvergleich'!$A8="","",MIN('Variantenvergleich'!$J8,'Variantenvergleich'!$F8*65%)) | Q8: =IF('Variantenvergleich'!$A8="","",MAX(0,'Variantenvergleich'!$J8-'Variantenvergleich'!$P8)) | R8: =IF('Variantenvergleich'!$A8="","",'Variantenvergleich'!$J8*'Variantenvergleich'!$K8) | S8: =IF('Variantenvergleich'!$A8="","",IF('Variantenvergleich'!$Q8>0,IFERROR('Variantenvergleich'!$Q8/'Variantenvergleich'!$M8,0),0)) | T8: =IF('Variantenvergleich'!$A8="","",'Variantenvergleich'!$F8*'Variantenvergleich'!$N8) | U8: =IF('Variantenvergleich'!$A8="","",SUM('Variantenvergleich'!$R8:'Variantenvergleich'!$T8)) | V8: =IF('Variantenvergleich'!$A8="","",IFERROR('Variantenvergleich'!$U8/12,0)) | W8: =IF('Variantenvergleich'!$A8="","",IFERROR('Variantenvergleich'!$U8/'Variantenvergleich'!$I8,0)) | X8: =IF('Variantenvergleich'!$A8="","",IF('Variantenvergleich'!$W8<=33%,"Erfüllt","Nicht erfüllt")) | Y8: =IF('Variantenvergleich'!$A8="","",IF(AND('Variantenvergleich'!$W8<=33%,'Variantenvergleich'!$O8<=80%),"Finanzierung realistisch","Finanzierung prüfen")) | Z8: =IF('Variantenvergleich'!$A8="","",IFERROR(VLOOKUP('Variantenvergleich'!$E8,'Variantenvergleich'!$AD$4:$AF$12,2,FALSE),"")) | AA8: =IF('Variantenvergleich'!$A8="","",IFERROR((('Variantenvergleich'!$J8*'Variantenvergleich'!$L8)+'Variantenvergleich'!$S8+'Variantenvergleich'!$T8)/'Variantenvergleich'!$I8,0)) | AB8: =IF('Variantenvergleich'!$A8="","",IF('Variantenvergleich'!$AA8<=33%,"Erfüllt","Nicht erfüllt")) | AD8: VD | AE8: 0.008 | AF8: Höhere Unterhaltsreserve empfohlen
A9: S-2026-06 | B9: 46189 | C9: Nicole Huber | D9: Luzern | E9: LU | F9: 650000 | G9: 140000 | H9: 15000 | I9: 80000 | J9: =IF('Variantenvergleich'!$A9="","",'Variantenvergleich'!$F9-'Variantenvergleich'!$G9-'Variantenvergleich'!$H9) | K9: 0.0175 | L9: 0.0475 | M9: 15 | N9: 0.006 | O9: =IF('Variantenvergleich'!$A9="","",IFERROR('Variantenvergleich'!$J9/'Variantenvergleich'!$F9,0)) | P9: =IF('Variantenvergleich'!$A9="","",MIN('Variantenvergleich'!$J9,'Variantenvergleich'!$F9*65%)) | Q9: =IF('Variantenvergleich'!$A9="","",MAX(0,'Variantenvergleich'!$J9-'Variantenvergleich'!$P9)) | R9: =IF('Variantenvergleich'!$A9="","",'Variantenvergleich'!$J9*'Variantenvergleich'!$K9) | S9: =IF('Variantenvergleich'!$A9="","",IF('Variantenvergleich'!$Q9>0,IFERROR('Variantenvergleich'!$Q9/'Variantenvergleich'!$M9,0),0)) | T9: =IF('Variantenvergleich'!$A9="","",'Variantenvergleich'!$F9*'Variantenvergleich'!$N9) | U9: =IF('Variantenvergleich'!$A9="","",SUM('Variantenvergleich'!$R9:'Variantenvergleich'!$T9)) | V9: =IF('Variantenvergleich'!$A9="","",IFERROR('Variantenvergleich'!$U9/12,0)) | W9: =IF('Variantenvergleich'!$A9="","",IFERROR('Variantenvergleich'!$U9/'Variantenvergleich'!$I9,0)) | X9: =IF('Variantenvergleich'!$A9="","",IF('Variantenvergleich'!$W9<=33%,"Erfüllt","Nicht erfüllt")) | Y9: =IF('Variantenvergleich'!$A9="","",IF(AND('Variantenvergleich'!$W9<=33%,'Variantenvergleich'!$O9<=80%),"Finanzierung realistisch","Finanzierung prüfen")) | Z9: =IF('Variantenvergleich'!$A9="","",IFERROR(VLOOKUP('Variantenvergleich'!$E9,'Variantenvergleich'!$AD$4:$AF$12,2,FALSE),"")) | AA9: =IF('Variantenvergleich'!$A9="","",IFERROR((('Variantenvergleich'!$J9*'Variantenvergleich'!$L9)+'Variantenvergleich'!$S9+'Variantenvergleich'!$T9)/'Variantenvergleich'!$I9,0)) | AB9: =IF('Variantenvergleich'!$A9="","",IF('Variantenvergleich'!$AA9<=33%,"Erfüllt","Nicht erfüllt")) | AD9: LU | AE9: 0.006 | AF9: Moderater Richtwert
A10: S-2026-07 | B10: 46217 | C10: Stefan Graf | D10: St. Gallen | E10: SG | F10: 920000 | G10: 180000 | H10: 25000 | I10: 90000 | J10: =IF('Variantenvergleich'!$A10="","",'Variantenvergleich'!$F10-'Variantenvergleich'!$G10-'Variantenvergleich'!$H10) | K10: 0.021 | L10: 0.05 | M10: 15 | N10: 0.006 | O10: =IF('Variantenvergleich'!$A10="","",IFERROR('Variantenvergleich'!$J10/'Variantenvergleich'!$F10,0)) | P10: =IF('Variantenvergleich'!$A10="","",MIN('Variantenvergleich'!$J10,'Variantenvergleich'!$F10*65%)) | Q10: =IF('Variantenvergleich'!$A10="","",MAX(0,'Variantenvergleich'!$J10-'Variantenvergleich'!$P10)) | R10: =IF('Variantenvergleich'!$A10="","",'Variantenvergleich'!$J10*'Variantenvergleich'!$K10) | S10: =IF('Variantenvergleich'!$A10="","",IF('Variantenvergleich'!$Q10>0,IFERROR('Variantenvergleich'!$Q10/'Variantenvergleich'!$M10,0),0)) | T10: =IF('Variantenvergleich'!$A10="","",'Variantenvergleich'!$F10*'Variantenvergleich'!$N10) | U10: =IF('Variantenvergleich'!$A10="","",SUM('Variantenvergleich'!$R10:'Variantenvergleich'!$T10)) | V10: =IF('Variantenvergleich'!$A10="","",IFERROR('Variantenvergleich'!$U10/12,0)) | W10: =IF('Variantenvergleich'!$A10="","",IFERROR('Variantenvergleich'!$U10/'Variantenvergleich'!$I10,0)) | X10: =IF('Variantenvergleich'!$A10="","",IF('Variantenvergleich'!$W10<=33%,"Erfüllt","Nicht erfüllt")) | Y10: =IF('Variantenvergleich'!$A10="","",IF(AND('Variantenvergleich'!$W10<=33%,'Variantenvergleich'!$O10<=80%),"Finanzierung realistisch","Finanzierung prüfen")) | Z10: =IF('Variantenvergleich'!$A10="","",IFERROR(VLOOKUP('Variantenvergleich'!$E10,'Variantenvergleich'!$AD$4:$AF$12,2,FALSE),"")) | AA10: =IF('Variantenvergleich'!$A10="","",IFERROR((('Variantenvergleich'!$J10*'Variantenvergleich'!$L10)+'Variantenvergleich'!$S10+'Variantenvergleich'!$T10)/'Variantenvergleich'!$I10,0)) | AB10: =IF('Variantenvergleich'!$A10="","",IF('Variantenvergleich'!$AA10<=33%,"Erfüllt","Nicht erfüllt")) | AD10: SG | AE10: 0.006 | AF10: Moderater Richtwert
A11: S-2026-08 | B11: 46252 | C11: Claudia Rossi | D11: Lugano | E11: TI | F11: 980000 | G11: 175000 | H11: 30000 | I11: 85000 | J11: =IF('Variantenvergleich'!$A11="","",'Variantenvergleich'!$F11-'Variantenvergleich'!$G11-'Variantenvergleich'!$H11) | K11: 0.0215 | L11: 0.05 | M11: 15 | N11: 0.007 | O11: =IF('Variantenvergleich'!$A11="","",IFERROR('Variantenvergleich'!$J11/'Variantenvergleich'!$F11,0)) | P11: =IF('Variantenvergleich'!$A11="","",MIN('Variantenvergleich'!$J11,'Variantenvergleich'!$F11*65%)) | Q11: =IF('Variantenvergleich'!$A11="","",MAX(0,'Variantenvergleich'!$J11-'Variantenvergleich'!$P11)) | R11: =IF('Variantenvergleich'!$A11="","",'Variantenvergleich'!$J11*'Variantenvergleich'!$K11) | S11: =IF('Variantenvergleich'!$A11="","",IF('Variantenvergleich'!$Q11>0,IFERROR('Variantenvergleich'!$Q11/'Variantenvergleich'!$M11,0),0)) | T11: =IF('Variantenvergleich'!$A11="","",'Variantenvergleich'!$F11*'Variantenvergleich'!$N11) | U11: =IF('Variantenvergleich'!$A11="","",SUM('Variantenvergleich'!$R11:'Variantenvergleich'!$T11)) | V11: =IF('Variantenvergleich'!$A11="","",IFERROR('Variantenvergleich'!$U11/12,0)) | W11: =IF('Variantenvergleich'!$A11="","",IFERROR('Variantenvergleich'!$U11/'Variantenvergleich'!$I11,0)) | X11: =IF('Variantenvergleich'!$A11="","",IF('Variantenvergleich'!$W11<=33%,"Erfüllt","Nicht erfüllt")) | Y11: =IF('Variantenvergleich'!$A11="","",IF(AND('Variantenvergleich'!$W11<=33%,'Variantenvergleich'!$O11<=80%),"Finanzierung realistisch","Finanzierung prüfen")) | Z11: =IF('Variantenvergleich'!$A11="","",IFERROR(VLOOKUP('Variantenvergleich'!$E11,'Variantenvergleich'!$AD$4:$AF$12,2,FALSE),"")) | AA11: =IF('Variantenvergleich'!$A11="","",IFERROR((('Variantenvergleich'!$J11*'Variantenvergleich'!$L11)+'Variantenvergleich'!$S11+'Variantenvergleich'!$T11)/'Variantenvergleich'!$I11,0)) | AB11: =IF('Variantenvergleich'!$A11="","",IF('Variantenvergleich'!$AA11<=33%,"Erfüllt","Nicht erfüllt")) | AD11: TI | AE11: 0.007 | AF11: Richtwert für Ferienregionen
A12: S-2026-09 | B12: 46274 | C12: Daniela Wenger | D12: Winterthur | E12: ZH | F12: 720000 | G12: 145000 | H12: 15000 | I12: 75000 | J12: =IF('Variantenvergleich'!$A12="","",'Variantenvergleich'!$F12-'Variantenvergleich'!$G12-'Variantenvergleich'!$H12) | K12: 0.02 | L12: 0.05 | M12: 15 | N12: 0.007 | O12: =IF('Variantenvergleich'!$A12="","",IFERROR('Variantenvergleich'!$J12/'Variantenvergleich'!$F12,0)) | P12: =IF('Variantenvergleich'!$A12="","",MIN('Variantenvergleich'!$J12,'Variantenvergleich'!$F12*65%)) | Q12: =IF('Variantenvergleich'!$A12="","",MAX(0,'Variantenvergleich'!$J12-'Variantenvergleich'!$P12)) | R12: =IF('Variantenvergleich'!$A12="","",'Variantenvergleich'!$J12*'Variantenvergleich'!$K12) | S12: =IF('Variantenvergleich'!$A12="","",IF('Variantenvergleich'!$Q12>0,IFERROR('Variantenvergleich'!$Q12/'Variantenvergleich'!$M12,0),0)) | T12: =IF('Variantenvergleich'!$A12="","",'Variantenvergleich'!$F12*'Variantenvergleich'!$N12) | U12: =IF('Variantenvergleich'!$A12="","",SUM('Variantenvergleich'!$R12:'Variantenvergleich'!$T12)) | V12: =IF('Variantenvergleich'!$A12="","",IFERROR('Variantenvergleich'!$U12/12,0)) | W12: =IF('Variantenvergleich'!$A12="","",IFERROR('Variantenvergleich'!$U12/'Variantenvergleich'!$I12,0)) | X12: =IF('Variantenvergleich'!$A12="","",IF('Variantenvergleich'!$W12<=33%,"Erfüllt","Nicht erfüllt")) | Y12: =IF('Variantenvergleich'!$A12="","",IF(AND('Variantenvergleich'!$W12<=33%,'Variantenvergleich'!$O12<=80%),"Finanzierung realistisch","Finanzierung prüfen")) | Z12: =IF('Variantenvergleich'!$A12="","",IFERROR(VLOOKUP('Variantenvergleich'!$E12,'Variantenvergleich'!$AD$4:$AF$12,2,FALSE),"")) | AA12: =IF('Variantenvergleich'!$A12="","",IFERROR((('Variantenvergleich'!$J12*'Variantenvergleich'!$L12)+'Variantenvergleich'!$S12+'Variantenvergleich'!$T12)/'Variantenvergleich'!$I12,0)) | AB12: =IF('Variantenvergleich'!$A12="","",IF('Variantenvergleich'!$AA12<=33%,"Erfüllt","Nicht erfüllt")) | AD12: GR | AE12: 0.008 | AF12: Höhere Reserve für Zweitwohnsitze
J13: =IF('Variantenvergleich'!$A13="","",'Variantenvergleich'!$F13-'Variantenvergleich'!$G13-'Variantenvergleich'!$H13) | O13: =IF('Variantenvergleich'!$A13="","",IFERROR('Variantenvergleich'!$J13/'Variantenvergleich'!$F13,0)) | P13: =IF('Variantenvergleich'!$A13="","",MIN('Variantenvergleich'!$J13,'Variantenvergleich'!$F13*65%)) | Q13: =IF('Variantenvergleich'!$A13="","",MAX(0,'Variantenvergleich'!$J13-'Variantenvergleich'!$P13)) | R13: =IF('Variantenvergleich'!$A13="","",'Variantenvergleich'!$J13*'Variantenvergleich'!$K13) | S13: =IF('Variantenvergleich'!$A13="","",IF('Variantenvergleich'!$Q13>0,IFERROR('Variantenvergleich'!$Q13/'Variantenvergleich'!$M13,0),0)) | T13: =IF('Variantenvergleich'!$A13="","",'Variantenvergleich'!$F13*'Variantenvergleich'!$N13) | U13: =IF('Variantenvergleich'!$A13="","",SUM('Variantenvergleich'!$R13:'Variantenvergleich'!$T13)) | V13: =IF('Variantenvergleich'!$A13="","",IFERROR('Variantenvergleich'!$U13/12,0)) | W13: =IF('Variantenvergleich'!$A13="","",IFERROR('Variantenvergleich'!$U13/'Variantenvergleich'!$I13,0)) | X13: =IF('Variantenvergleich'!$A13="","",IF('Variantenvergleich'!$W13<=33%,"Erfüllt","Nicht erfüllt")) | Y13: =IF('Variantenvergleich'!$A13="","",IF(AND('Variantenvergleich'!$W13<=33%,'Variantenvergleich'!$O13<=80%),"Finanzierung realistisch","Finanzierung prüfen")) | Z13: =IF('Variantenvergleich'!$A13="","",IFERROR(VLOOKUP('Variantenvergleich'!$E13,'Variantenvergleich'!$AD$4:$AF$12,2,FALSE),"")) | AA13: =IF('Variantenvergleich'!$A13="","",IFERROR((('Variantenvergleich'!$J13*'Variantenvergleich'!$L13)+'Variantenvergleich'!$S13+'Variantenvergleich'!$T13)/'Variantenvergleich'!$I13,0)) | AB13: =IF('Variantenvergleich'!$A13="","",IF('Variantenvergleich'!$AA13<=33%,"Erfüllt","Nicht erfüllt"))
J14: =IF('Variantenvergleich'!$A14="","",'Variantenvergleich'!$F14-'Variantenvergleich'!$G14-'Variantenvergleich'!$H14) | O14: =IF('Variantenvergleich'!$A14="","",IFERROR('Variantenvergleich'!$J14/'Variantenvergleich'!$F14,0)) | P14: =IF('Variantenvergleich'!$A14="","",MIN('Variantenvergleich'!$J14,'Variantenvergleich'!$F14*65%)) | Q14: =IF('Variantenvergleich'!$A14="","",MAX(0,'Variantenvergleich'!$J14-'Variantenvergleich'!$P14)) | R14: =IF('Variantenvergleich'!$A14="","",'Variantenvergleich'!$J14*'Variantenvergleich'!$K14) | S14: =IF('Variantenvergleich'!$A14="","",IF('Variantenvergleich'!$Q14>0,IFERROR('Variantenvergleich'!$Q14/'Variantenvergleich'!$M14,0),0)) | T14: =IF('Variantenvergleich'!$A14="","",'Variantenvergleich'!$F14*'Variantenvergleich'!$N14) | U14: =IF('Variantenvergleich'!$A14="","",SUM('Variantenvergleich'!$R14:'Variantenvergleich'!$T14)) | V14: =IF('Variantenvergleich'!$A14="","",IFERROR('Variantenvergleich'!$U14/12,0)) | W14: =IF('Variantenvergleich'!$A14="","",IFERROR('Variantenvergleich'!$U14/'Variantenvergleich'!$I14,0)) | X14: =IF('Variantenvergleich'!$A14="","",IF('Variantenvergleich'!$W14<=33%,"Erfüllt","Nicht erfüllt")) | Y14: =IF('Variantenvergleich'!$A14="","",IF(AND('Variantenvergleich'!$W14<=33%,'Variantenvergleich'!$O14<=80%),"Finanzierung realistisch","Finanzierung prüfen")) | Z14: =IF('Variantenvergleich'!$A14="","",IFERROR(VLOOKUP('Variantenvergleich'!$E14,'Variantenvergleich'!$AD$4:$AF$12,2,FALSE),"")) | AA14: =IF('Variantenvergleich'!$A14="","",IFERROR((('Variantenvergleich'!$J14*'Variantenvergleich'!$L14)+'Variantenvergleich'!$S14+'Variantenvergleich'!$T14)/'Variantenvergleich'!$I14,0)) | AB14: =IF('Variantenvergleich'!$A14="","",IF('Variantenvergleich'!$AA14<=33%,"Erfüllt","Nicht erfüllt"))
J15: =IF('Variantenvergleich'!$A15="","",'Variantenvergleich'!$F15-'Variantenvergleich'!$G15-'Variantenvergleich'!$H15) | O15: =IF('Variantenvergleich'!$A15="","",IFERROR('Variantenvergleich'!$J15/'Variantenvergleich'!$F15,0)) | P15: =IF('Variantenvergleich'!$A15="","",MIN('Variantenvergleich'!$J15,'Variantenvergleich'!$F15*65%)) | Q15: =IF('Variantenvergleich'!$A15="","",MAX(0,'Variantenvergleich'!$J15-'Variantenvergleich'!$P15)) | R15: =IF('Variantenvergleich'!$A15="","",'Variantenvergleich'!$J15*'Variantenvergleich'!$K15) | S15: =IF('Variantenvergleich'!$A15="","",IF('Variantenvergleich'!$Q15>0,IFERROR('Variantenvergleich'!$Q15/'Variantenvergleich'!$M15,0),0)) | T15: =IF('Variantenvergleich'!$A15="","",'Variantenvergleich'!$F15*'Variantenvergleich'!$N15) | U15: =IF('Variantenvergleich'!$A15="","",SUM('Variantenvergleich'!$R15:'Variantenvergleich'!$T15)) | V15: =IF('Variantenvergleich'!$A15="","",IFERROR('Variantenvergleich'!$U15/12,0)) | W15: =IF('Variantenvergleich'!$A15="","",IFERROR('Variantenvergleich'!$U15/'Variantenvergleich'!$I15,0)) | X15: =IF('Variantenvergleich'!$A15="","",IF('Variantenvergleich'!$W15<=33%,"Erfüllt","Nicht erfüllt")) | Y15: =IF('Variantenvergleich'!$A15="","",IF(AND('Variantenvergleich'!$W15<=33%,'Variantenvergleich'!$O15<=80%),"Finanzierung realistisch","Finanzierung prüfen")) | Z15: =IF('Variantenvergleich'!$A15="","",IFERROR(VLOOKUP('Variantenvergleich'!$E15,'Variantenvergleich'!$AD$4:$AF$12,2,FALSE),"")) | AA15: =IF('Variantenvergleich'!$A15="","",IFERROR((('Variantenvergleich'!$J15*'Variantenvergleich'!$L15)+'Variantenvergleich'!$S15+'Variantenvergleich'!$T15)/'Variantenvergleich'!$I15,0)) | AB15: =IF('Variantenvergleich'!$A15="","",IF('Variantenvergleich'!$AA15<=33%,"Erfüllt","Nicht erfüllt"))
J16: =IF('Variantenvergleich'!$A16="","",'Variantenvergleich'!$F16-'Variantenvergleich'!$G16-'Variantenvergleich'!$H16) | O16: =IF('Variantenvergleich'!$A16="","",IFERROR('Variantenvergleich'!$J16/'Variantenvergleich'!$F16,0)) | P16: =IF('Variantenvergleich'!$A16="","",MIN('Variantenvergleich'!$J16,'Variantenvergleich'!$F16*65%)) | Q16: =IF('Variantenvergleich'!$A16="","",MAX(0,'Variantenvergleich'!$J16-'Variantenvergleich'!$P16)) | R16: =IF('Variantenvergleich'!$A16="","",'Variantenvergleich'!$J16*'Variantenvergleich'!$K16) | S16: =IF('Variantenvergleich'!$A16="","",IF('Variantenvergleich'!$Q16>0,IFERROR('Variantenvergleich'!$Q16/'Variantenvergleich'!$M16,0),0)) | T16: =IF('Variantenvergleich'!$A16="","",'Variantenvergleich'!$F16*'Variantenvergleich'!$N16) | U16: =IF('Variantenvergleich'!$A16="","",SUM('Variantenvergleich'!$R16:'Variantenvergleich'!$T16)) | V16: =IF('Variantenvergleich'!$A16="","",IFERROR('Variantenvergleich'!$U16/12,0)) | W16: =IF('Variantenvergleich'!$A16="","",IFERROR('Variantenvergleich'!$U16/'Variantenvergleich'!$I16,0)) | X16: =IF('Variantenvergleich'!$A16="","",IF('Variantenvergleich'!$W16<=33%,"Erfüllt","Nicht erfüllt")) | Y16: =IF('Variantenvergleich'!$A16="","",IF(AND('Variantenvergleich'!$W16<=33%,'Variantenvergleich'!$O16<=80%),"Finanzierung realistisch","Finanzierung prüfen")) | Z16: =IF('Variantenvergleich'!$A16="","",IFERROR(VLOOKUP('Variantenvergleich'!$E16,'Variantenvergleich'!$AD$4:$AF$12,2,FALSE),"")) | AA16: =IF('Variantenvergleich'!$A16="","",IFERROR((('Variantenvergleich'!$J16*'Variantenvergleich'!$L16)+'Variantenvergleich'!$S16+'Variantenvergleich'!$T16)/'Variantenvergleich'!$I16,0)) | AB16: =IF('Variantenvergleich'!$A16="","",IF('Variantenvergleich'!$AA16<=33%,"Erfüllt","Nicht erfüllt"))
J17: =IF('Variantenvergleich'!$A17="","",'Variantenvergleich'!$F17-'Variantenvergleich'!$G17-'Variantenvergleich'!$H17) | O17: =IF('Variantenvergleich'!$A17="","",IFERROR('Variantenvergleich'!$J17/'Variantenvergleich'!$F17,0)) | P17: =IF('Variantenvergleich'!$A17="","",MIN('Variantenvergleich'!$J17,'Variantenvergleich'!$F17*65%)) | Q17: =IF('Variantenvergleich'!$A17="","",MAX(0,'Variantenvergleich'!$J17-'Variantenvergleich'!$P17)) | R17: =IF('Variantenvergleich'!$A17="","",'Variantenvergleich'!$J17*'Variantenvergleich'!$K17) | S17: =IF('Variantenvergleich'!$A17="","",IF('Variantenvergleich'!$Q17>0,IFERROR('Variantenvergleich'!$Q17/'Variantenvergleich'!$M17,0),0)) | T17: =IF('Variantenvergleich'!$A17="","",'Variantenvergleich'!$F17*'Variantenvergleich'!$N17) | U17: =IF('Variantenvergleich'!$A17="","",SUM('Variantenvergleich'!$R17:'Variantenvergleich'!$T17)) | V17: =IF('Variantenvergleich'!$A17="","",IFERROR('Variantenvergleich'!$U17/12,0)) | W17: =IF('Variantenvergleich'!$A17="","",IFERROR('Variantenvergleich'!$U17/'Variantenvergleich'!$I17,0)) | X17: =IF('Variantenvergleich'!$A17="","",IF('Variantenvergleich'!$W17<=33%,"Erfüllt","Nicht erfüllt")) | Y17: =IF('Variantenvergleich'!$A17="","",IF(AND('Variantenvergleich'!$W17<=33%,'Variantenvergleich'!$O17<=80%),"Finanzierung realistisch","Finanzierung prüfen")) | Z17: =IF('Variantenvergleich'!$A17="","",IFERROR(VLOOKUP('Variantenvergleich'!$E17,'Variantenvergleich'!$AD$4:$AF$12,2,FALSE),"")) | AA17: =IF('Variantenvergleich'!$A17="","",IFERROR((('Variantenvergleich'!$J17*'Variantenvergleich'!$L17)+'Variantenvergleich'!$S17+'Variantenvergleich'!$T17)/'Variantenvergleich'!$I17,0)) | AB17: =IF('Variantenvergleich'!$A17="","",IF('Variantenvergleich'!$AA17<=33%,"Erfüllt","Nicht erfüllt"))
J18: =IF('Variantenvergleich'!$A18="","",'Variantenvergleich'!$F18-'Variantenvergleich'!$G18-'Variantenvergleich'!$H18) | O18: =IF('Variantenvergleich'!$A18="","",IFERROR('Variantenvergleich'!$J18/'Variantenvergleich'!$F18,0)) | P18: =IF('Variantenvergleich'!$A18="","",MIN('Variantenvergleich'!$J18,'Variantenvergleich'!$F18*65%)) | Q18: =IF('Variantenvergleich'!$A18="","",MAX(0,'Variantenvergleich'!$J18-'Variantenvergleich'!$P18)) | R18: =IF('Variantenvergleich'!$A18="","",'Variantenvergleich'!$J18*'Variantenvergleich'!$K18) | S18: =IF('Variantenvergleich'!$A18="","",IF('Variantenvergleich'!$Q18>0,IFERROR('Variantenvergleich'!$Q18/'Variantenvergleich'!$M18,0),0)) | T18: =IF('Variantenvergleich'!$A18="","",'Variantenvergleich'!$F18*'Variantenvergleich'!$N18) | U18: =IF('Variantenvergleich'!$A18="","",SUM('Variantenvergleich'!$R18:'Variantenvergleich'!$T18)) | V18: =IF('Variantenvergleich'!$A18="","",IFERROR('Variantenvergleich'!$U18/12,0)) | W18: =IF('Variantenvergleich'!$A18="","",IFERROR('Variantenvergleich'!$U18/'Variantenvergleich'!$I18,0)) | X18: =IF('Variantenvergleich'!$A18="","",IF('Variantenvergleich'!$W18<=33%,"Erfüllt","Nicht erfüllt")) | Y18: =IF('Variantenvergleich'!$A18="","",IF(AND('Variantenvergleich'!$W18<=33%,'Variantenvergleich'!$O18<=80%),"Finanzierung realistisch","Finanzierung prüfen")) | Z18: =IF('Variantenvergleich'!$A18="","",IFERROR(VLOOKUP('Variantenvergleich'!$E18,'Variantenvergleich'!$AD$4:$AF$12,2,FALSE),"")) | AA18: =IF('Variantenvergleich'!$A18="","",IFERROR((('Variantenvergleich'!$J18*'Variantenvergleich'!$L18)+'Variantenvergleich'!$S18+'Variantenvergleich'!$T18)/'Variantenvergleich'!$I18,0)) | AB18: =IF('Variantenvergleich'!$A18="","",IF('Variantenvergleich'!$AA18<=33%,"Erfüllt","Nicht erfüllt"))
J19: =IF('Variantenvergleich'!$A19="","",'Variantenvergleich'!$F19-'Variantenvergleich'!$G19-'Variantenvergleich'!$H19) | O19: =IF('Variantenvergleich'!$A19="","",IFERROR('Variantenvergleich'!$J19/'Variantenvergleich'!$F19,0)) | P19: =IF('Variantenvergleich'!$A19="","",MIN('Variantenvergleich'!$J19,'Variantenvergleich'!$F19*65%)) | Q19: =IF('Variantenvergleich'!$A19="","",MAX(0,'Variantenvergleich'!$J19-'Variantenvergleich'!$P19)) | R19: =IF('Variantenvergleich'!$A19="","",'Variantenvergleich'!$J19*'Variantenvergleich'!$K19) | S19: =IF('Variantenvergleich'!$A19="","",IF('Variantenvergleich'!$Q19>0,IFERROR('Variantenvergleich'!$Q19/'Variantenvergleich'!$M19,0),0)) | T19: =IF('Variantenvergleich'!$A19="","",'Variantenvergleich'!$F19*'Variantenvergleich'!$N19) | U19: =IF('Variantenvergleich'!$A19="","",SUM('Variantenvergleich'!$R19:'Variantenvergleich'!$T19)) | V19: =IF('Variantenvergleich'!$A19="","",IFERROR('Variantenvergleich'!$U19/12,0)) | W19: =IF('Variantenvergleich'!$A19="","",IFERROR('Variantenvergleich'!$U19/'Variantenvergleich'!$I19,0)) | X19: =IF('Variantenvergleich'!$A19="","",IF('Variantenvergleich'!$W19<=33%,"Erfüllt","Nicht erfüllt")) | Y19: =IF('Variantenvergleich'!$A19="","",IF(AND('Variantenvergleich'!$W19<=33%,'Variantenvergleich'!$O19<=80%),"Finanzierung realistisch","Finanzierung prüfen")) | Z19: =IF('Variantenvergleich'!$A19="","",IFERROR(VLOOKUP('Variantenvergleich'!$E19,'Variantenvergleich'!$AD$4:$AF$12,2,FALSE),"")) | AA19: =IF('Variantenvergleich'!$A19="","",IFERROR((('Variantenvergleich'!$J19*'Variantenvergleich'!$L19)+'Variantenvergleich'!$S19+'Variantenvergleich'!$T19)/'Variantenvergleich'!$I19,0)) | AB19: =IF('Variantenvergleich'!$A19="","",IF('Variantenvergleich'!$AA19<=33%,"Erfüllt","Nicht erfüllt"))
J20: =IF('Variantenvergleich'!$A20="","",'Variantenvergleich'!$F20-'Variantenvergleich'!$G20-'Variantenvergleich'!$H20) | O20: =IF('Variantenvergleich'!$A20="","",IFERROR('Variantenvergleich'!$J20/'Variantenvergleich'!$F20,0)) | P20: =IF('Variantenvergleich'!$A20="","",MIN('Variantenvergleich'!$J20,'Variantenvergleich'!$F20*65%)) | Q20: =IF('Variantenvergleich'!$A20="","",MAX(0,'Variantenvergleich'!$J20-'Variantenvergleich'!$P20)) | R20: =IF('Variantenvergleich'!$A20="","",'Variantenvergleich'!$J20*'Variantenvergleich'!$K20) | S20: =IF('Variantenvergleich'!$A20="","",IF('Variantenvergleich'!$Q20>0,IFERROR('Variantenvergleich'!$Q20/'Variantenvergleich'!$M20,0),0)) | T20: =IF('Variantenvergleich'!$A20="","",'Variantenvergleich'!$F20*'Variantenvergleich'!$N20) | U20: =IF('Variantenvergleich'!$A20="","",SUM('Variantenvergleich'!$R20:'Variantenvergleich'!$T20)) | V20: =IF('Variantenvergleich'!$A20="","",IFERROR('Variantenvergleich'!$U20/12,0)) | W20: =IF('Variantenvergleich'!$A20="","",IFERROR('Variantenvergleich'!$U20/'Variantenvergleich'!$I20,0)) | X20: =IF('Variantenvergleich'!$A20="","",IF('Variantenvergleich'!$W20<=33%,"Erfüllt","Nicht erfüllt")) | Y20: =IF('Variantenvergleich'!$A20="","",IF(AND('Variantenvergleich'!$W20<=33%,'Variantenvergleich'!$O20<=80%),"Finanzierung realistisch","Finanzierung prüfen")) | Z20: =IF('Variantenvergleich'!$A20="","",IFERROR(VLOOKUP('Variantenvergleich'!$E20,'Variantenvergleich'!$AD$4:$AF$12,2,FALSE),"")) | AA20: =IF('Variantenvergleich'!$A20="","",IFERROR((('Variantenvergleich'!$J20*'Variantenvergleich'!$L20)+'Variantenvergleich'!$S20+'Variantenvergleich'!$T20)/'Variantenvergleich'!$I20,0)) | AB20: =IF('Variantenvergleich'!$A20="","",IF('Variantenvergleich'!$AA20<=33%,"Erfüllt","Nicht erfüllt"))
J21: =IF('Variantenvergleich'!$A21="","",'Variantenvergleich'!$F21-'Variantenvergleich'!$G21-'Variantenvergleich'!$H21) | O21: =IF('Variantenvergleich'!$A21="","",IFERROR('Variantenvergleich'!$J21/'Variantenvergleich'!$F21,0)) | P21: =IF('Variantenvergleich'!$A21="","",MIN('Variantenvergleich'!$J21,'Variantenvergleich'!$F21*65%)) | Q21: =IF('Variantenvergleich'!$A21="","",MAX(0,'Variantenvergleich'!$J21-'Variantenvergleich'!$P21)) | R21: =IF('Variantenvergleich'!$A21="","",'Variantenvergleich'!$J21*'Variantenvergleich'!$K21) | S21: =IF('Variantenvergleich'!$A21="","",IF('Variantenvergleich'!$Q21>0,IFERROR('Variantenvergleich'!$Q21/'Variantenvergleich'!$M21,0),0)) | T21: =IF('Variantenvergleich'!$A21="","",'Variantenvergleich'!$F21*'Variantenvergleich'!$N21) | U21: =IF('Variantenvergleich'!$A21="","",SUM('Variantenvergleich'!$R21:'Variantenvergleich'!$T21)) | V21: =IF('Variantenvergleich'!$A21="","",IFERROR('Variantenvergleich'!$U21/12,0)) | W21: =IF('Variantenvergleich'!$A21="","",IFERROR('Variantenvergleich'!$U21/'Variantenvergleich'!$I21,0)) | X21: =IF('Variantenvergleich'!$A21="","",IF('Variantenvergleich'!$W21<=33%,"Erfüllt","Nicht erfüllt")) | Y21: =IF('Variantenvergleich'!$A21="","",IF(AND('Variantenvergleich'!$W21<=33%,'Variantenvergleich'!$O21<=80%),"Finanzierung realistisch","Finanzierung prüfen")) | Z21: =IF('Variantenvergleich'!$A21="","",IFERROR(VLOOKUP('Variantenvergleich'!$E21,'Variantenvergleich'!$AD$4:$AF$12,2,FALSE),"")) | AA21: =IF('Variantenvergleich'!$A21="","",IFERROR((('Variantenvergleich'!$J21*'Variantenvergleich'!$L21)+'Variantenvergleich'!$S21+'Variantenvergleich'!$T21)/'Variantenvergleich'!$I21,0)) | AB21: =IF('Variantenvergleich'!$A21="","",IF('Variantenvergleich'!$AA21<=33%,"Erfüllt","Nicht erfüllt"))
J22: =IF('Variantenvergleich'!$A22="","",'Variantenvergleich'!$F22-'Variantenvergleich'!$G22-'Variantenvergleich'!$H22) | O22: =IF('Variantenvergleich'!$A22="","",IFERROR('Variantenvergleich'!$J22/'Variantenvergleich'!$F22,0)) | P22: =IF('Variantenvergleich'!$A22="","",MIN('Variantenvergleich'!$J22,'Variantenvergleich'!$F22*65%)) | Q22: =IF('Variantenvergleich'!$A22="","",MAX(0,'Variantenvergleich'!$J22-'Variantenvergleich'!$P22)) | R22: =IF('Variantenvergleich'!$A22="","",'Variantenvergleich'!$J22*'Variantenvergleich'!$K22) | S22: =IF('Variantenvergleich'!$A22="","",IF('Variantenvergleich'!$Q22>0,IFERROR('Variantenvergleich'!$Q22/'Variantenvergleich'!$M22,0),0)) | T22: =IF('Variantenvergleich'!$A22="","",'Variantenvergleich'!$F22*'Variantenvergleich'!$N22) | U22: =IF('Variantenvergleich'!$A22="","",SUM('Variantenvergleich'!$R22:'Variantenvergleich'!$T22)) | V22: =IF('Variantenvergleich'!$A22="","",IFERROR('Variantenvergleich'!$U22/12,0)) | W22: =IF('Variantenvergleich'!$A22="","",IFERROR('Variantenvergleich'!$U22/'Variantenvergleich'!$I22,0)) | X22: =IF('Variantenvergleich'!$A22="","",IF('Variantenvergleich'!$W22<=33%,"Erfüllt","Nicht erfüllt")) | Y22: =IF('Variantenvergleich'!$A22="","",IF(AND('Variantenvergleich'!$W22<=33%,'Variantenvergleich'!$O22<=80%),"Finanzierung realistisch","Finanzierung prüfen")) | Z22: =IF('Variantenvergleich'!$A22="","",IFERROR(VLOOKUP('Variantenvergleich'!$E22,'Variantenvergleich'!$AD$4:$AF$12,2,FALSE),"")) | AA22: =IF('Variantenvergleich'!$A22="","",IFERROR((('Variantenvergleich'!$J22*'Variantenvergleich'!$L22)+'Variantenvergleich'!$S22+'Variantenvergleich'!$T22)/'Variantenvergleich'!$I22,0)) | AB22: =IF('Variantenvergleich'!$A22="","",IF('Variantenvergleich'!$AA22<=33%,"Erfüllt","Nicht erfüllt"))
J23: =IF('Variantenvergleich'!$A23="","",'Variantenvergleich'!$F23-'Variantenvergleich'!$G23-'Variantenvergleich'!$H23) | O23: =IF('Variantenvergleich'!$A23="","",IFERROR('Variantenvergleich'!$J23/'Variantenvergleich'!$F23,0)) | P23: =IF('Variantenvergleich'!$A23="","",MIN('Variantenvergleich'!$J23,'Variantenvergleich'!$F23*65%)) | Q23: =IF('Variantenvergleich'!$A23="","",MAX(0,'Variantenvergleich'!$J23-'Variantenvergleich'!$P23)) | R23: =IF('Variantenvergleich'!$A23="","",'Variantenvergleich'!$J23*'Variantenvergleich'!$K23) | S23: =IF('Variantenvergleich'!$A23="","",IF('Variantenvergleich'!$Q23>0,IFERROR('Variantenvergleich'!$Q23/'Variantenvergleich'!$M23,0),0)) | T23: =IF('Variantenvergleich'!$A23="","",'Variantenvergleich'!$F23*'Variantenvergleich'!$N23) | U23: =IF('Variantenvergleich'!$A23="","",SUM('Variantenvergleich'!$R23:'Variantenvergleich'!$T23)) | V23: =IF('Variantenvergleich'!$A23="","",IFERROR('Variantenvergleich'!$U23/12,0)) | W23: =IF('Variantenvergleich'!$A23="","",IFERROR('Variantenvergleich'!$U23/'Variantenvergleich'!$I23,0)) | X23: =IF('Variantenvergleich'!$A23="","",IF('Variantenvergleich'!$W23<=33%,"Erfüllt","Nicht erfüllt")) | Y23: =IF('Variantenvergleich'!$A23="","",IF(AND('Variantenvergleich'!$W23<=33%,'Variantenvergleich'!$O23<=80%),"Finanzierung realistisch","Finanzierung prüfen")) | Z23: =IF('Variantenvergleich'!$A23="","",IFERROR(VLOOKUP('Variantenvergleich'!$E23,'Variantenvergleich'!$AD$4:$AF$12,2,FALSE),"")) | AA23: =IF('Variantenvergleich'!$A23="","",IFERROR((('Variantenvergleich'!$J23*'Variantenvergleich'!$L23)+'Variantenvergleich'!$S23+'Variantenvergleich'!$T23)/'Variantenvergleich'!$I23,0)) | AB23: =IF('Variantenvergleich'!$A23="","",IF('Variantenvergleich'!$AA23<=33%,"Erfüllt","Nicht erfüllt"))
J24: =IF('Variantenvergleich'!$A24="","",'Variantenvergleich'!$F24-'Variantenvergleich'!$G24-'Variantenvergleich'!$H24) | O24: =IF('Variantenvergleich'!$A24="","",IFERROR('Variantenvergleich'!$J24/'Variantenvergleich'!$F24,0)) | P24: =IF('Variantenvergleich'!$A24="","",MIN('Variantenvergleich'!$J24,'Variantenvergleich'!$F24*65%)) | Q24: =IF('Variantenvergleich'!$A24="","",MAX(0,'Variantenvergleich'!$J24-'Variantenvergleich'!$P24)) | R24: =IF('Variantenvergleich'!$A24="","",'Variantenvergleich'!$J24*'Variantenvergleich'!$K24) | S24: =IF('Variantenvergleich'!$A24="","",IF('Variantenvergleich'!$Q24>0,IFERROR('Variantenvergleich'!$Q24/'Variantenvergleich'!$M24,0),0)) | T24: =IF('Variantenvergleich'!$A24="","",'Variantenvergleich'!$F24*'Variantenvergleich'!$N24) | U24: =IF('Variantenvergleich'!$A24="","",SUM('Variantenvergleich'!$R24:'Variantenvergleich'!$T24)) | V24: =IF('Variantenvergleich'!$A24="","",IFERROR('Variantenvergleich'!$U24/12,0)) | W24: =IF('Variantenvergleich'!$A24="","",IFERROR('Variantenvergleich'!$U24/'Variantenvergleich'!$I24,0)) | X24: =IF('Variantenvergleich'!$A24="","",IF('Variantenvergleich'!$W24<=33%,"Erfüllt","Nicht erfüllt")) | Y24: =IF('Variantenvergleich'!$A24="","",IF(AND('Variantenvergleich'!$W24<=33%,'Variantenvergleich'!$O24<=80%),"Finanzierung realistisch","Finanzierung prüfen")) | Z24: =IF('Variantenvergleich'!$A24="","",IFERROR(VLOOKUP('Variantenvergleich'!$E24,'Variantenvergleich'!$AD$4:$AF$12,2,FALSE),"")) | AA24: =IF('Variantenvergleich'!$A24="","",IFERROR((('Variantenvergleich'!$J24*'Variantenvergleich'!$L24)+'Variantenvergleich'!$S24+'Variantenvergleich'!$T24)/'Variantenvergleich'!$I24,0)) | AB24: =IF('Variantenvergleich'!$A24="","",IF('Variantenvergleich'!$AA24<=33%,"Erfüllt","Nicht erfüllt"))
... J113: =IF('Variantenvergleich'!$A113="","",'Variantenvergleich'!$F113-'Variantenvergleich'!$G113-'Variantenvergleich'!$H113) | O113: =IF('Variantenvergleich'!$A113="","",IFERROR('Variantenvergleich'!$J113/'Variantenvergleich'!$F113,0)) | P113: =IF('Variantenvergleich'!$A113="","",MIN('Variantenvergleich'!$J113,'Variantenvergleich'!$F113*65%)) | Q113: =IF('Variantenvergleich'!$A113="","",MAX(0,'Variantenvergleich'!$J113-'Variantenvergleich'!$P113)) | R113: =IF('Variantenvergleich'!$A113="","",'Variantenvergleich'!$J113*'Variantenvergleich'!$K113) | S113: =IF('Variantenvergleich'!$A113="","",IF('Variantenvergleich'!$Q113>0,IFERROR('Variantenvergleich'!$Q113/'Variantenvergleich'!$M113,0),0)) | T113: =IF('Variantenvergleich'!$A113="","",'Variantenvergleich'!$F113*'Variantenvergleich'!$N113) | U113: =IF('Variantenvergleich'!$A113="","",SUM('Variantenvergleich'!$R113:'Variantenvergleich'!$T113)) | V113: =IF('Variantenvergleich'!$A113="","",IFERROR('Variantenvergleich'!$U113/12,0)) | W113: =IF('Variantenvergleich'!$A113="","",IFERROR('Variantenvergleich'!$U113/'Variantenvergleich'!$I113,0)) | X113: =IF('Variantenvergleich'!$A113="","",IF('Variantenvergleich'!$W113<=33%,"Erfüllt","Nicht erfüllt")) | Y113: =IF('Variantenvergleich'!$A113="","",IF(AND('Variantenvergleich'!$W113<=33%,'Variantenvergleich'!$O113<=80%),"Finanzierung realistisch","Finanzierung prüfen")) | Z113: =IF('Variantenvergleich'!$A113="","",IFERROR(VLOOKUP('Variantenvergleich'!$E113,'Variantenvergleich'!$AD$4:$AF$12,2,FALSE),"")) | AA113: =IF('Variantenvergleich'!$A113="","",IFERROR((('Variantenvergleich'!$J113*'Variantenvergleich'!$L113)+'Variantenvergleich'!$S113+'Variantenvergleich'!$T113)/'Variantenvergleich'!$I113,0)) | AB113: =IF('Variantenvergleich'!$A113="","",IF('Variantenvergleich'!$AA113<=33%,"Erfüllt","Nicht erfüllt"))

Sheet Dashboard
A1: Dashboard Hypothekenvergleich
A2: Kennzahlen und Visualisierungen aus dem Variantenvergleich
A4: Kennzahl | B4: Wert
A5: Anzahl Szenarien | B5: =COUNTA('Variantenvergleich'!$A$4:$A$113)
A6: Durchschnittlicher Kaufpreis | B6: =IFERROR(AVERAGE('Variantenvergleich'!$F$4:$F$113),0)
A7: Durchschnittliche Tragbarkeit | B7: =IFERROR(AVERAGE('Variantenvergleich'!$W$4:$W$113),0)
A8: Anzahl erfüllte Finanzierungen | B8: =COUNTIF('Variantenvergleich'!$X$4:$X$113,"Erfüllt")
A9: Durchschnittliche monatliche Wohnkosten | B9: =IFERROR(AVERAGE('Variantenvergleich'!$V$4:$V$113),0)
H12: Tragbarkeit Status | I12: Anzahl | N12: Jahr | O12: Restschuld Hauptszenario
H13: Erfüllt | I13: =COUNTIF('Variantenvergleich'!$X$4:$X$113,"Erfüllt") | N13: 1 | O13: =IF('Hypothekenrechner'!$K$7="","",MAX(0,'Hypothekenrechner'!$K$7-('Hypothekenrechner'!$K$12*'Dashboard'!$N13)))
H14: Nicht erfüllt | I14: =COUNTIF('Variantenvergleich'!$X$4:$X$113,"Nicht erfüllt") | N14: 2 | O14: =IF('Hypothekenrechner'!$K$7="","",MAX(0,'Hypothekenrechner'!$K$7-('Hypothekenrechner'!$K$12*'Dashboard'!$N14)))
N15: 3 | O15: =IF('Hypothekenrechner'!$K$7="","",MAX(0,'Hypothekenrechner'!$K$7-('Hypothekenrechner'!$K$12*'Dashboard'!$N15)))
N16: 4 | O16: =IF('Hypothekenrechner'!$K$7="","",MAX(0,'Hypothekenrechner'!$K$7-('Hypothekenrechner'!$K$12*'Dashboard'!$N16)))
N17: 5 | O17: =IF('Hypothekenrechner'!$K$7="","",MAX(0,'Hypothekenrechner'!$K$7-('Hypothekenrechner'!$K$12*'Dashboard'!$N17)))
N18: 6 | O18: =IF('Hypothekenrechner'!$K$7="","",MAX(0,'Hypothekenrechner'!$K$7-('Hypothekenrechner'!$K$12*'Dashboard'!$N18)))
N19: 7 | O19: =IF('Hypothekenrechner'!$K$7="","",MAX(0,'Hypothekenrechner'!$K$7-('Hypothekenrechner'!$K$12*'Dashboard'!$N19)))
N20: 8 | O20: =IF('Hypothekenrechner'!$K$7="","",MAX(0,'Hypothekenrechner'!$K$7-('Hypothekenrechner'!$K$12*'Dashboard'!$N20)))
N21: 9 | O21: =IF('Hypothekenrechner'!$K$7="","",MAX(0,'Hypothekenrechner'!$K$7-('Hypothekenrechner'!$K$12*'Dashboard'!$N21)))
N22: 10 | O22: =IF('Hypothekenrechner'!$K$7="","",MAX(0,'Hypothekenrechner'!$K$7-('Hypothekenrechner'!$K$12*'Dashboard'!$N22)))
N23: 11 | O23: =IF('Hypothekenrechner'!$K$7="","",MAX(0,'Hypothekenrechner'!$K$7-('Hypothekenrechner'!$K$12*'Dashboard'!$N23)))
N24: 12 | O24: =IF('Hypothekenrechner'!$K$7="","",MAX(0,'Hypothekenrechner'!$K$7-('Hypothekenrechner'!$K$12*'Dashboard'!$N24)))
N25: 13 | O25: =IF('Hypothekenrechner'!$K$7="","",MAX(0,'Hypothekenrechner'!$K$7-('Hypothekenrechner'!$K$12*'Dashboard'!$N25)))
N26: 14 | O26: =IF('Hypothekenrechner'!$K$7="","",MAX(0,'Hypothekenrechner'!$K$7-('Hypothekenrechner'!$K$12*'Dashboard'!$N26)))
N27: 15 | O27: =IF('Hypothekenrechner'!$K$7="","",MAX(0,'Hypothekenrechner'!$K$7-('Hypothekenrechner'!$K$12*'Dashboard'!$N27)))

Sheet Anleitung
A1: Anleitung zur Hypothekenrechner-Vorlage
A3: Tabellenblatt | B3: Verwendung | D3: Wichtige Hinweise
A4: Hypothekenrechner | B4: Erfassen Sie Kundin/Kunde, Kaufpreis, Eigenmittel, Einkommen, Zinssätze und Nebenkosten in den gelb markierten Feldern. Die grünen Resultatfelder berechnen Hypothek, Amortisation, Wohnkosten und Tragbarkeit automatisch. | D4: Die effektive Tragbarkeit verwendet den effektiven Zinssatz. Die kalkulatorische Tragbarkeit verwendet den separat erfassten kalkulatorischen Zinssatz.
A5: Variantenvergleich | B5: Erfassen oder kopieren Sie neue Finanzierungsszenarien in den gelb markierten Eingabespalten. Für mindestens 100 Zeilen sind Formeln, Datenprüfungen und Formatierungen vorbereitet. | D5: Die Spalten Hypothekarbetrag bis Kalkulatorische Prüfung sind berechnet. Der kantonale Richtwert dient als Orientierung und ist kein verbindlicher Kostenwert.
A6: Dashboard | B6: Das Dashboard zeigt Kennzahlen und Diagramme aus allen belegten Szenarien. Die Diagramme berücksichtigen den gesamten vorbereiteten Datenbereich. | D6: Leere Zeilen werden durch blank-sichere Formeln ohne Nullwerte dargestellt.
A7: Anleitung | B7: Diese Seite erläutert die Struktur der Vorlage und die wichtigsten Berechnungslogiken. | D7: Die Tragbarkeit wird in dieser Vorlage mit einer Orientierung von 33 % des Bruttojahreseinkommens bewertet. Individuelle Kreditentscheide erfolgen durch die finanzierende Institution.
A9: Legende | B9: Gelb = Eingabe | Grün = berechnetes Resultat oder erfüllt | Rot = Prüfung oder Tragbarkeit überschritten
