Workbook

Sheet Buchungen
A1: Buchungen – Monatliche Erfolgsrechnung Schweiz
A2: MWST-Hinweis: Normalsatz 8,1 %; reduzierte Sätze 2,6 % und 3,8 %. Diese Vorlage ersetzt keine steuerliche oder buchhalterische Beratung.
A4: Buchungsdatum | B4: Beleg-Nr. | C4: Konto | D4: Kontobezeichnung | E4: Kategorie | F4: Beschreibung | G4: Kunde/Lieferant | H4: Ort | I4: Kanton | J4: Betrag exkl. MWST (CHF) | K4: MWST-Satz | L4: MWST (CHF) | M4: Betrag inkl. MWST (CHF) | N4: Status | O4: Monat
A5: 46027 | B5: ER-26001 | C5: 3000 | D5: =IF($C5="","",IFERROR(VLOOKUP($C5,'Kontenstamm'!$A$2:$D$101,2,FALSE),"")) | E5: =IF($C5="","",IFERROR(VLOOKUP($C5,'Kontenstamm'!$A$2:$D$101,3,FALSE),"")) | F5: Januar-Beratung | G5: Meyer Consulting AG | H5: Zürich | I5: ZH | J5: 18500 | K5: 0.081 | L5: =IF(OR($J5="",$K5=""),"",ROUND($J5*$K5,2)) | M5: =IF(OR($J5="",$L5=""),"",ROUND($J5+$L5,2)) | N5: Bezahlt | O5: =IF($A5="","",TEXT($A5,"MM.YYYY"))
A6: 46034 | B6: ER-26002 | C6: 3200 | D6: =IF($C6="","",IFERROR(VLOOKUP($C6,'Kontenstamm'!$A$2:$D$101,2,FALSE),"")) | E6: =IF($C6="","",IFERROR(VLOOKUP($C6,'Kontenstamm'!$A$2:$D$101,3,FALSE),"")) | F6: Warenverkauf Januar | G6: Berg & Tal GmbH | H6: Bern | I6: BE | J6: 7800 | K6: 0.081 | L6: =IF(OR($J6="",$K6=""),"",ROUND($J6*$K6,2)) | M6: =IF(OR($J6="",$L6=""),"",ROUND($J6+$L6,2)) | N6: Bezahlt | O6: =IF($A6="","",TEXT($A6,"MM.YYYY"))
A7: 46053 | B7: AW-26001 | C7: 5000 | D7: =IF($C7="","",IFERROR(VLOOKUP($C7,'Kontenstamm'!$A$2:$D$101,2,FALSE),"")) | E7: =IF($C7="","",IFERROR(VLOOKUP($C7,'Kontenstamm'!$A$2:$D$101,3,FALSE),"")) | F7: Lohnaufwand Januar | G7: Alpina Personal AG | H7: Winterthur | I7: ZH | J7: 12400 | K7: 0 | L7: =IF(OR($J7="",$K7=""),"",ROUND($J7*$K7,2)) | M7: =IF(OR($J7="",$L7=""),"",ROUND($J7+$L7,2)) | N7: Bezahlt | O7: =IF($A7="","",TEXT($A7,"MM.YYYY"))
A8: 46053 | B8: AW-26002 | C8: 6000 | D8: =IF($C8="","",IFERROR(VLOOKUP($C8,'Kontenstamm'!$A$2:$D$101,2,FALSE),"")) | E8: =IF($C8="","",IFERROR(VLOOKUP($C8,'Kontenstamm'!$A$2:$D$101,3,FALSE),"")) | F8: Miete Geschäftsräume | G8: Immobilien Zürich AG | H8: Zürich | I8: ZH | J8: 2950 | K8: 0.081 | L8: =IF(OR($J8="",$K8=""),"",ROUND($J8*$K8,2)) | M8: =IF(OR($J8="",$L8=""),"",ROUND($J8+$L8,2)) | N8: Bezahlt | O8: =IF($A8="","",TEXT($A8,"MM.YYYY"))
A9: 46056 | B9: ER-26003 | C9: 3000 | D9: =IF($C9="","",IFERROR(VLOOKUP($C9,'Kontenstamm'!$A$2:$D$101,2,FALSE),"")) | E9: =IF($C9="","",IFERROR(VLOOKUP($C9,'Kontenstamm'!$A$2:$D$101,3,FALSE),"")) | F9: Beratungsmandat Februar | G9: Léman Solutions SA | H9: Lausanne | I9: VD | J9: 21300 | K9: 0.081 | L9: =IF(OR($J9="",$K9=""),"",ROUND($J9*$K9,2)) | M9: =IF(OR($J9="",$L9=""),"",ROUND($J9+$L9,2)) | N9: Offen | O9: =IF($A9="","",TEXT($A9,"MM.YYYY"))
A10: 46067 | B10: AW-26003 | C10: 6100 | D10: =IF($C10="","",IFERROR(VLOOKUP($C10,'Kontenstamm'!$A$2:$D$101,2,FALSE),"")) | E10: =IF($C10="","",IFERROR(VLOOKUP($C10,'Kontenstamm'!$A$2:$D$101,3,FALSE),"")) | F10: Digitale Kampagne | G10: Agence Rhône Sàrl | H10: Genf | I10: GE | J10: 1850 | K10: 0.081 | L10: =IF(OR($J10="",$K10=""),"",ROUND($J10*$K10,2)) | M10: =IF(OR($J10="",$L10=""),"",ROUND($J10+$L10,2)) | N10: Bezahlt | O10: =IF($A10="","",TEXT($A10,"MM.YYYY"))
A11: 46081 | B11: AW-26004 | C11: 6200 | D11: =IF($C11="","",IFERROR(VLOOKUP($C11,'Kontenstamm'!$A$2:$D$101,2,FALSE),"")) | E11: =IF($C11="","",IFERROR(VLOOKUP($C11,'Kontenstamm'!$A$2:$D$101,3,FALSE),"")) | F11: Software-Abonnement | G11: CloudWerk GmbH | H11: Basel | I11: BS | J11: 1260 | K11: 0.081 | L11: =IF(OR($J11="",$K11=""),"",ROUND($J11*$K11,2)) | M11: =IF(OR($J11="",$L11=""),"",ROUND($J11+$L11,2)) | N11: Bezahlt | O11: =IF($A11="","",TEXT($A11,"MM.YYYY"))
A12: 46081 | B12: AW-26005 | C12: 6300 | D12: =IF($C12="","",IFERROR(VLOOKUP($C12,'Kontenstamm'!$A$2:$D$101,2,FALSE),"")) | E12: =IF($C12="","",IFERROR(VLOOKUP($C12,'Kontenstamm'!$A$2:$D$101,3,FALSE),"")) | F12: Betriebsversicherung | G12: Helvetia Versicherungen | H12: Luzern | I12: LU | J12: 980 | K12: 0 | L12: =IF(OR($J12="",$K12=""),"",ROUND($J12*$K12,2)) | M12: =IF(OR($J12="",$L12=""),"",ROUND($J12+$L12,2)) | N12: Abgrenzung | O12: =IF($A12="","",TEXT($A12,"MM.YYYY"))
A13: 46086 | B13: ER-26006 | C13: 3000 | D13: =IF($C13="","",IFERROR(VLOOKUP($C13,'Kontenstamm'!$A$2:$D$101,2,FALSE),"")) | E13: =IF($C13="","",IFERROR(VLOOKUP($C13,'Kontenstamm'!$A$2:$D$101,3,FALSE),"")) | F13: Projektumsatz März | G13: Ostschweiz Technik AG | H13: St. Gallen | I13: SG | J13: 16750 | K13: 0.081 | L13: =IF(OR($J13="",$K13=""),"",ROUND($J13*$K13,2)) | M13: =IF(OR($J13="",$L13=""),"",ROUND($J13+$L13,2)) | N13: Offen | O13: =IF($A13="","",TEXT($A13,"MM.YYYY"))
A14: 46112 | B14: AW-26006 | C14: 6800 | D14: =IF($C14="","",IFERROR(VLOOKUP($C14,'Kontenstamm'!$A$2:$D$101,2,FALSE),"")) | E14: =IF($C14="","",IFERROR(VLOOKUP($C14,'Kontenstamm'!$A$2:$D$101,3,FALSE),"")) | F14: Abschreibung Anlagevermögen | G14: Interne Buchhaltung | H14: Zürich | I14: ZH | J14: 2100 | K14: 0 | L14: =IF(OR($J14="",$K14=""),"",ROUND($J14*$K14,2)) | M14: =IF(OR($J14="",$L14=""),"",ROUND($J14+$L14,2)) | N14: Abgrenzung | O14: =IF($A14="","",TEXT($A14,"MM.YYYY"))
D15: =IF($C15="","",IFERROR(VLOOKUP($C15,'Kontenstamm'!$A$2:$D$101,2,FALSE),"")) | E15: =IF($C15="","",IFERROR(VLOOKUP($C15,'Kontenstamm'!$A$2:$D$101,3,FALSE),"")) | L15: =IF(OR($J15="",$K15=""),"",ROUND($J15*$K15,2)) | M15: =IF(OR($J15="",$L15=""),"",ROUND($J15+$L15,2)) | O15: =IF($A15="","",TEXT($A15,"MM.YYYY"))
D16: =IF($C16="","",IFERROR(VLOOKUP($C16,'Kontenstamm'!$A$2:$D$101,2,FALSE),"")) | E16: =IF($C16="","",IFERROR(VLOOKUP($C16,'Kontenstamm'!$A$2:$D$101,3,FALSE),"")) | L16: =IF(OR($J16="",$K16=""),"",ROUND($J16*$K16,2)) | M16: =IF(OR($J16="",$L16=""),"",ROUND($J16+$L16,2)) | O16: =IF($A16="","",TEXT($A16,"MM.YYYY"))
D17: =IF($C17="","",IFERROR(VLOOKUP($C17,'Kontenstamm'!$A$2:$D$101,2,FALSE),"")) | E17: =IF($C17="","",IFERROR(VLOOKUP($C17,'Kontenstamm'!$A$2:$D$101,3,FALSE),"")) | L17: =IF(OR($J17="",$K17=""),"",ROUND($J17*$K17,2)) | M17: =IF(OR($J17="",$L17=""),"",ROUND($J17+$L17,2)) | O17: =IF($A17="","",TEXT($A17,"MM.YYYY"))
D18: =IF($C18="","",IFERROR(VLOOKUP($C18,'Kontenstamm'!$A$2:$D$101,2,FALSE),"")) | E18: =IF($C18="","",IFERROR(VLOOKUP($C18,'Kontenstamm'!$A$2:$D$101,3,FALSE),"")) | L18: =IF(OR($J18="",$K18=""),"",ROUND($J18*$K18,2)) | M18: =IF(OR($J18="",$L18=""),"",ROUND($J18+$L18,2)) | O18: =IF($A18="","",TEXT($A18,"MM.YYYY"))
D19: =IF($C19="","",IFERROR(VLOOKUP($C19,'Kontenstamm'!$A$2:$D$101,2,FALSE),"")) | E19: =IF($C19="","",IFERROR(VLOOKUP($C19,'Kontenstamm'!$A$2:$D$101,3,FALSE),"")) | L19: =IF(OR($J19="",$K19=""),"",ROUND($J19*$K19,2)) | M19: =IF(OR($J19="",$L19=""),"",ROUND($J19+$L19,2)) | O19: =IF($A19="","",TEXT($A19,"MM.YYYY"))
D20: =IF($C20="","",IFERROR(VLOOKUP($C20,'Kontenstamm'!$A$2:$D$101,2,FALSE),"")) | E20: =IF($C20="","",IFERROR(VLOOKUP($C20,'Kontenstamm'!$A$2:$D$101,3,FALSE),"")) | L20: =IF(OR($J20="",$K20=""),"",ROUND($J20*$K20,2)) | M20: =IF(OR($J20="",$L20=""),"",ROUND($J20+$L20,2)) | O20: =IF($A20="","",TEXT($A20,"MM.YYYY"))
D21: =IF($C21="","",IFERROR(VLOOKUP($C21,'Kontenstamm'!$A$2:$D$101,2,FALSE),"")) | E21: =IF($C21="","",IFERROR(VLOOKUP($C21,'Kontenstamm'!$A$2:$D$101,3,FALSE),"")) | L21: =IF(OR($J21="",$K21=""),"",ROUND($J21*$K21,2)) | M21: =IF(OR($J21="",$L21=""),"",ROUND($J21+$L21,2)) | O21: =IF($A21="","",TEXT($A21,"MM.YYYY"))
D22: =IF($C22="","",IFERROR(VLOOKUP($C22,'Kontenstamm'!$A$2:$D$101,2,FALSE),"")) | E22: =IF($C22="","",IFERROR(VLOOKUP($C22,'Kontenstamm'!$A$2:$D$101,3,FALSE),"")) | L22: =IF(OR($J22="",$K22=""),"",ROUND($J22*$K22,2)) | M22: =IF(OR($J22="",$L22=""),"",ROUND($J22+$L22,2)) | O22: =IF($A22="","",TEXT($A22,"MM.YYYY"))
D23: =IF($C23="","",IFERROR(VLOOKUP($C23,'Kontenstamm'!$A$2:$D$101,2,FALSE),"")) | E23: =IF($C23="","",IFERROR(VLOOKUP($C23,'Kontenstamm'!$A$2:$D$101,3,FALSE),"")) | L23: =IF(OR($J23="",$K23=""),"",ROUND($J23*$K23,2)) | M23: =IF(OR($J23="",$L23=""),"",ROUND($J23+$L23,2)) | O23: =IF($A23="","",TEXT($A23,"MM.YYYY"))
D24: =IF($C24="","",IFERROR(VLOOKUP($C24,'Kontenstamm'!$A$2:$D$101,2,FALSE),"")) | E24: =IF($C24="","",IFERROR(VLOOKUP($C24,'Kontenstamm'!$A$2:$D$101,3,FALSE),"")) | L24: =IF(OR($J24="",$K24=""),"",ROUND($J24*$K24,2)) | M24: =IF(OR($J24="",$L24=""),"",ROUND($J24+$L24,2)) | O24: =IF($A24="","",TEXT($A24,"MM.YYYY"))
D25: =IF($C25="","",IFERROR(VLOOKUP($C25,'Kontenstamm'!$A$2:$D$101,2,FALSE),"")) | E25: =IF($C25="","",IFERROR(VLOOKUP($C25,'Kontenstamm'!$A$2:$D$101,3,FALSE),"")) | L25: =IF(OR($J25="",$K25=""),"",ROUND($J25*$K25,2)) | M25: =IF(OR($J25="",$L25=""),"",ROUND($J25+$L25,2)) | O25: =IF($A25="","",TEXT($A25,"MM.YYYY"))
D26: =IF($C26="","",IFERROR(VLOOKUP($C26,'Kontenstamm'!$A$2:$D$101,2,FALSE),"")) | E26: =IF($C26="","",IFERROR(VLOOKUP($C26,'Kontenstamm'!$A$2:$D$101,3,FALSE),"")) | L26: =IF(OR($J26="",$K26=""),"",ROUND($J26*$K26,2)) | M26: =IF(OR($J26="",$L26=""),"",ROUND($J26+$L26,2)) | O26: =IF($A26="","",TEXT($A26,"MM.YYYY"))
... D114: =IF($C114="","",IFERROR(VLOOKUP($C114,'Kontenstamm'!$A$2:$D$101,2,FALSE),"")) | E114: =IF($C114="","",IFERROR(VLOOKUP($C114,'Kontenstamm'!$A$2:$D$101,3,FALSE),"")) | L114: =IF(OR($J114="",$K114=""),"",ROUND($J114*$K114,2)) | M114: =IF(OR($J114="",$L114=""),"",ROUND($J114+$L114,2)) | O114: =IF($A114="","",TEXT($A114,"MM.YYYY"))

Sheet Erfolgsrechnung
A1: Erfolgsrechnung – Geschäftsjahr 2026
A2: Alle Werte exkl. MWST in CHF. Aufwand wird positiv erfasst und für das Ergebnis abgezogen.
A3: Kategorie / Monat | B3: 01.2026 | C3: 02.2026 | D3: 03.2026 | E3: 04.2026 | F3: 05.2026 | G3: 06.2026 | H3: 07.2026 | I3: 08.2026 | J3: 09.2026 | K3: 10.2026 | L3: 11.2026 | M3: 12.2026 | N3: Jahreswert | O3: Anz. Buchungen
A5: Nettoerlöse Dienstleistungen | B5: =SUMIFS('Buchungen'!$J$5:$J$114,'Buchungen'!$E$5:$E$114,$A5,'Buchungen'!$O$5:$O$114,B$3) | C5: =SUMIFS('Buchungen'!$J$5:$J$114,'Buchungen'!$E$5:$E$114,$A5,'Buchungen'!$O$5:$O$114,C$3) | D5: =SUMIFS('Buchungen'!$J$5:$J$114,'Buchungen'!$E$5:$E$114,$A5,'Buchungen'!$O$5:$O$114,D$3) | E5: =SUMIFS('Buchungen'!$J$5:$J$114,'Buchungen'!$E$5:$E$114,$A5,'Buchungen'!$O$5:$O$114,E$3) | F5: =SUMIFS('Buchungen'!$J$5:$J$114,'Buchungen'!$E$5:$E$114,$A5,'Buchungen'!$O$5:$O$114,F$3) | G5: =SUMIFS('Buchungen'!$J$5:$J$114,'Buchungen'!$E$5:$E$114,$A5,'Buchungen'!$O$5:$O$114,G$3) | H5: =SUMIFS('Buchungen'!$J$5:$J$114,'Buchungen'!$E$5:$E$114,$A5,'Buchungen'!$O$5:$O$114,H$3) | I5: =SUMIFS('Buchungen'!$J$5:$J$114,'Buchungen'!$E$5:$E$114,$A5,'Buchungen'!$O$5:$O$114,I$3) | ... M5: =SUMIFS('Buchungen'!$J$5:$J$114,'Buchungen'!$E$5:$E$114,$A5,'Buchungen'!$O$5:$O$114,M$3) | N5: =SUMIF('Buchungen'!$E$5:$E$114,$A5,'Buchungen'!$J$5:$J$114) | O5: =COUNTIF('Buchungen'!$E$5:$E$114,$A5)
A6: Nettoerlöse Waren | B6: =SUMIFS('Buchungen'!$J$5:$J$114,'Buchungen'!$E$5:$E$114,$A6,'Buchungen'!$O$5:$O$114,B$3) | C6: =SUMIFS('Buchungen'!$J$5:$J$114,'Buchungen'!$E$5:$E$114,$A6,'Buchungen'!$O$5:$O$114,C$3) | D6: =SUMIFS('Buchungen'!$J$5:$J$114,'Buchungen'!$E$5:$E$114,$A6,'Buchungen'!$O$5:$O$114,D$3) | E6: =SUMIFS('Buchungen'!$J$5:$J$114,'Buchungen'!$E$5:$E$114,$A6,'Buchungen'!$O$5:$O$114,E$3) | F6: =SUMIFS('Buchungen'!$J$5:$J$114,'Buchungen'!$E$5:$E$114,$A6,'Buchungen'!$O$5:$O$114,F$3) | G6: =SUMIFS('Buchungen'!$J$5:$J$114,'Buchungen'!$E$5:$E$114,$A6,'Buchungen'!$O$5:$O$114,G$3) | H6: =SUMIFS('Buchungen'!$J$5:$J$114,'Buchungen'!$E$5:$E$114,$A6,'Buchungen'!$O$5:$O$114,H$3) | I6: =SUMIFS('Buchungen'!$J$5:$J$114,'Buchungen'!$E$5:$E$114,$A6,'Buchungen'!$O$5:$O$114,I$3) | ... M6: =SUMIFS('Buchungen'!$J$5:$J$114,'Buchungen'!$E$5:$E$114,$A6,'Buchungen'!$O$5:$O$114,M$3) | N6: =SUMIF('Buchungen'!$E$5:$E$114,$A6,'Buchungen'!$J$5:$J$114) | O6: =COUNTIF('Buchungen'!$E$5:$E$114,$A6)
A7: Total Nettoerlöse | B7: =SUM(B5:B6) | C7: =SUM(C5:C6) | D7: =SUM(D5:D6) | E7: =SUM(E5:E6) | F7: =SUM(F5:F6) | G7: =SUM(G5:G6) | H7: =SUM(H5:H6) | I7: =SUM(I5:I6) | ... M7: =SUM(M5:M6) | N7: =SUM(B7:M7)
A8: Material- und Warenaufwand | B8: =SUMIFS('Buchungen'!$J$5:$J$114,'Buchungen'!$E$5:$E$114,$A8,'Buchungen'!$O$5:$O$114,B$3) | C8: =SUMIFS('Buchungen'!$J$5:$J$114,'Buchungen'!$E$5:$E$114,$A8,'Buchungen'!$O$5:$O$114,C$3) | D8: =SUMIFS('Buchungen'!$J$5:$J$114,'Buchungen'!$E$5:$E$114,$A8,'Buchungen'!$O$5:$O$114,D$3) | E8: =SUMIFS('Buchungen'!$J$5:$J$114,'Buchungen'!$E$5:$E$114,$A8,'Buchungen'!$O$5:$O$114,E$3) | F8: =SUMIFS('Buchungen'!$J$5:$J$114,'Buchungen'!$E$5:$E$114,$A8,'Buchungen'!$O$5:$O$114,F$3) | G8: =SUMIFS('Buchungen'!$J$5:$J$114,'Buchungen'!$E$5:$E$114,$A8,'Buchungen'!$O$5:$O$114,G$3) | H8: =SUMIFS('Buchungen'!$J$5:$J$114,'Buchungen'!$E$5:$E$114,$A8,'Buchungen'!$O$5:$O$114,H$3) | I8: =SUMIFS('Buchungen'!$J$5:$J$114,'Buchungen'!$E$5:$E$114,$A8,'Buchungen'!$O$5:$O$114,I$3) | ... M8: =SUMIFS('Buchungen'!$J$5:$J$114,'Buchungen'!$E$5:$E$114,$A8,'Buchungen'!$O$5:$O$114,M$3) | N8: =SUMIF('Buchungen'!$E$5:$E$114,$A8,'Buchungen'!$J$5:$J$114) | O8: =COUNTIF('Buchungen'!$E$5:$E$114,$A8)
A9: Personalaufwand | B9: =SUMIFS('Buchungen'!$J$5:$J$114,'Buchungen'!$E$5:$E$114,$A9,'Buchungen'!$O$5:$O$114,B$3) | C9: =SUMIFS('Buchungen'!$J$5:$J$114,'Buchungen'!$E$5:$E$114,$A9,'Buchungen'!$O$5:$O$114,C$3) | D9: =SUMIFS('Buchungen'!$J$5:$J$114,'Buchungen'!$E$5:$E$114,$A9,'Buchungen'!$O$5:$O$114,D$3) | E9: =SUMIFS('Buchungen'!$J$5:$J$114,'Buchungen'!$E$5:$E$114,$A9,'Buchungen'!$O$5:$O$114,E$3) | F9: =SUMIFS('Buchungen'!$J$5:$J$114,'Buchungen'!$E$5:$E$114,$A9,'Buchungen'!$O$5:$O$114,F$3) | G9: =SUMIFS('Buchungen'!$J$5:$J$114,'Buchungen'!$E$5:$E$114,$A9,'Buchungen'!$O$5:$O$114,G$3) | H9: =SUMIFS('Buchungen'!$J$5:$J$114,'Buchungen'!$E$5:$E$114,$A9,'Buchungen'!$O$5:$O$114,H$3) | I9: =SUMIFS('Buchungen'!$J$5:$J$114,'Buchungen'!$E$5:$E$114,$A9,'Buchungen'!$O$5:$O$114,I$3) | ... M9: =SUMIFS('Buchungen'!$J$5:$J$114,'Buchungen'!$E$5:$E$114,$A9,'Buchungen'!$O$5:$O$114,M$3) | N9: =SUMIF('Buchungen'!$E$5:$E$114,$A9,'Buchungen'!$J$5:$J$114) | O9: =COUNTIF('Buchungen'!$E$5:$E$114,$A9)
A10: Raumaufwand | B10: =SUMIFS('Buchungen'!$J$5:$J$114,'Buchungen'!$E$5:$E$114,$A10,'Buchungen'!$O$5:$O$114,B$3) | C10: =SUMIFS('Buchungen'!$J$5:$J$114,'Buchungen'!$E$5:$E$114,$A10,'Buchungen'!$O$5:$O$114,C$3) | D10: =SUMIFS('Buchungen'!$J$5:$J$114,'Buchungen'!$E$5:$E$114,$A10,'Buchungen'!$O$5:$O$114,D$3) | E10: =SUMIFS('Buchungen'!$J$5:$J$114,'Buchungen'!$E$5:$E$114,$A10,'Buchungen'!$O$5:$O$114,E$3) | F10: =SUMIFS('Buchungen'!$J$5:$J$114,'Buchungen'!$E$5:$E$114,$A10,'Buchungen'!$O$5:$O$114,F$3) | G10: =SUMIFS('Buchungen'!$J$5:$J$114,'Buchungen'!$E$5:$E$114,$A10,'Buchungen'!$O$5:$O$114,G$3) | H10: =SUMIFS('Buchungen'!$J$5:$J$114,'Buchungen'!$E$5:$E$114,$A10,'Buchungen'!$O$5:$O$114,H$3) | I10: =SUMIFS('Buchungen'!$J$5:$J$114,'Buchungen'!$E$5:$E$114,$A10,'Buchungen'!$O$5:$O$114,I$3) | ... M10: =SUMIFS('Buchungen'!$J$5:$J$114,'Buchungen'!$E$5:$E$114,$A10,'Buchungen'!$O$5:$O$114,M$3) | N10: =SUMIF('Buchungen'!$E$5:$E$114,$A10,'Buchungen'!$J$5:$J$114) | O10: =COUNTIF('Buchungen'!$E$5:$E$114,$A10)
A11: Marketingaufwand | B11: =SUMIFS('Buchungen'!$J$5:$J$114,'Buchungen'!$E$5:$E$114,$A11,'Buchungen'!$O$5:$O$114,B$3) | C11: =SUMIFS('Buchungen'!$J$5:$J$114,'Buchungen'!$E$5:$E$114,$A11,'Buchungen'!$O$5:$O$114,C$3) | D11: =SUMIFS('Buchungen'!$J$5:$J$114,'Buchungen'!$E$5:$E$114,$A11,'Buchungen'!$O$5:$O$114,D$3) | E11: =SUMIFS('Buchungen'!$J$5:$J$114,'Buchungen'!$E$5:$E$114,$A11,'Buchungen'!$O$5:$O$114,E$3) | F11: =SUMIFS('Buchungen'!$J$5:$J$114,'Buchungen'!$E$5:$E$114,$A11,'Buchungen'!$O$5:$O$114,F$3) | G11: =SUMIFS('Buchungen'!$J$5:$J$114,'Buchungen'!$E$5:$E$114,$A11,'Buchungen'!$O$5:$O$114,G$3) | H11: =SUMIFS('Buchungen'!$J$5:$J$114,'Buchungen'!$E$5:$E$114,$A11,'Buchungen'!$O$5:$O$114,H$3) | I11: =SUMIFS('Buchungen'!$J$5:$J$114,'Buchungen'!$E$5:$E$114,$A11,'Buchungen'!$O$5:$O$114,I$3) | ... M11: =SUMIFS('Buchungen'!$J$5:$J$114,'Buchungen'!$E$5:$E$114,$A11,'Buchungen'!$O$5:$O$114,M$3) | N11: =SUMIF('Buchungen'!$E$5:$E$114,$A11,'Buchungen'!$J$5:$J$114) | O11: =COUNTIF('Buchungen'!$E$5:$E$114,$A11)
A12: Verwaltungs- und IT-Aufwand | B12: =SUMIFS('Buchungen'!$J$5:$J$114,'Buchungen'!$E$5:$E$114,$A12,'Buchungen'!$O$5:$O$114,B$3) | C12: =SUMIFS('Buchungen'!$J$5:$J$114,'Buchungen'!$E$5:$E$114,$A12,'Buchungen'!$O$5:$O$114,C$3) | D12: =SUMIFS('Buchungen'!$J$5:$J$114,'Buchungen'!$E$5:$E$114,$A12,'Buchungen'!$O$5:$O$114,D$3) | E12: =SUMIFS('Buchungen'!$J$5:$J$114,'Buchungen'!$E$5:$E$114,$A12,'Buchungen'!$O$5:$O$114,E$3) | F12: =SUMIFS('Buchungen'!$J$5:$J$114,'Buchungen'!$E$5:$E$114,$A12,'Buchungen'!$O$5:$O$114,F$3) | G12: =SUMIFS('Buchungen'!$J$5:$J$114,'Buchungen'!$E$5:$E$114,$A12,'Buchungen'!$O$5:$O$114,G$3) | H12: =SUMIFS('Buchungen'!$J$5:$J$114,'Buchungen'!$E$5:$E$114,$A12,'Buchungen'!$O$5:$O$114,H$3) | I12: =SUMIFS('Buchungen'!$J$5:$J$114,'Buchungen'!$E$5:$E$114,$A12,'Buchungen'!$O$5:$O$114,I$3) | ... M12: =SUMIFS('Buchungen'!$J$5:$J$114,'Buchungen'!$E$5:$E$114,$A12,'Buchungen'!$O$5:$O$114,M$3) | N12: =SUMIF('Buchungen'!$E$5:$E$114,$A12,'Buchungen'!$J$5:$J$114) | O12: =COUNTIF('Buchungen'!$E$5:$E$114,$A12)
A13: Versicherungsaufwand | B13: =SUMIFS('Buchungen'!$J$5:$J$114,'Buchungen'!$E$5:$E$114,$A13,'Buchungen'!$O$5:$O$114,B$3) | C13: =SUMIFS('Buchungen'!$J$5:$J$114,'Buchungen'!$E$5:$E$114,$A13,'Buchungen'!$O$5:$O$114,C$3) | D13: =SUMIFS('Buchungen'!$J$5:$J$114,'Buchungen'!$E$5:$E$114,$A13,'Buchungen'!$O$5:$O$114,D$3) | E13: =SUMIFS('Buchungen'!$J$5:$J$114,'Buchungen'!$E$5:$E$114,$A13,'Buchungen'!$O$5:$O$114,E$3) | F13: =SUMIFS('Buchungen'!$J$5:$J$114,'Buchungen'!$E$5:$E$114,$A13,'Buchungen'!$O$5:$O$114,F$3) | G13: =SUMIFS('Buchungen'!$J$5:$J$114,'Buchungen'!$E$5:$E$114,$A13,'Buchungen'!$O$5:$O$114,G$3) | H13: =SUMIFS('Buchungen'!$J$5:$J$114,'Buchungen'!$E$5:$E$114,$A13,'Buchungen'!$O$5:$O$114,H$3) | I13: =SUMIFS('Buchungen'!$J$5:$J$114,'Buchungen'!$E$5:$E$114,$A13,'Buchungen'!$O$5:$O$114,I$3) | ... M13: =SUMIFS('Buchungen'!$J$5:$J$114,'Buchungen'!$E$5:$E$114,$A13,'Buchungen'!$O$5:$O$114,M$3) | N13: =SUMIF('Buchungen'!$E$5:$E$114,$A13,'Buchungen'!$J$5:$J$114) | O13: =COUNTIF('Buchungen'!$E$5:$E$114,$A13)
A14: Abschreibungen | B14: =SUMIFS('Buchungen'!$J$5:$J$114,'Buchungen'!$E$5:$E$114,$A14,'Buchungen'!$O$5:$O$114,B$3) | C14: =SUMIFS('Buchungen'!$J$5:$J$114,'Buchungen'!$E$5:$E$114,$A14,'Buchungen'!$O$5:$O$114,C$3) | D14: =SUMIFS('Buchungen'!$J$5:$J$114,'Buchungen'!$E$5:$E$114,$A14,'Buchungen'!$O$5:$O$114,D$3) | E14: =SUMIFS('Buchungen'!$J$5:$J$114,'Buchungen'!$E$5:$E$114,$A14,'Buchungen'!$O$5:$O$114,E$3) | F14: =SUMIFS('Buchungen'!$J$5:$J$114,'Buchungen'!$E$5:$E$114,$A14,'Buchungen'!$O$5:$O$114,F$3) | G14: =SUMIFS('Buchungen'!$J$5:$J$114,'Buchungen'!$E$5:$E$114,$A14,'Buchungen'!$O$5:$O$114,G$3) | H14: =SUMIFS('Buchungen'!$J$5:$J$114,'Buchungen'!$E$5:$E$114,$A14,'Buchungen'!$O$5:$O$114,H$3) | I14: =SUMIFS('Buchungen'!$J$5:$J$114,'Buchungen'!$E$5:$E$114,$A14,'Buchungen'!$O$5:$O$114,I$3) | ... M14: =SUMIFS('Buchungen'!$J$5:$J$114,'Buchungen'!$E$5:$E$114,$A14,'Buchungen'!$O$5:$O$114,M$3) | N14: =SUMIF('Buchungen'!$E$5:$E$114,$A14,'Buchungen'!$J$5:$J$114) | O14: =COUNTIF('Buchungen'!$E$5:$E$114,$A14)
A15: Total Betriebsaufwand | B15: =SUM(B8:B14) | C15: =SUM(C8:C14) | D15: =SUM(D8:D14) | E15: =SUM(E8:E14) | F15: =SUM(F8:F14) | G15: =SUM(G8:G14) | H15: =SUM(H8:H14) | I15: =SUM(I8:I14) | ... M15: =SUM(M8:M14) | N15: =SUM(B15:M15)
A16: Betriebsergebnis | B16: =B7-B15 | C16: =C7-C15 | D16: =D7-D15 | E16: =E7-E15 | F16: =F7-F15 | G16: =G7-G15 | H16: =H7-H15 | I16: =I7-I15 | ... N16: =N7-N15
A17: Betriebsmarge (%) | B17: =IF(B7=0,0,B16/B7) | C17: =IF(C7=0,0,C16/C7) | D17: =IF(D7=0,0,D16/D7) | E17: =IF(E7=0,0,E16/E7) | F17: =IF(F7=0,0,F16/F7) | G17: =IF(G7=0,0,G16/G7) | H17: =IF(H7=0,0,H16/H7) | I17: =IF(I7=0,0,I16/I7) | ... N17: =IF(N7=0,0,N16/N7)
A18: Finanzerfolg | B18: =SUMIFS('Buchungen'!$J$5:$J$114,'Buchungen'!$E$5:$E$114,$A18,'Buchungen'!$O$5:$O$114,B$3) | C18: =SUMIFS('Buchungen'!$J$5:$J$114,'Buchungen'!$E$5:$E$114,$A18,'Buchungen'!$O$5:$O$114,C$3) | D18: =SUMIFS('Buchungen'!$J$5:$J$114,'Buchungen'!$E$5:$E$114,$A18,'Buchungen'!$O$5:$O$114,D$3) | E18: =SUMIFS('Buchungen'!$J$5:$J$114,'Buchungen'!$E$5:$E$114,$A18,'Buchungen'!$O$5:$O$114,E$3) | F18: =SUMIFS('Buchungen'!$J$5:$J$114,'Buchungen'!$E$5:$E$114,$A18,'Buchungen'!$O$5:$O$114,F$3) | G18: =SUMIFS('Buchungen'!$J$5:$J$114,'Buchungen'!$E$5:$E$114,$A18,'Buchungen'!$O$5:$O$114,G$3) | H18: =SUMIFS('Buchungen'!$J$5:$J$114,'Buchungen'!$E$5:$E$114,$A18,'Buchungen'!$O$5:$O$114,H$3) | I18: =SUMIFS('Buchungen'!$J$5:$J$114,'Buchungen'!$E$5:$E$114,$A18,'Buchungen'!$O$5:$O$114,I$3) | ... M18: =SUMIFS('Buchungen'!$J$5:$J$114,'Buchungen'!$E$5:$E$114,$A18,'Buchungen'!$O$5:$O$114,M$3) | N18: =SUMIF('Buchungen'!$E$5:$E$114,$A18,'Buchungen'!$J$5:$J$114) | O18: =COUNTIF('Buchungen'!$E$5:$E$114,$A18)
A19: Jahresergebnis | B19: =B16+B18 | C19: =C16+C18 | D19: =D16+D18 | E19: =E16+E18 | F19: =F16+F18 | G19: =G16+G18 | H19: =H16+H18 | I19: =I16+I18 | ... N19: =N16+N18
A21: Kennzahlen
A22: Durchschnittlicher Monatsumsatz | B22: =IFERROR(AVERAGE(B7:M7),0)
A23: Anzahl Buchungen | B23: =COUNTIF('Buchungen'!$B$5:$B$114,"<>")
A24: Offene Buchungen | B24: =COUNTIF('Buchungen'!$N$5:$N$114,"Offen")
A25: Betriebsmarge Jahreswert | B25: =IF(N7=0,0,N16/N7)
A27: Monat | B27: Nettoerlöse | C27: Betriebsaufwand | D27: Betriebsergebnis
A28: =B$3 | B28: =B$7 | C28: =B$15 | D28: =B$16
A29: =C$3 | B29: =C$7 | C29: =C$15 | D29: =C$16
A30: =D$3 | B30: =D$7 | C30: =D$15 | D30: =D$16
A31: =E$3 | B31: =E$7 | C31: =E$15 | D31: =E$16
A32: =F$3 | B32: =F$7 | C32: =F$15 | D32: =F$16
A33: =G$3 | B33: =G$7 | C33: =G$15 | D33: =G$16
A34: =H$3 | B34: =H$7 | C34: =H$15 | D34: =H$16
A35: =I$3 | B35: =I$7 | C35: =I$15 | D35: =I$16
A36: =J$3 | B36: =J$7 | C36: =J$15 | D36: =J$16
A37: =K$3 | B37: =K$7 | C37: =K$15 | D37: =K$16
A38: =L$3 | B38: =L$7 | C38: =L$15 | D38: =L$16
A39: =M$3 | B39: =M$7 | C39: =M$15 | D39: =M$16
A42: Aufwandkategorie | B42: Jahresbetrag
A43: =$A$8 | B43: =$N$8
A44: =$A$9 | B44: =$N$9
A45: =$A$10 | B45: =$N$10
...

Sheet Kontenstamm
A1: Kontenstamm – Zuordnung für Erfolgsrechnung
A2: Konto | B2: Kontobezeichnung | C2: Kategorie | D2: Typ | E2: MWST-Hinweis
A3: 3000 | B3: Dienstleistungsertrag | C3: Nettoerlöse Dienstleistungen | D3: Ertrag | E3: 8,1 % Normalsatz
A4: 3200 | B4: Warenverkauf | C4: Nettoerlöse Waren | D4: Ertrag | E4: 8,1 % Normalsatz
A5: 4000 | B5: Material- und Warenaufwand | C5: Material- und Warenaufwand | D5: Aufwand | E5: 8,1 % Normalsatz
A6: 5000 | B6: Personalaufwand | C6: Personalaufwand | D6: Aufwand | E6: 0 %
A7: 6000 | B7: Raumaufwand | C7: Raumaufwand | D7: Aufwand | E7: 8,1 % Normalsatz
A8: 6100 | B8: Marketingaufwand | C8: Marketingaufwand | D8: Aufwand | E8: 8,1 % Normalsatz
A9: 6200 | B9: Verwaltungs- und IT-Aufwand | C9: Verwaltungs- und IT-Aufwand | D9: Aufwand | E9: 8,1 % Normalsatz
A10: 6300 | B10: Versicherungsaufwand | C10: Versicherungsaufwand | D10: Aufwand | E10: 0 %
A11: 6800 | B11: Abschreibungen | C11: Abschreibungen | D11: Aufwand | E11: 0 %
A12: 6900 | B12: Finanzerfolg | C12: Finanzerfolg | D12: Finanzerfolg | E12: 0 %

Sheet Anleitung
A1: Anleitung zur Erfolgsrechnung Vorlage
A3: Bereich | B3: Inhalt | C3: Hinweis
A4: Buchungen | B4: Erfassen Sie jede Ertrags- und Aufwandsbuchung ab Zeile 5. Gelb markierte Zellen sind Eingabefelder. | C4: Kontobezeichnung, Kategorie, MWST und Monat werden automatisch berechnet.
A5: Buchungsdatum | B5: Erfassen Sie das Buchungsdatum im Format TT.MM.JJJJ. | C5: Der Monat wird für die monatliche Auswertung verwendet.
A6: Konto | B6: Wählen Sie ein Konto aus dem Kontenstamm. | C6: Neue Konten können im Blatt Kontenstamm ergänzt werden.
A7: Betrag exkl. MWST | B7: Erfassen Sie den Nettobetrag ohne MWST. | C7: Aufwand und Ertrag werden beide als positive Beträge eingegeben.
A8: MWST-Satz | B8: Verwenden Sie 0 %, 2,6 %, 3,8 % oder 8,1 %. | C8: Der aktuelle Normalsatz beträgt 8,1 %.
A9: Status | B9: Wählen Sie Offen, Bezahlt oder Abgrenzung. | C9: Offene Buchungen werden in den Kennzahlen ausgewiesen.
A10: Erfolgsrechnung | B10: Das Blatt zeigt Nettoerlöse, Betriebsaufwand, Betriebsergebnis und Jahresergebnis nach Monaten. | C10: Die Diagramme verwenden alle zwölf Monate des Geschäftsjahres 2026.
A11: Kontenstamm | B11: Pflegen Sie Konto, Kontobezeichnung, Kategorie und Typ. | C11: Die Kategorien müssen mit den Zeilen der Erfolgsrechnung übereinstimmen.
A12: Fachlicher Hinweis | B12: Diese Vorlage ist eine Arbeitshilfe für Schweizer KMU. | C12: Sie ersetzt keine steuerliche oder buchhalterische Beratung.
