Workbook

Sheet Zeiterfassung
A1: Eintrag-ID | B1: Datum | C1: Mitarbeitende/r | D1: Personal-Nr. | E1: Standort | F1: Kanton | G1: Arbeitsmodell | H1: Sollstunden | I1: Arbeitsbeginn | J1: Arbeitsende | K1: Pause Stunden | L1: Iststunden | M1: Abwesenheitsart | N1: Abwesenheitsstunden | O1: Überzeit / Minderzeit | P1: Überzeit kumuliert | Q1: Erfassungsstatus | R1: Kommentar
A2: =IF('Zeiterfassung'!$B2="","","ZE-"&TEXT(ROW()-1,"0000")) | B2: 46266 | C2: Andrea Keller | D2: =IF('Zeiterfassung'!$C2="","",IFERROR(VLOOKUP('Zeiterfassung'!$C2,'Stammdaten'!$A$2:$F$101,2,FALSE),"")) | E2: =IF('Zeiterfassung'!$C2="","",IFERROR(VLOOKUP('Zeiterfassung'!$C2,'Stammdaten'!$A$2:$F$101,3,FALSE),"")) | F2: =IF('Zeiterfassung'!$C2="","",IFERROR(VLOOKUP('Zeiterfassung'!$C2,'Stammdaten'!$A$2:$F$101,4,FALSE),"")) | G2: =IF('Zeiterfassung'!$C2="","",IFERROR(IF(VLOOKUP('Zeiterfassung'!$C2,'Stammdaten'!$A$2:$F$101,6,FALSE)=1,"Vollzeit",IF(VLOOKUP('Zeiterfassung'!$C2,'Stammdaten'!$A$2:$F$101,6,FALSE)=0.8,"Teilzeit 80 %",IF(VLOOKUP('Zeiterfassung'!$C2,'Stammdaten'!$A$2:$F$101,6,FALSE)=0.85,"Teilzeit 85 %","Teilzeit 60 %"))),"")) | H2: =IF('Zeiterfassung'!$C2="","",IFERROR(VLOOKUP('Zeiterfassung'!$C2,'Stammdaten'!$A$2:$F$101,5,FALSE),"")) | I2: 0.33333333 | J2: 0.71875 | K2: 1 | L2: =IF(OR('Zeiterfassung'!$B2="",'Zeiterfassung'!$C2=""),"",IF(OR('Zeiterfassung'!$I2="",'Zeiterfassung'!$J2=""),0,('Zeiterfassung'!$J2-'Zeiterfassung'!$I2)*24-'Zeiterfassung'!$K2+'Zeiterfassung'!$N2)) | M2: Keine | N2: 0 | O2: =IF('Zeiterfassung'!$B2="","",'Zeiterfassung'!$L2-'Zeiterfassung'!$H2) | P2: =IF('Zeiterfassung'!$B2="","",SUM('Zeiterfassung'!$O$2:'Zeiterfassung'!$O2)) | Q2: =IF(OR('Zeiterfassung'!$B2="",'Zeiterfassung'!$C2=""),"",IF(AND('Zeiterfassung'!$B2<>"",'Zeiterfassung'!$C2<>"",OR('Zeiterfassung'!$L2>0,'Zeiterfassung'!$N2>0)),"Erfasst","Prüfen")) | R2: Projektbesprechung am Nachmittag
A3: =IF('Zeiterfassung'!$B3="","","ZE-"&TEXT(ROW()-1,"0000")) | B3: 46266 | C3: Markus Meier | D3: =IF('Zeiterfassung'!$C3="","",IFERROR(VLOOKUP('Zeiterfassung'!$C3,'Stammdaten'!$A$2:$F$101,2,FALSE),"")) | E3: =IF('Zeiterfassung'!$C3="","",IFERROR(VLOOKUP('Zeiterfassung'!$C3,'Stammdaten'!$A$2:$F$101,3,FALSE),"")) | F3: =IF('Zeiterfassung'!$C3="","",IFERROR(VLOOKUP('Zeiterfassung'!$C3,'Stammdaten'!$A$2:$F$101,4,FALSE),"")) | G3: =IF('Zeiterfassung'!$C3="","",IFERROR(IF(VLOOKUP('Zeiterfassung'!$C3,'Stammdaten'!$A$2:$F$101,6,FALSE)=1,"Vollzeit",IF(VLOOKUP('Zeiterfassung'!$C3,'Stammdaten'!$A$2:$F$101,6,FALSE)=0.8,"Teilzeit 80 %",IF(VLOOKUP('Zeiterfassung'!$C3,'Stammdaten'!$A$2:$F$101,6,FALSE)=0.85,"Teilzeit 85 %","Teilzeit 60 %"))),"")) | H3: =IF('Zeiterfassung'!$C3="","",IFERROR(VLOOKUP('Zeiterfassung'!$C3,'Stammdaten'!$A$2:$F$101,5,FALSE),"")) | I3: 0.34375 | J3: 0.70833333 | K3: 1 | L3: =IF(OR('Zeiterfassung'!$B3="",'Zeiterfassung'!$C3=""),"",IF(OR('Zeiterfassung'!$I3="",'Zeiterfassung'!$J3=""),0,('Zeiterfassung'!$J3-'Zeiterfassung'!$I3)*24-'Zeiterfassung'!$K3+'Zeiterfassung'!$N3)) | M3: Keine | N3: 0 | O3: =IF('Zeiterfassung'!$B3="","",'Zeiterfassung'!$L3-'Zeiterfassung'!$H3) | P3: =IF('Zeiterfassung'!$B3="","",SUM('Zeiterfassung'!$O$2:'Zeiterfassung'!$O3)) | Q3: =IF(OR('Zeiterfassung'!$B3="",'Zeiterfassung'!$C3=""),"",IF(AND('Zeiterfassung'!$B3<>"",'Zeiterfassung'!$C3<>"",OR('Zeiterfassung'!$L3>0,'Zeiterfassung'!$N3>0)),"Erfasst","Prüfen")) | R3: Regelarbeitszeit
A4: =IF('Zeiterfassung'!$B4="","","ZE-"&TEXT(ROW()-1,"0000")) | B4: 46267 | C4: Sandra Müller | D4: =IF('Zeiterfassung'!$C4="","",IFERROR(VLOOKUP('Zeiterfassung'!$C4,'Stammdaten'!$A$2:$F$101,2,FALSE),"")) | E4: =IF('Zeiterfassung'!$C4="","",IFERROR(VLOOKUP('Zeiterfassung'!$C4,'Stammdaten'!$A$2:$F$101,3,FALSE),"")) | F4: =IF('Zeiterfassung'!$C4="","",IFERROR(VLOOKUP('Zeiterfassung'!$C4,'Stammdaten'!$A$2:$F$101,4,FALSE),"")) | G4: =IF('Zeiterfassung'!$C4="","",IFERROR(IF(VLOOKUP('Zeiterfassung'!$C4,'Stammdaten'!$A$2:$F$101,6,FALSE)=1,"Vollzeit",IF(VLOOKUP('Zeiterfassung'!$C4,'Stammdaten'!$A$2:$F$101,6,FALSE)=0.8,"Teilzeit 80 %",IF(VLOOKUP('Zeiterfassung'!$C4,'Stammdaten'!$A$2:$F$101,6,FALSE)=0.85,"Teilzeit 85 %","Teilzeit 60 %"))),"")) | H4: =IF('Zeiterfassung'!$C4="","",IFERROR(VLOOKUP('Zeiterfassung'!$C4,'Stammdaten'!$A$2:$F$101,5,FALSE),"")) | I4: 0.35416667 | J4: 0.66666667 | K4: 0.75 | L4: =IF(OR('Zeiterfassung'!$B4="",'Zeiterfassung'!$C4=""),"",IF(OR('Zeiterfassung'!$I4="",'Zeiterfassung'!$J4=""),0,('Zeiterfassung'!$J4-'Zeiterfassung'!$I4)*24-'Zeiterfassung'!$K4+'Zeiterfassung'!$N4)) | M4: Keine | N4: 0 | O4: =IF('Zeiterfassung'!$B4="","",'Zeiterfassung'!$L4-'Zeiterfassung'!$H4) | P4: =IF('Zeiterfassung'!$B4="","",SUM('Zeiterfassung'!$O$2:'Zeiterfassung'!$O4)) | Q4: =IF(OR('Zeiterfassung'!$B4="",'Zeiterfassung'!$C4=""),"",IF(AND('Zeiterfassung'!$B4<>"",'Zeiterfassung'!$C4<>"",OR('Zeiterfassung'!$L4>0,'Zeiterfassung'!$N4>0)),"Erfasst","Prüfen")) | R4: Teilzeitpensum
A5: =IF('Zeiterfassung'!$B5="","","ZE-"&TEXT(ROW()-1,"0000")) | B5: 46267 | C5: Thomas Frei | D5: =IF('Zeiterfassung'!$C5="","",IFERROR(VLOOKUP('Zeiterfassung'!$C5,'Stammdaten'!$A$2:$F$101,2,FALSE),"")) | E5: =IF('Zeiterfassung'!$C5="","",IFERROR(VLOOKUP('Zeiterfassung'!$C5,'Stammdaten'!$A$2:$F$101,3,FALSE),"")) | F5: =IF('Zeiterfassung'!$C5="","",IFERROR(VLOOKUP('Zeiterfassung'!$C5,'Stammdaten'!$A$2:$F$101,4,FALSE),"")) | G5: =IF('Zeiterfassung'!$C5="","",IFERROR(IF(VLOOKUP('Zeiterfassung'!$C5,'Stammdaten'!$A$2:$F$101,6,FALSE)=1,"Vollzeit",IF(VLOOKUP('Zeiterfassung'!$C5,'Stammdaten'!$A$2:$F$101,6,FALSE)=0.8,"Teilzeit 80 %",IF(VLOOKUP('Zeiterfassung'!$C5,'Stammdaten'!$A$2:$F$101,6,FALSE)=0.85,"Teilzeit 85 %","Teilzeit 60 %"))),"")) | H5: =IF('Zeiterfassung'!$C5="","",IFERROR(VLOOKUP('Zeiterfassung'!$C5,'Stammdaten'!$A$2:$F$101,5,FALSE),"")) | I5: 0.32291667 | J5: 0.71875 | K5: 1 | L5: =IF(OR('Zeiterfassung'!$B5="",'Zeiterfassung'!$C5=""),"",IF(OR('Zeiterfassung'!$I5="",'Zeiterfassung'!$J5=""),0,('Zeiterfassung'!$J5-'Zeiterfassung'!$I5)*24-'Zeiterfassung'!$K5+'Zeiterfassung'!$N5)) | M5: Keine | N5: 0 | O5: =IF('Zeiterfassung'!$B5="","",'Zeiterfassung'!$L5-'Zeiterfassung'!$H5) | P5: =IF('Zeiterfassung'!$B5="","",SUM('Zeiterfassung'!$O$2:'Zeiterfassung'!$O5)) | Q5: =IF(OR('Zeiterfassung'!$B5="",'Zeiterfassung'!$C5=""),"",IF(AND('Zeiterfassung'!$B5<>"",'Zeiterfassung'!$C5<>"",OR('Zeiterfassung'!$L5>0,'Zeiterfassung'!$N5>0)),"Erfasst","Prüfen")) | R5: Kundentermin in Lausanne
A6: =IF('Zeiterfassung'!$B6="","","ZE-"&TEXT(ROW()-1,"0000")) | B6: 46268 | C6: Nicole Wenger | D6: =IF('Zeiterfassung'!$C6="","",IFERROR(VLOOKUP('Zeiterfassung'!$C6,'Stammdaten'!$A$2:$F$101,2,FALSE),"")) | E6: =IF('Zeiterfassung'!$C6="","",IFERROR(VLOOKUP('Zeiterfassung'!$C6,'Stammdaten'!$A$2:$F$101,3,FALSE),"")) | F6: =IF('Zeiterfassung'!$C6="","",IFERROR(VLOOKUP('Zeiterfassung'!$C6,'Stammdaten'!$A$2:$F$101,4,FALSE),"")) | G6: =IF('Zeiterfassung'!$C6="","",IFERROR(IF(VLOOKUP('Zeiterfassung'!$C6,'Stammdaten'!$A$2:$F$101,6,FALSE)=1,"Vollzeit",IF(VLOOKUP('Zeiterfassung'!$C6,'Stammdaten'!$A$2:$F$101,6,FALSE)=0.8,"Teilzeit 80 %",IF(VLOOKUP('Zeiterfassung'!$C6,'Stammdaten'!$A$2:$F$101,6,FALSE)=0.85,"Teilzeit 85 %","Teilzeit 60 %"))),"")) | H6: =IF('Zeiterfassung'!$C6="","",IFERROR(VLOOKUP('Zeiterfassung'!$C6,'Stammdaten'!$A$2:$F$101,5,FALSE),"")) | I6: 0.33333333 | J6: 0.66666667 | K6: 0.75 | L6: =IF(OR('Zeiterfassung'!$B6="",'Zeiterfassung'!$C6=""),"",IF(OR('Zeiterfassung'!$I6="",'Zeiterfassung'!$J6=""),0,('Zeiterfassung'!$J6-'Zeiterfassung'!$I6)*24-'Zeiterfassung'!$K6+'Zeiterfassung'!$N6)) | M6: Keine | N6: 0 | O6: =IF('Zeiterfassung'!$B6="","",'Zeiterfassung'!$L6-'Zeiterfassung'!$H6) | P6: =IF('Zeiterfassung'!$B6="","",SUM('Zeiterfassung'!$O$2:'Zeiterfassung'!$O6)) | Q6: =IF(OR('Zeiterfassung'!$B6="",'Zeiterfassung'!$C6=""),"",IF(AND('Zeiterfassung'!$B6<>"",'Zeiterfassung'!$C6<>"",OR('Zeiterfassung'!$L6>0,'Zeiterfassung'!$N6>0)),"Erfasst","Prüfen")) | R6: Regelarbeitszeit
A7: =IF('Zeiterfassung'!$B7="","","ZE-"&TEXT(ROW()-1,"0000")) | B7: 46268 | C7: Reto Brunner | D7: =IF('Zeiterfassung'!$C7="","",IFERROR(VLOOKUP('Zeiterfassung'!$C7,'Stammdaten'!$A$2:$F$101,2,FALSE),"")) | E7: =IF('Zeiterfassung'!$C7="","",IFERROR(VLOOKUP('Zeiterfassung'!$C7,'Stammdaten'!$A$2:$F$101,3,FALSE),"")) | F7: =IF('Zeiterfassung'!$C7="","",IFERROR(VLOOKUP('Zeiterfassung'!$C7,'Stammdaten'!$A$2:$F$101,4,FALSE),"")) | G7: =IF('Zeiterfassung'!$C7="","",IFERROR(IF(VLOOKUP('Zeiterfassung'!$C7,'Stammdaten'!$A$2:$F$101,6,FALSE)=1,"Vollzeit",IF(VLOOKUP('Zeiterfassung'!$C7,'Stammdaten'!$A$2:$F$101,6,FALSE)=0.8,"Teilzeit 80 %",IF(VLOOKUP('Zeiterfassung'!$C7,'Stammdaten'!$A$2:$F$101,6,FALSE)=0.85,"Teilzeit 85 %","Teilzeit 60 %"))),"")) | H7: =IF('Zeiterfassung'!$C7="","",IFERROR(VLOOKUP('Zeiterfassung'!$C7,'Stammdaten'!$A$2:$F$101,5,FALSE),"")) | I7: 0.33333333 | J7: 0.69791667 | K7: 1 | L7: =IF(OR('Zeiterfassung'!$B7="",'Zeiterfassung'!$C7=""),"",IF(OR('Zeiterfassung'!$I7="",'Zeiterfassung'!$J7=""),0,('Zeiterfassung'!$J7-'Zeiterfassung'!$I7)*24-'Zeiterfassung'!$K7+'Zeiterfassung'!$N7)) | M7: Keine | N7: 0 | O7: =IF('Zeiterfassung'!$B7="","",'Zeiterfassung'!$L7-'Zeiterfassung'!$H7) | P7: =IF('Zeiterfassung'!$B7="","",SUM('Zeiterfassung'!$O$2:'Zeiterfassung'!$O7)) | Q7: =IF(OR('Zeiterfassung'!$B7="",'Zeiterfassung'!$C7=""),"",IF(AND('Zeiterfassung'!$B7<>"",'Zeiterfassung'!$C7<>"",OR('Zeiterfassung'!$L7>0,'Zeiterfassung'!$N7>0)),"Erfasst","Prüfen")) | R7: Interne Weiterbildung
A8: =IF('Zeiterfassung'!$B8="","","ZE-"&TEXT(ROW()-1,"0000")) | B8: 46269 | C8: Claudia Rossi | D8: =IF('Zeiterfassung'!$C8="","",IFERROR(VLOOKUP('Zeiterfassung'!$C8,'Stammdaten'!$A$2:$F$101,2,FALSE),"")) | E8: =IF('Zeiterfassung'!$C8="","",IFERROR(VLOOKUP('Zeiterfassung'!$C8,'Stammdaten'!$A$2:$F$101,3,FALSE),"")) | F8: =IF('Zeiterfassung'!$C8="","",IFERROR(VLOOKUP('Zeiterfassung'!$C8,'Stammdaten'!$A$2:$F$101,4,FALSE),"")) | G8: =IF('Zeiterfassung'!$C8="","",IFERROR(IF(VLOOKUP('Zeiterfassung'!$C8,'Stammdaten'!$A$2:$F$101,6,FALSE)=1,"Vollzeit",IF(VLOOKUP('Zeiterfassung'!$C8,'Stammdaten'!$A$2:$F$101,6,FALSE)=0.8,"Teilzeit 80 %",IF(VLOOKUP('Zeiterfassung'!$C8,'Stammdaten'!$A$2:$F$101,6,FALSE)=0.85,"Teilzeit 85 %","Teilzeit 60 %"))),"")) | H8: =IF('Zeiterfassung'!$C8="","",IFERROR(VLOOKUP('Zeiterfassung'!$C8,'Stammdaten'!$A$2:$F$101,5,FALSE),"")) | I8: 0.35416667 | J8: 0.65625 | K8: 0.75 | L8: =IF(OR('Zeiterfassung'!$B8="",'Zeiterfassung'!$C8=""),"",IF(OR('Zeiterfassung'!$I8="",'Zeiterfassung'!$J8=""),0,('Zeiterfassung'!$J8-'Zeiterfassung'!$I8)*24-'Zeiterfassung'!$K8+'Zeiterfassung'!$N8)) | M8: Keine | N8: 0 | O8: =IF('Zeiterfassung'!$B8="","",'Zeiterfassung'!$L8-'Zeiterfassung'!$H8) | P8: =IF('Zeiterfassung'!$B8="","",SUM('Zeiterfassung'!$O$2:'Zeiterfassung'!$O8)) | Q8: =IF(OR('Zeiterfassung'!$B8="",'Zeiterfassung'!$C8=""),"",IF(AND('Zeiterfassung'!$B8<>"",'Zeiterfassung'!$C8<>"",OR('Zeiterfassung'!$L8>0,'Zeiterfassung'!$N8>0)),"Erfasst","Prüfen")) | R8: Teilzeitpensum
A9: =IF('Zeiterfassung'!$B9="","","ZE-"&TEXT(ROW()-1,"0000")) | B9: 46269 | C9: Stefan Huber | D9: =IF('Zeiterfassung'!$C9="","",IFERROR(VLOOKUP('Zeiterfassung'!$C9,'Stammdaten'!$A$2:$F$101,2,FALSE),"")) | E9: =IF('Zeiterfassung'!$C9="","",IFERROR(VLOOKUP('Zeiterfassung'!$C9,'Stammdaten'!$A$2:$F$101,3,FALSE),"")) | F9: =IF('Zeiterfassung'!$C9="","",IFERROR(VLOOKUP('Zeiterfassung'!$C9,'Stammdaten'!$A$2:$F$101,4,FALSE),"")) | G9: =IF('Zeiterfassung'!$C9="","",IFERROR(IF(VLOOKUP('Zeiterfassung'!$C9,'Stammdaten'!$A$2:$F$101,6,FALSE)=1,"Vollzeit",IF(VLOOKUP('Zeiterfassung'!$C9,'Stammdaten'!$A$2:$F$101,6,FALSE)=0.8,"Teilzeit 80 %",IF(VLOOKUP('Zeiterfassung'!$C9,'Stammdaten'!$A$2:$F$101,6,FALSE)=0.85,"Teilzeit 85 %","Teilzeit 60 %"))),"")) | H9: =IF('Zeiterfassung'!$C9="","",IFERROR(VLOOKUP('Zeiterfassung'!$C9,'Stammdaten'!$A$2:$F$101,5,FALSE),"")) | I9: 0.3125 | J9: 0.70833333 | K9: 1 | L9: =IF(OR('Zeiterfassung'!$B9="",'Zeiterfassung'!$C9=""),"",IF(OR('Zeiterfassung'!$I9="",'Zeiterfassung'!$J9=""),0,('Zeiterfassung'!$J9-'Zeiterfassung'!$I9)*24-'Zeiterfassung'!$K9+'Zeiterfassung'!$N9)) | M9: Keine | N9: 0 | O9: =IF('Zeiterfassung'!$B9="","",'Zeiterfassung'!$L9-'Zeiterfassung'!$H9) | P9: =IF('Zeiterfassung'!$B9="","",SUM('Zeiterfassung'!$O$2:'Zeiterfassung'!$O9)) | Q9: =IF(OR('Zeiterfassung'!$B9="",'Zeiterfassung'!$C9=""),"",IF(AND('Zeiterfassung'!$B9<>"",'Zeiterfassung'!$C9<>"",OR('Zeiterfassung'!$L9>0,'Zeiterfassung'!$N9>0)),"Erfasst","Prüfen")) | R9: Monatsabschluss
A10: =IF('Zeiterfassung'!$B10="","","ZE-"&TEXT(ROW()-1,"0000")) | B10: 46272 | C10: Andrea Keller | D10: =IF('Zeiterfassung'!$C10="","",IFERROR(VLOOKUP('Zeiterfassung'!$C10,'Stammdaten'!$A$2:$F$101,2,FALSE),"")) | E10: =IF('Zeiterfassung'!$C10="","",IFERROR(VLOOKUP('Zeiterfassung'!$C10,'Stammdaten'!$A$2:$F$101,3,FALSE),"")) | F10: =IF('Zeiterfassung'!$C10="","",IFERROR(VLOOKUP('Zeiterfassung'!$C10,'Stammdaten'!$A$2:$F$101,4,FALSE),"")) | G10: =IF('Zeiterfassung'!$C10="","",IFERROR(IF(VLOOKUP('Zeiterfassung'!$C10,'Stammdaten'!$A$2:$F$101,6,FALSE)=1,"Vollzeit",IF(VLOOKUP('Zeiterfassung'!$C10,'Stammdaten'!$A$2:$F$101,6,FALSE)=0.8,"Teilzeit 80 %",IF(VLOOKUP('Zeiterfassung'!$C10,'Stammdaten'!$A$2:$F$101,6,FALSE)=0.85,"Teilzeit 85 %","Teilzeit 60 %"))),"")) | H10: =IF('Zeiterfassung'!$C10="","",IFERROR(VLOOKUP('Zeiterfassung'!$C10,'Stammdaten'!$A$2:$F$101,5,FALSE),"")) | L10: =IF(OR('Zeiterfassung'!$B10="",'Zeiterfassung'!$C10=""),"",IF(OR('Zeiterfassung'!$I10="",'Zeiterfassung'!$J10=""),0,('Zeiterfassung'!$J10-'Zeiterfassung'!$I10)*24-'Zeiterfassung'!$K10+'Zeiterfassung'!$N10)) | M10: Ferien | N10: 8.4 | O10: =IF('Zeiterfassung'!$B10="","",'Zeiterfassung'!$L10-'Zeiterfassung'!$H10) | P10: =IF('Zeiterfassung'!$B10="","",SUM('Zeiterfassung'!$O$2:'Zeiterfassung'!$O10)) | Q10: =IF(OR('Zeiterfassung'!$B10="",'Zeiterfassung'!$C10=""),"",IF(AND('Zeiterfassung'!$B10<>"",'Zeiterfassung'!$C10<>"",OR('Zeiterfassung'!$L10>0,'Zeiterfassung'!$N10>0)),"Erfasst","Prüfen")) | R10: Ferienbezug
A11: =IF('Zeiterfassung'!$B11="","","ZE-"&TEXT(ROW()-1,"0000")) | D11: =IF('Zeiterfassung'!$C11="","",IFERROR(VLOOKUP('Zeiterfassung'!$C11,'Stammdaten'!$A$2:$F$101,2,FALSE),"")) | E11: =IF('Zeiterfassung'!$C11="","",IFERROR(VLOOKUP('Zeiterfassung'!$C11,'Stammdaten'!$A$2:$F$101,3,FALSE),"")) | F11: =IF('Zeiterfassung'!$C11="","",IFERROR(VLOOKUP('Zeiterfassung'!$C11,'Stammdaten'!$A$2:$F$101,4,FALSE),"")) | G11: =IF('Zeiterfassung'!$C11="","",IFERROR(IF(VLOOKUP('Zeiterfassung'!$C11,'Stammdaten'!$A$2:$F$101,6,FALSE)=1,"Vollzeit",IF(VLOOKUP('Zeiterfassung'!$C11,'Stammdaten'!$A$2:$F$101,6,FALSE)=0.8,"Teilzeit 80 %",IF(VLOOKUP('Zeiterfassung'!$C11,'Stammdaten'!$A$2:$F$101,6,FALSE)=0.85,"Teilzeit 85 %","Teilzeit 60 %"))),"")) | H11: =IF('Zeiterfassung'!$C11="","",IFERROR(VLOOKUP('Zeiterfassung'!$C11,'Stammdaten'!$A$2:$F$101,5,FALSE),"")) | L11: =IF(OR('Zeiterfassung'!$B11="",'Zeiterfassung'!$C11=""),"",IF(OR('Zeiterfassung'!$I11="",'Zeiterfassung'!$J11=""),0,('Zeiterfassung'!$J11-'Zeiterfassung'!$I11)*24-'Zeiterfassung'!$K11+'Zeiterfassung'!$N11)) | O11: =IF('Zeiterfassung'!$B11="","",'Zeiterfassung'!$L11-'Zeiterfassung'!$H11) | P11: =IF('Zeiterfassung'!$B11="","",SUM('Zeiterfassung'!$O$2:'Zeiterfassung'!$O11)) | Q11: =IF(OR('Zeiterfassung'!$B11="",'Zeiterfassung'!$C11=""),"",IF(AND('Zeiterfassung'!$B11<>"",'Zeiterfassung'!$C11<>"",OR('Zeiterfassung'!$L11>0,'Zeiterfassung'!$N11>0)),"Erfasst","Prüfen"))
A12: =IF('Zeiterfassung'!$B12="","","ZE-"&TEXT(ROW()-1,"0000")) | D12: =IF('Zeiterfassung'!$C12="","",IFERROR(VLOOKUP('Zeiterfassung'!$C12,'Stammdaten'!$A$2:$F$101,2,FALSE),"")) | E12: =IF('Zeiterfassung'!$C12="","",IFERROR(VLOOKUP('Zeiterfassung'!$C12,'Stammdaten'!$A$2:$F$101,3,FALSE),"")) | F12: =IF('Zeiterfassung'!$C12="","",IFERROR(VLOOKUP('Zeiterfassung'!$C12,'Stammdaten'!$A$2:$F$101,4,FALSE),"")) | G12: =IF('Zeiterfassung'!$C12="","",IFERROR(IF(VLOOKUP('Zeiterfassung'!$C12,'Stammdaten'!$A$2:$F$101,6,FALSE)=1,"Vollzeit",IF(VLOOKUP('Zeiterfassung'!$C12,'Stammdaten'!$A$2:$F$101,6,FALSE)=0.8,"Teilzeit 80 %",IF(VLOOKUP('Zeiterfassung'!$C12,'Stammdaten'!$A$2:$F$101,6,FALSE)=0.85,"Teilzeit 85 %","Teilzeit 60 %"))),"")) | H12: =IF('Zeiterfassung'!$C12="","",IFERROR(VLOOKUP('Zeiterfassung'!$C12,'Stammdaten'!$A$2:$F$101,5,FALSE),"")) | L12: =IF(OR('Zeiterfassung'!$B12="",'Zeiterfassung'!$C12=""),"",IF(OR('Zeiterfassung'!$I12="",'Zeiterfassung'!$J12=""),0,('Zeiterfassung'!$J12-'Zeiterfassung'!$I12)*24-'Zeiterfassung'!$K12+'Zeiterfassung'!$N12)) | O12: =IF('Zeiterfassung'!$B12="","",'Zeiterfassung'!$L12-'Zeiterfassung'!$H12) | P12: =IF('Zeiterfassung'!$B12="","",SUM('Zeiterfassung'!$O$2:'Zeiterfassung'!$O12)) | Q12: =IF(OR('Zeiterfassung'!$B12="",'Zeiterfassung'!$C12=""),"",IF(AND('Zeiterfassung'!$B12<>"",'Zeiterfassung'!$C12<>"",OR('Zeiterfassung'!$L12>0,'Zeiterfassung'!$N12>0)),"Erfasst","Prüfen"))
A13: =IF('Zeiterfassung'!$B13="","","ZE-"&TEXT(ROW()-1,"0000")) | D13: =IF('Zeiterfassung'!$C13="","",IFERROR(VLOOKUP('Zeiterfassung'!$C13,'Stammdaten'!$A$2:$F$101,2,FALSE),"")) | E13: =IF('Zeiterfassung'!$C13="","",IFERROR(VLOOKUP('Zeiterfassung'!$C13,'Stammdaten'!$A$2:$F$101,3,FALSE),"")) | F13: =IF('Zeiterfassung'!$C13="","",IFERROR(VLOOKUP('Zeiterfassung'!$C13,'Stammdaten'!$A$2:$F$101,4,FALSE),"")) | G13: =IF('Zeiterfassung'!$C13="","",IFERROR(IF(VLOOKUP('Zeiterfassung'!$C13,'Stammdaten'!$A$2:$F$101,6,FALSE)=1,"Vollzeit",IF(VLOOKUP('Zeiterfassung'!$C13,'Stammdaten'!$A$2:$F$101,6,FALSE)=0.8,"Teilzeit 80 %",IF(VLOOKUP('Zeiterfassung'!$C13,'Stammdaten'!$A$2:$F$101,6,FALSE)=0.85,"Teilzeit 85 %","Teilzeit 60 %"))),"")) | H13: =IF('Zeiterfassung'!$C13="","",IFERROR(VLOOKUP('Zeiterfassung'!$C13,'Stammdaten'!$A$2:$F$101,5,FALSE),"")) | L13: =IF(OR('Zeiterfassung'!$B13="",'Zeiterfassung'!$C13=""),"",IF(OR('Zeiterfassung'!$I13="",'Zeiterfassung'!$J13=""),0,('Zeiterfassung'!$J13-'Zeiterfassung'!$I13)*24-'Zeiterfassung'!$K13+'Zeiterfassung'!$N13)) | O13: =IF('Zeiterfassung'!$B13="","",'Zeiterfassung'!$L13-'Zeiterfassung'!$H13) | P13: =IF('Zeiterfassung'!$B13="","",SUM('Zeiterfassung'!$O$2:'Zeiterfassung'!$O13)) | Q13: =IF(OR('Zeiterfassung'!$B13="",'Zeiterfassung'!$C13=""),"",IF(AND('Zeiterfassung'!$B13<>"",'Zeiterfassung'!$C13<>"",OR('Zeiterfassung'!$L13>0,'Zeiterfassung'!$N13>0)),"Erfasst","Prüfen"))
A14: =IF('Zeiterfassung'!$B14="","","ZE-"&TEXT(ROW()-1,"0000")) | D14: =IF('Zeiterfassung'!$C14="","",IFERROR(VLOOKUP('Zeiterfassung'!$C14,'Stammdaten'!$A$2:$F$101,2,FALSE),"")) | E14: =IF('Zeiterfassung'!$C14="","",IFERROR(VLOOKUP('Zeiterfassung'!$C14,'Stammdaten'!$A$2:$F$101,3,FALSE),"")) | F14: =IF('Zeiterfassung'!$C14="","",IFERROR(VLOOKUP('Zeiterfassung'!$C14,'Stammdaten'!$A$2:$F$101,4,FALSE),"")) | G14: =IF('Zeiterfassung'!$C14="","",IFERROR(IF(VLOOKUP('Zeiterfassung'!$C14,'Stammdaten'!$A$2:$F$101,6,FALSE)=1,"Vollzeit",IF(VLOOKUP('Zeiterfassung'!$C14,'Stammdaten'!$A$2:$F$101,6,FALSE)=0.8,"Teilzeit 80 %",IF(VLOOKUP('Zeiterfassung'!$C14,'Stammdaten'!$A$2:$F$101,6,FALSE)=0.85,"Teilzeit 85 %","Teilzeit 60 %"))),"")) | H14: =IF('Zeiterfassung'!$C14="","",IFERROR(VLOOKUP('Zeiterfassung'!$C14,'Stammdaten'!$A$2:$F$101,5,FALSE),"")) | L14: =IF(OR('Zeiterfassung'!$B14="",'Zeiterfassung'!$C14=""),"",IF(OR('Zeiterfassung'!$I14="",'Zeiterfassung'!$J14=""),0,('Zeiterfassung'!$J14-'Zeiterfassung'!$I14)*24-'Zeiterfassung'!$K14+'Zeiterfassung'!$N14)) | O14: =IF('Zeiterfassung'!$B14="","",'Zeiterfassung'!$L14-'Zeiterfassung'!$H14) | P14: =IF('Zeiterfassung'!$B14="","",SUM('Zeiterfassung'!$O$2:'Zeiterfassung'!$O14)) | Q14: =IF(OR('Zeiterfassung'!$B14="",'Zeiterfassung'!$C14=""),"",IF(AND('Zeiterfassung'!$B14<>"",'Zeiterfassung'!$C14<>"",OR('Zeiterfassung'!$L14>0,'Zeiterfassung'!$N14>0)),"Erfasst","Prüfen"))
A15: =IF('Zeiterfassung'!$B15="","","ZE-"&TEXT(ROW()-1,"0000")) | D15: =IF('Zeiterfassung'!$C15="","",IFERROR(VLOOKUP('Zeiterfassung'!$C15,'Stammdaten'!$A$2:$F$101,2,FALSE),"")) | E15: =IF('Zeiterfassung'!$C15="","",IFERROR(VLOOKUP('Zeiterfassung'!$C15,'Stammdaten'!$A$2:$F$101,3,FALSE),"")) | F15: =IF('Zeiterfassung'!$C15="","",IFERROR(VLOOKUP('Zeiterfassung'!$C15,'Stammdaten'!$A$2:$F$101,4,FALSE),"")) | G15: =IF('Zeiterfassung'!$C15="","",IFERROR(IF(VLOOKUP('Zeiterfassung'!$C15,'Stammdaten'!$A$2:$F$101,6,FALSE)=1,"Vollzeit",IF(VLOOKUP('Zeiterfassung'!$C15,'Stammdaten'!$A$2:$F$101,6,FALSE)=0.8,"Teilzeit 80 %",IF(VLOOKUP('Zeiterfassung'!$C15,'Stammdaten'!$A$2:$F$101,6,FALSE)=0.85,"Teilzeit 85 %","Teilzeit 60 %"))),"")) | H15: =IF('Zeiterfassung'!$C15="","",IFERROR(VLOOKUP('Zeiterfassung'!$C15,'Stammdaten'!$A$2:$F$101,5,FALSE),"")) | L15: =IF(OR('Zeiterfassung'!$B15="",'Zeiterfassung'!$C15=""),"",IF(OR('Zeiterfassung'!$I15="",'Zeiterfassung'!$J15=""),0,('Zeiterfassung'!$J15-'Zeiterfassung'!$I15)*24-'Zeiterfassung'!$K15+'Zeiterfassung'!$N15)) | O15: =IF('Zeiterfassung'!$B15="","",'Zeiterfassung'!$L15-'Zeiterfassung'!$H15) | P15: =IF('Zeiterfassung'!$B15="","",SUM('Zeiterfassung'!$O$2:'Zeiterfassung'!$O15)) | Q15: =IF(OR('Zeiterfassung'!$B15="",'Zeiterfassung'!$C15=""),"",IF(AND('Zeiterfassung'!$B15<>"",'Zeiterfassung'!$C15<>"",OR('Zeiterfassung'!$L15>0,'Zeiterfassung'!$N15>0)),"Erfasst","Prüfen"))
A16: =IF('Zeiterfassung'!$B16="","","ZE-"&TEXT(ROW()-1,"0000")) | D16: =IF('Zeiterfassung'!$C16="","",IFERROR(VLOOKUP('Zeiterfassung'!$C16,'Stammdaten'!$A$2:$F$101,2,FALSE),"")) | E16: =IF('Zeiterfassung'!$C16="","",IFERROR(VLOOKUP('Zeiterfassung'!$C16,'Stammdaten'!$A$2:$F$101,3,FALSE),"")) | F16: =IF('Zeiterfassung'!$C16="","",IFERROR(VLOOKUP('Zeiterfassung'!$C16,'Stammdaten'!$A$2:$F$101,4,FALSE),"")) | G16: =IF('Zeiterfassung'!$C16="","",IFERROR(IF(VLOOKUP('Zeiterfassung'!$C16,'Stammdaten'!$A$2:$F$101,6,FALSE)=1,"Vollzeit",IF(VLOOKUP('Zeiterfassung'!$C16,'Stammdaten'!$A$2:$F$101,6,FALSE)=0.8,"Teilzeit 80 %",IF(VLOOKUP('Zeiterfassung'!$C16,'Stammdaten'!$A$2:$F$101,6,FALSE)=0.85,"Teilzeit 85 %","Teilzeit 60 %"))),"")) | H16: =IF('Zeiterfassung'!$C16="","",IFERROR(VLOOKUP('Zeiterfassung'!$C16,'Stammdaten'!$A$2:$F$101,5,FALSE),"")) | L16: =IF(OR('Zeiterfassung'!$B16="",'Zeiterfassung'!$C16=""),"",IF(OR('Zeiterfassung'!$I16="",'Zeiterfassung'!$J16=""),0,('Zeiterfassung'!$J16-'Zeiterfassung'!$I16)*24-'Zeiterfassung'!$K16+'Zeiterfassung'!$N16)) | O16: =IF('Zeiterfassung'!$B16="","",'Zeiterfassung'!$L16-'Zeiterfassung'!$H16) | P16: =IF('Zeiterfassung'!$B16="","",SUM('Zeiterfassung'!$O$2:'Zeiterfassung'!$O16)) | Q16: =IF(OR('Zeiterfassung'!$B16="",'Zeiterfassung'!$C16=""),"",IF(AND('Zeiterfassung'!$B16<>"",'Zeiterfassung'!$C16<>"",OR('Zeiterfassung'!$L16>0,'Zeiterfassung'!$N16>0)),"Erfasst","Prüfen"))
A17: =IF('Zeiterfassung'!$B17="","","ZE-"&TEXT(ROW()-1,"0000")) | D17: =IF('Zeiterfassung'!$C17="","",IFERROR(VLOOKUP('Zeiterfassung'!$C17,'Stammdaten'!$A$2:$F$101,2,FALSE),"")) | E17: =IF('Zeiterfassung'!$C17="","",IFERROR(VLOOKUP('Zeiterfassung'!$C17,'Stammdaten'!$A$2:$F$101,3,FALSE),"")) | F17: =IF('Zeiterfassung'!$C17="","",IFERROR(VLOOKUP('Zeiterfassung'!$C17,'Stammdaten'!$A$2:$F$101,4,FALSE),"")) | G17: =IF('Zeiterfassung'!$C17="","",IFERROR(IF(VLOOKUP('Zeiterfassung'!$C17,'Stammdaten'!$A$2:$F$101,6,FALSE)=1,"Vollzeit",IF(VLOOKUP('Zeiterfassung'!$C17,'Stammdaten'!$A$2:$F$101,6,FALSE)=0.8,"Teilzeit 80 %",IF(VLOOKUP('Zeiterfassung'!$C17,'Stammdaten'!$A$2:$F$101,6,FALSE)=0.85,"Teilzeit 85 %","Teilzeit 60 %"))),"")) | H17: =IF('Zeiterfassung'!$C17="","",IFERROR(VLOOKUP('Zeiterfassung'!$C17,'Stammdaten'!$A$2:$F$101,5,FALSE),"")) | L17: =IF(OR('Zeiterfassung'!$B17="",'Zeiterfassung'!$C17=""),"",IF(OR('Zeiterfassung'!$I17="",'Zeiterfassung'!$J17=""),0,('Zeiterfassung'!$J17-'Zeiterfassung'!$I17)*24-'Zeiterfassung'!$K17+'Zeiterfassung'!$N17)) | O17: =IF('Zeiterfassung'!$B17="","",'Zeiterfassung'!$L17-'Zeiterfassung'!$H17) | P17: =IF('Zeiterfassung'!$B17="","",SUM('Zeiterfassung'!$O$2:'Zeiterfassung'!$O17)) | Q17: =IF(OR('Zeiterfassung'!$B17="",'Zeiterfassung'!$C17=""),"",IF(AND('Zeiterfassung'!$B17<>"",'Zeiterfassung'!$C17<>"",OR('Zeiterfassung'!$L17>0,'Zeiterfassung'!$N17>0)),"Erfasst","Prüfen"))
A18: =IF('Zeiterfassung'!$B18="","","ZE-"&TEXT(ROW()-1,"0000")) | D18: =IF('Zeiterfassung'!$C18="","",IFERROR(VLOOKUP('Zeiterfassung'!$C18,'Stammdaten'!$A$2:$F$101,2,FALSE),"")) | E18: =IF('Zeiterfassung'!$C18="","",IFERROR(VLOOKUP('Zeiterfassung'!$C18,'Stammdaten'!$A$2:$F$101,3,FALSE),"")) | F18: =IF('Zeiterfassung'!$C18="","",IFERROR(VLOOKUP('Zeiterfassung'!$C18,'Stammdaten'!$A$2:$F$101,4,FALSE),"")) | G18: =IF('Zeiterfassung'!$C18="","",IFERROR(IF(VLOOKUP('Zeiterfassung'!$C18,'Stammdaten'!$A$2:$F$101,6,FALSE)=1,"Vollzeit",IF(VLOOKUP('Zeiterfassung'!$C18,'Stammdaten'!$A$2:$F$101,6,FALSE)=0.8,"Teilzeit 80 %",IF(VLOOKUP('Zeiterfassung'!$C18,'Stammdaten'!$A$2:$F$101,6,FALSE)=0.85,"Teilzeit 85 %","Teilzeit 60 %"))),"")) | H18: =IF('Zeiterfassung'!$C18="","",IFERROR(VLOOKUP('Zeiterfassung'!$C18,'Stammdaten'!$A$2:$F$101,5,FALSE),"")) | L18: =IF(OR('Zeiterfassung'!$B18="",'Zeiterfassung'!$C18=""),"",IF(OR('Zeiterfassung'!$I18="",'Zeiterfassung'!$J18=""),0,('Zeiterfassung'!$J18-'Zeiterfassung'!$I18)*24-'Zeiterfassung'!$K18+'Zeiterfassung'!$N18)) | O18: =IF('Zeiterfassung'!$B18="","",'Zeiterfassung'!$L18-'Zeiterfassung'!$H18) | P18: =IF('Zeiterfassung'!$B18="","",SUM('Zeiterfassung'!$O$2:'Zeiterfassung'!$O18)) | Q18: =IF(OR('Zeiterfassung'!$B18="",'Zeiterfassung'!$C18=""),"",IF(AND('Zeiterfassung'!$B18<>"",'Zeiterfassung'!$C18<>"",OR('Zeiterfassung'!$L18>0,'Zeiterfassung'!$N18>0)),"Erfasst","Prüfen"))
A19: =IF('Zeiterfassung'!$B19="","","ZE-"&TEXT(ROW()-1,"0000")) | D19: =IF('Zeiterfassung'!$C19="","",IFERROR(VLOOKUP('Zeiterfassung'!$C19,'Stammdaten'!$A$2:$F$101,2,FALSE),"")) | E19: =IF('Zeiterfassung'!$C19="","",IFERROR(VLOOKUP('Zeiterfassung'!$C19,'Stammdaten'!$A$2:$F$101,3,FALSE),"")) | F19: =IF('Zeiterfassung'!$C19="","",IFERROR(VLOOKUP('Zeiterfassung'!$C19,'Stammdaten'!$A$2:$F$101,4,FALSE),"")) | G19: =IF('Zeiterfassung'!$C19="","",IFERROR(IF(VLOOKUP('Zeiterfassung'!$C19,'Stammdaten'!$A$2:$F$101,6,FALSE)=1,"Vollzeit",IF(VLOOKUP('Zeiterfassung'!$C19,'Stammdaten'!$A$2:$F$101,6,FALSE)=0.8,"Teilzeit 80 %",IF(VLOOKUP('Zeiterfassung'!$C19,'Stammdaten'!$A$2:$F$101,6,FALSE)=0.85,"Teilzeit 85 %","Teilzeit 60 %"))),"")) | H19: =IF('Zeiterfassung'!$C19="","",IFERROR(VLOOKUP('Zeiterfassung'!$C19,'Stammdaten'!$A$2:$F$101,5,FALSE),"")) | L19: =IF(OR('Zeiterfassung'!$B19="",'Zeiterfassung'!$C19=""),"",IF(OR('Zeiterfassung'!$I19="",'Zeiterfassung'!$J19=""),0,('Zeiterfassung'!$J19-'Zeiterfassung'!$I19)*24-'Zeiterfassung'!$K19+'Zeiterfassung'!$N19)) | O19: =IF('Zeiterfassung'!$B19="","",'Zeiterfassung'!$L19-'Zeiterfassung'!$H19) | P19: =IF('Zeiterfassung'!$B19="","",SUM('Zeiterfassung'!$O$2:'Zeiterfassung'!$O19)) | Q19: =IF(OR('Zeiterfassung'!$B19="",'Zeiterfassung'!$C19=""),"",IF(AND('Zeiterfassung'!$B19<>"",'Zeiterfassung'!$C19<>"",OR('Zeiterfassung'!$L19>0,'Zeiterfassung'!$N19>0)),"Erfasst","Prüfen"))
A20: =IF('Zeiterfassung'!$B20="","","ZE-"&TEXT(ROW()-1,"0000")) | D20: =IF('Zeiterfassung'!$C20="","",IFERROR(VLOOKUP('Zeiterfassung'!$C20,'Stammdaten'!$A$2:$F$101,2,FALSE),"")) | E20: =IF('Zeiterfassung'!$C20="","",IFERROR(VLOOKUP('Zeiterfassung'!$C20,'Stammdaten'!$A$2:$F$101,3,FALSE),"")) | F20: =IF('Zeiterfassung'!$C20="","",IFERROR(VLOOKUP('Zeiterfassung'!$C20,'Stammdaten'!$A$2:$F$101,4,FALSE),"")) | G20: =IF('Zeiterfassung'!$C20="","",IFERROR(IF(VLOOKUP('Zeiterfassung'!$C20,'Stammdaten'!$A$2:$F$101,6,FALSE)=1,"Vollzeit",IF(VLOOKUP('Zeiterfassung'!$C20,'Stammdaten'!$A$2:$F$101,6,FALSE)=0.8,"Teilzeit 80 %",IF(VLOOKUP('Zeiterfassung'!$C20,'Stammdaten'!$A$2:$F$101,6,FALSE)=0.85,"Teilzeit 85 %","Teilzeit 60 %"))),"")) | H20: =IF('Zeiterfassung'!$C20="","",IFERROR(VLOOKUP('Zeiterfassung'!$C20,'Stammdaten'!$A$2:$F$101,5,FALSE),"")) | L20: =IF(OR('Zeiterfassung'!$B20="",'Zeiterfassung'!$C20=""),"",IF(OR('Zeiterfassung'!$I20="",'Zeiterfassung'!$J20=""),0,('Zeiterfassung'!$J20-'Zeiterfassung'!$I20)*24-'Zeiterfassung'!$K20+'Zeiterfassung'!$N20)) | O20: =IF('Zeiterfassung'!$B20="","",'Zeiterfassung'!$L20-'Zeiterfassung'!$H20) | P20: =IF('Zeiterfassung'!$B20="","",SUM('Zeiterfassung'!$O$2:'Zeiterfassung'!$O20)) | Q20: =IF(OR('Zeiterfassung'!$B20="",'Zeiterfassung'!$C20=""),"",IF(AND('Zeiterfassung'!$B20<>"",'Zeiterfassung'!$C20<>"",OR('Zeiterfassung'!$L20>0,'Zeiterfassung'!$N20>0)),"Erfasst","Prüfen"))
A21: =IF('Zeiterfassung'!$B21="","","ZE-"&TEXT(ROW()-1,"0000")) | D21: =IF('Zeiterfassung'!$C21="","",IFERROR(VLOOKUP('Zeiterfassung'!$C21,'Stammdaten'!$A$2:$F$101,2,FALSE),"")) | E21: =IF('Zeiterfassung'!$C21="","",IFERROR(VLOOKUP('Zeiterfassung'!$C21,'Stammdaten'!$A$2:$F$101,3,FALSE),"")) | F21: =IF('Zeiterfassung'!$C21="","",IFERROR(VLOOKUP('Zeiterfassung'!$C21,'Stammdaten'!$A$2:$F$101,4,FALSE),"")) | G21: =IF('Zeiterfassung'!$C21="","",IFERROR(IF(VLOOKUP('Zeiterfassung'!$C21,'Stammdaten'!$A$2:$F$101,6,FALSE)=1,"Vollzeit",IF(VLOOKUP('Zeiterfassung'!$C21,'Stammdaten'!$A$2:$F$101,6,FALSE)=0.8,"Teilzeit 80 %",IF(VLOOKUP('Zeiterfassung'!$C21,'Stammdaten'!$A$2:$F$101,6,FALSE)=0.85,"Teilzeit 85 %","Teilzeit 60 %"))),"")) | H21: =IF('Zeiterfassung'!$C21="","",IFERROR(VLOOKUP('Zeiterfassung'!$C21,'Stammdaten'!$A$2:$F$101,5,FALSE),"")) | L21: =IF(OR('Zeiterfassung'!$B21="",'Zeiterfassung'!$C21=""),"",IF(OR('Zeiterfassung'!$I21="",'Zeiterfassung'!$J21=""),0,('Zeiterfassung'!$J21-'Zeiterfassung'!$I21)*24-'Zeiterfassung'!$K21+'Zeiterfassung'!$N21)) | O21: =IF('Zeiterfassung'!$B21="","",'Zeiterfassung'!$L21-'Zeiterfassung'!$H21) | P21: =IF('Zeiterfassung'!$B21="","",SUM('Zeiterfassung'!$O$2:'Zeiterfassung'!$O21)) | Q21: =IF(OR('Zeiterfassung'!$B21="",'Zeiterfassung'!$C21=""),"",IF(AND('Zeiterfassung'!$B21<>"",'Zeiterfassung'!$C21<>"",OR('Zeiterfassung'!$L21>0,'Zeiterfassung'!$N21>0)),"Erfasst","Prüfen"))
A22: =IF('Zeiterfassung'!$B22="","","ZE-"&TEXT(ROW()-1,"0000")) | D22: =IF('Zeiterfassung'!$C22="","",IFERROR(VLOOKUP('Zeiterfassung'!$C22,'Stammdaten'!$A$2:$F$101,2,FALSE),"")) | E22: =IF('Zeiterfassung'!$C22="","",IFERROR(VLOOKUP('Zeiterfassung'!$C22,'Stammdaten'!$A$2:$F$101,3,FALSE),"")) | F22: =IF('Zeiterfassung'!$C22="","",IFERROR(VLOOKUP('Zeiterfassung'!$C22,'Stammdaten'!$A$2:$F$101,4,FALSE),"")) | G22: =IF('Zeiterfassung'!$C22="","",IFERROR(IF(VLOOKUP('Zeiterfassung'!$C22,'Stammdaten'!$A$2:$F$101,6,FALSE)=1,"Vollzeit",IF(VLOOKUP('Zeiterfassung'!$C22,'Stammdaten'!$A$2:$F$101,6,FALSE)=0.8,"Teilzeit 80 %",IF(VLOOKUP('Zeiterfassung'!$C22,'Stammdaten'!$A$2:$F$101,6,FALSE)=0.85,"Teilzeit 85 %","Teilzeit 60 %"))),"")) | H22: =IF('Zeiterfassung'!$C22="","",IFERROR(VLOOKUP('Zeiterfassung'!$C22,'Stammdaten'!$A$2:$F$101,5,FALSE),"")) | L22: =IF(OR('Zeiterfassung'!$B22="",'Zeiterfassung'!$C22=""),"",IF(OR('Zeiterfassung'!$I22="",'Zeiterfassung'!$J22=""),0,('Zeiterfassung'!$J22-'Zeiterfassung'!$I22)*24-'Zeiterfassung'!$K22+'Zeiterfassung'!$N22)) | O22: =IF('Zeiterfassung'!$B22="","",'Zeiterfassung'!$L22-'Zeiterfassung'!$H22) | P22: =IF('Zeiterfassung'!$B22="","",SUM('Zeiterfassung'!$O$2:'Zeiterfassung'!$O22)) | Q22: =IF(OR('Zeiterfassung'!$B22="",'Zeiterfassung'!$C22=""),"",IF(AND('Zeiterfassung'!$B22<>"",'Zeiterfassung'!$C22<>"",OR('Zeiterfassung'!$L22>0,'Zeiterfassung'!$N22>0)),"Erfasst","Prüfen"))
... A101: =IF('Zeiterfassung'!$B101="","","ZE-"&TEXT(ROW()-1,"0000")) | D101: =IF('Zeiterfassung'!$C101="","",IFERROR(VLOOKUP('Zeiterfassung'!$C101,'Stammdaten'!$A$2:$F$101,2,FALSE),"")) | E101: =IF('Zeiterfassung'!$C101="","",IFERROR(VLOOKUP('Zeiterfassung'!$C101,'Stammdaten'!$A$2:$F$101,3,FALSE),"")) | F101: =IF('Zeiterfassung'!$C101="","",IFERROR(VLOOKUP('Zeiterfassung'!$C101,'Stammdaten'!$A$2:$F$101,4,FALSE),"")) | G101: =IF('Zeiterfassung'!$C101="","",IFERROR(IF(VLOOKUP('Zeiterfassung'!$C101,'Stammdaten'!$A$2:$F$101,6,FALSE)=1,"Vollzeit",IF(VLOOKUP('Zeiterfassung'!$C101,'Stammdaten'!$A$2:$F$101,6,FALSE)=0.8,"Teilzeit 80 %",IF(VLOOKUP('Zeiterfassung'!$C101,'Stammdaten'!$A$2:$F$101,6,FALSE)=0.85,"Teilzeit 85 %","Teilzeit 60 %"))),"")) | H101: =IF('Zeiterfassung'!$C101="","",IFERROR(VLOOKUP('Zeiterfassung'!$C101,'Stammdaten'!$A$2:$F$101,5,FALSE),"")) | L101: =IF(OR('Zeiterfassung'!$B101="",'Zeiterfassung'!$C101=""),"",IF(OR('Zeiterfassung'!$I101="",'Zeiterfassung'!$J101=""),0,('Zeiterfassung'!$J101-'Zeiterfassung'!$I101)*24-'Zeiterfassung'!$K101+'Zeiterfassung'!$N101)) | O101: =IF('Zeiterfassung'!$B101="","",'Zeiterfassung'!$L101-'Zeiterfassung'!$H101) | P101: =IF('Zeiterfassung'!$B101="","",SUM('Zeiterfassung'!$O$2:'Zeiterfassung'!$O101)) | Q101: =IF(OR('Zeiterfassung'!$B101="",'Zeiterfassung'!$C101=""),"",IF(AND('Zeiterfassung'!$B101<>"",'Zeiterfassung'!$C101<>"",OR('Zeiterfassung'!$L101>0,'Zeiterfassung'!$N101>0)),"Erfasst","Prüfen"))

Sheet Auswertung
A1: Auswertung Arbeitszeiterfassung
A3: Auswertungsmonat | B3: 46266
A5: Monatsübersicht | B5: Wert
A6: Anzahl Einträge | B6: =COUNTIFS('Zeiterfassung'!$B$2:$B$101,">="&'Auswertung'!$B$3,'Zeiterfassung'!$B$2:$B$101,"<"&'Auswertung'!$B$3+31)
A7: Sollstunden total | B7: =SUMIFS('Zeiterfassung'!$H$2:$H$101,'Zeiterfassung'!$B$2:$B$101,">="&'Auswertung'!$B$3,'Zeiterfassung'!$B$2:$B$101,"<"&'Auswertung'!$B$3+31)
A8: Iststunden total | B8: =SUMIFS('Zeiterfassung'!$L$2:$L$101,'Zeiterfassung'!$B$2:$B$101,">="&'Auswertung'!$B$3,'Zeiterfassung'!$B$2:$B$101,"<"&'Auswertung'!$B$3+31)
A9: Überzeit total | B9: =SUMIFS('Zeiterfassung'!$O$2:$O$101,'Zeiterfassung'!$B$2:$B$101,">="&'Auswertung'!$B$3,'Zeiterfassung'!$B$2:$B$101,"<"&'Auswertung'!$B$3+31)
A10: Abwesenheitsstunden | B10: =SUMIFS('Zeiterfassung'!$N$2:$N$101,'Zeiterfassung'!$B$2:$B$101,">="&'Auswertung'!$B$3,'Zeiterfassung'!$B$2:$B$101,"<"&'Auswertung'!$B$3+31)
A11: Erfüllungsgrad | B11: =IF('Auswertung'!$B$7=0,0,'Auswertung'!$B$8/'Auswertung'!$B$7)
A12: Durchschnittliche Iststunden | B12: =IFERROR(AVERAGE('Zeiterfassung'!$L$2:$L$101),0)
A13: Einträge mit Prüfhinweis | B13: =COUNTIFS('Zeiterfassung'!$Q$2:$Q$101,"Prüfen",'Zeiterfassung'!$B$2:$B$101,">="&'Auswertung'!$B$3,'Zeiterfassung'!$B$2:$B$101,"<"&'Auswertung'!$B$3+31)
A14: Prüfhinweise gesamt | B14: =COUNTIF('Zeiterfassung'!$Q$2:$Q$101,"Prüfen")
A18: Mitarbeitende/r | B18: Sollstunden | C18: Iststunden | D18: Überzeit | E18: Erfüllungsgrad | F18: Status
A19: =IF('Stammdaten'!$A2="","",'Stammdaten'!$A2) | B19: =IF('Auswertung'!$A19="","",SUMIFS('Zeiterfassung'!$H$2:$H$101,'Zeiterfassung'!$C$2:$C$101,'Auswertung'!$A19,'Zeiterfassung'!$B$2:$B$101,">="&'Auswertung'!$B$3,'Zeiterfassung'!$B$2:$B$101,"<"&'Auswertung'!$B$3+31)) | C19: =IF('Auswertung'!$A19="","",SUMIFS('Zeiterfassung'!$L$2:$L$101,'Zeiterfassung'!$C$2:$C$101,'Auswertung'!$A19,'Zeiterfassung'!$B$2:$B$101,">="&'Auswertung'!$B$3,'Zeiterfassung'!$B$2:$B$101,"<"&'Auswertung'!$B$3+31)) | D19: =IF('Auswertung'!$A19="","",SUMIFS('Zeiterfassung'!$O$2:$O$101,'Zeiterfassung'!$C$2:$C$101,'Auswertung'!$A19,'Zeiterfassung'!$B$2:$B$101,">="&'Auswertung'!$B$3,'Zeiterfassung'!$B$2:$B$101,"<"&'Auswertung'!$B$3+31)) | E19: =IF(OR('Auswertung'!$A19="",'Auswertung'!$B19=0),"",'Auswertung'!$C19/'Auswertung'!$B19) | F19: =IF('Auswertung'!$E19="","",IF('Auswertung'!$E19>=1,"Ziel erreicht",IF('Auswertung'!$E19>=0.9,"Nahe am Ziel","Prüfen")))
A20: =IF('Stammdaten'!$A3="","",'Stammdaten'!$A3) | B20: =IF('Auswertung'!$A20="","",SUMIFS('Zeiterfassung'!$H$2:$H$101,'Zeiterfassung'!$C$2:$C$101,'Auswertung'!$A20,'Zeiterfassung'!$B$2:$B$101,">="&'Auswertung'!$B$3,'Zeiterfassung'!$B$2:$B$101,"<"&'Auswertung'!$B$3+31)) | C20: =IF('Auswertung'!$A20="","",SUMIFS('Zeiterfassung'!$L$2:$L$101,'Zeiterfassung'!$C$2:$C$101,'Auswertung'!$A20,'Zeiterfassung'!$B$2:$B$101,">="&'Auswertung'!$B$3,'Zeiterfassung'!$B$2:$B$101,"<"&'Auswertung'!$B$3+31)) | D20: =IF('Auswertung'!$A20="","",SUMIFS('Zeiterfassung'!$O$2:$O$101,'Zeiterfassung'!$C$2:$C$101,'Auswertung'!$A20,'Zeiterfassung'!$B$2:$B$101,">="&'Auswertung'!$B$3,'Zeiterfassung'!$B$2:$B$101,"<"&'Auswertung'!$B$3+31)) | E20: =IF(OR('Auswertung'!$A20="",'Auswertung'!$B20=0),"",'Auswertung'!$C20/'Auswertung'!$B20) | F20: =IF('Auswertung'!$E20="","",IF('Auswertung'!$E20>=1,"Ziel erreicht",IF('Auswertung'!$E20>=0.9,"Nahe am Ziel","Prüfen")))
A21: =IF('Stammdaten'!$A4="","",'Stammdaten'!$A4) | B21: =IF('Auswertung'!$A21="","",SUMIFS('Zeiterfassung'!$H$2:$H$101,'Zeiterfassung'!$C$2:$C$101,'Auswertung'!$A21,'Zeiterfassung'!$B$2:$B$101,">="&'Auswertung'!$B$3,'Zeiterfassung'!$B$2:$B$101,"<"&'Auswertung'!$B$3+31)) | C21: =IF('Auswertung'!$A21="","",SUMIFS('Zeiterfassung'!$L$2:$L$101,'Zeiterfassung'!$C$2:$C$101,'Auswertung'!$A21,'Zeiterfassung'!$B$2:$B$101,">="&'Auswertung'!$B$3,'Zeiterfassung'!$B$2:$B$101,"<"&'Auswertung'!$B$3+31)) | D21: =IF('Auswertung'!$A21="","",SUMIFS('Zeiterfassung'!$O$2:$O$101,'Zeiterfassung'!$C$2:$C$101,'Auswertung'!$A21,'Zeiterfassung'!$B$2:$B$101,">="&'Auswertung'!$B$3,'Zeiterfassung'!$B$2:$B$101,"<"&'Auswertung'!$B$3+31)) | E21: =IF(OR('Auswertung'!$A21="",'Auswertung'!$B21=0),"",'Auswertung'!$C21/'Auswertung'!$B21) | F21: =IF('Auswertung'!$E21="","",IF('Auswertung'!$E21>=1,"Ziel erreicht",IF('Auswertung'!$E21>=0.9,"Nahe am Ziel","Prüfen")))
A22: =IF('Stammdaten'!$A5="","",'Stammdaten'!$A5) | B22: =IF('Auswertung'!$A22="","",SUMIFS('Zeiterfassung'!$H$2:$H$101,'Zeiterfassung'!$C$2:$C$101,'Auswertung'!$A22,'Zeiterfassung'!$B$2:$B$101,">="&'Auswertung'!$B$3,'Zeiterfassung'!$B$2:$B$101,"<"&'Auswertung'!$B$3+31)) | C22: =IF('Auswertung'!$A22="","",SUMIFS('Zeiterfassung'!$L$2:$L$101,'Zeiterfassung'!$C$2:$C$101,'Auswertung'!$A22,'Zeiterfassung'!$B$2:$B$101,">="&'Auswertung'!$B$3,'Zeiterfassung'!$B$2:$B$101,"<"&'Auswertung'!$B$3+31)) | D22: =IF('Auswertung'!$A22="","",SUMIFS('Zeiterfassung'!$O$2:$O$101,'Zeiterfassung'!$C$2:$C$101,'Auswertung'!$A22,'Zeiterfassung'!$B$2:$B$101,">="&'Auswertung'!$B$3,'Zeiterfassung'!$B$2:$B$101,"<"&'Auswertung'!$B$3+31)) | E22: =IF(OR('Auswertung'!$A22="",'Auswertung'!$B22=0),"",'Auswertung'!$C22/'Auswertung'!$B22) | F22: =IF('Auswertung'!$E22="","",IF('Auswertung'!$E22>=1,"Ziel erreicht",IF('Auswertung'!$E22>=0.9,"Nahe am Ziel","Prüfen")))
A23: =IF('Stammdaten'!$A6="","",'Stammdaten'!$A6) | B23: =IF('Auswertung'!$A23="","",SUMIFS('Zeiterfassung'!$H$2:$H$101,'Zeiterfassung'!$C$2:$C$101,'Auswertung'!$A23,'Zeiterfassung'!$B$2:$B$101,">="&'Auswertung'!$B$3,'Zeiterfassung'!$B$2:$B$101,"<"&'Auswertung'!$B$3+31)) | C23: =IF('Auswertung'!$A23="","",SUMIFS('Zeiterfassung'!$L$2:$L$101,'Zeiterfassung'!$C$2:$C$101,'Auswertung'!$A23,'Zeiterfassung'!$B$2:$B$101,">="&'Auswertung'!$B$3,'Zeiterfassung'!$B$2:$B$101,"<"&'Auswertung'!$B$3+31)) | D23: =IF('Auswertung'!$A23="","",SUMIFS('Zeiterfassung'!$O$2:$O$101,'Zeiterfassung'!$C$2:$C$101,'Auswertung'!$A23,'Zeiterfassung'!$B$2:$B$101,">="&'Auswertung'!$B$3,'Zeiterfassung'!$B$2:$B$101,"<"&'Auswertung'!$B$3+31)) | E23: =IF(OR('Auswertung'!$A23="",'Auswertung'!$B23=0),"",'Auswertung'!$C23/'Auswertung'!$B23) | F23: =IF('Auswertung'!$E23="","",IF('Auswertung'!$E23>=1,"Ziel erreicht",IF('Auswertung'!$E23>=0.9,"Nahe am Ziel","Prüfen")))
A24: =IF('Stammdaten'!$A7="","",'Stammdaten'!$A7) | B24: =IF('Auswertung'!$A24="","",SUMIFS('Zeiterfassung'!$H$2:$H$101,'Zeiterfassung'!$C$2:$C$101,'Auswertung'!$A24,'Zeiterfassung'!$B$2:$B$101,">="&'Auswertung'!$B$3,'Zeiterfassung'!$B$2:$B$101,"<"&'Auswertung'!$B$3+31)) | C24: =IF('Auswertung'!$A24="","",SUMIFS('Zeiterfassung'!$L$2:$L$101,'Zeiterfassung'!$C$2:$C$101,'Auswertung'!$A24,'Zeiterfassung'!$B$2:$B$101,">="&'Auswertung'!$B$3,'Zeiterfassung'!$B$2:$B$101,"<"&'Auswertung'!$B$3+31)) | D24: =IF('Auswertung'!$A24="","",SUMIFS('Zeiterfassung'!$O$2:$O$101,'Zeiterfassung'!$C$2:$C$101,'Auswertung'!$A24,'Zeiterfassung'!$B$2:$B$101,">="&'Auswertung'!$B$3,'Zeiterfassung'!$B$2:$B$101,"<"&'Auswertung'!$B$3+31)) | E24: =IF(OR('Auswertung'!$A24="",'Auswertung'!$B24=0),"",'Auswertung'!$C24/'Auswertung'!$B24) | F24: =IF('Auswertung'!$E24="","",IF('Auswertung'!$E24>=1,"Ziel erreicht",IF('Auswertung'!$E24>=0.9,"Nahe am Ziel","Prüfen")))
A25: =IF('Stammdaten'!$A8="","",'Stammdaten'!$A8) | B25: =IF('Auswertung'!$A25="","",SUMIFS('Zeiterfassung'!$H$2:$H$101,'Zeiterfassung'!$C$2:$C$101,'Auswertung'!$A25,'Zeiterfassung'!$B$2:$B$101,">="&'Auswertung'!$B$3,'Zeiterfassung'!$B$2:$B$101,"<"&'Auswertung'!$B$3+31)) | C25: =IF('Auswertung'!$A25="","",SUMIFS('Zeiterfassung'!$L$2:$L$101,'Zeiterfassung'!$C$2:$C$101,'Auswertung'!$A25,'Zeiterfassung'!$B$2:$B$101,">="&'Auswertung'!$B$3,'Zeiterfassung'!$B$2:$B$101,"<"&'Auswertung'!$B$3+31)) | D25: =IF('Auswertung'!$A25="","",SUMIFS('Zeiterfassung'!$O$2:$O$101,'Zeiterfassung'!$C$2:$C$101,'Auswertung'!$A25,'Zeiterfassung'!$B$2:$B$101,">="&'Auswertung'!$B$3,'Zeiterfassung'!$B$2:$B$101,"<"&'Auswertung'!$B$3+31)) | E25: =IF(OR('Auswertung'!$A25="",'Auswertung'!$B25=0),"",'Auswertung'!$C25/'Auswertung'!$B25) | F25: =IF('Auswertung'!$E25="","",IF('Auswertung'!$E25>=1,"Ziel erreicht",IF('Auswertung'!$E25>=0.9,"Nahe am Ziel","Prüfen")))
A26: =IF('Stammdaten'!$A9="","",'Stammdaten'!$A9) | B26: =IF('Auswertung'!$A26="","",SUMIFS('Zeiterfassung'!$H$2:$H$101,'Zeiterfassung'!$C$2:$C$101,'Auswertung'!$A26,'Zeiterfassung'!$B$2:$B$101,">="&'Auswertung'!$B$3,'Zeiterfassung'!$B$2:$B$101,"<"&'Auswertung'!$B$3+31)) | C26: =IF('Auswertung'!$A26="","",SUMIFS('Zeiterfassung'!$L$2:$L$101,'Zeiterfassung'!$C$2:$C$101,'Auswertung'!$A26,'Zeiterfassung'!$B$2:$B$101,">="&'Auswertung'!$B$3,'Zeiterfassung'!$B$2:$B$101,"<"&'Auswertung'!$B$3+31)) | D26: =IF('Auswertung'!$A26="","",SUMIFS('Zeiterfassung'!$O$2:$O$101,'Zeiterfassung'!$C$2:$C$101,'Auswertung'!$A26,'Zeiterfassung'!$B$2:$B$101,">="&'Auswertung'!$B$3,'Zeiterfassung'!$B$2:$B$101,"<"&'Auswertung'!$B$3+31)) | E26: =IF(OR('Auswertung'!$A26="",'Auswertung'!$B26=0),"",'Auswertung'!$C26/'Auswertung'!$B26) | F26: =IF('Auswertung'!$E26="","",IF('Auswertung'!$E26>=1,"Ziel erreicht",IF('Auswertung'!$E26>=0.9,"Nahe am Ziel","Prüfen")))
A27: =IF('Stammdaten'!$A10="","",'Stammdaten'!$A10) | B27: =IF('Auswertung'!$A27="","",SUMIFS('Zeiterfassung'!$H$2:$H$101,'Zeiterfassung'!$C$2:$C$101,'Auswertung'!$A27,'Zeiterfassung'!$B$2:$B$101,">="&'Auswertung'!$B$3,'Zeiterfassung'!$B$2:$B$101,"<"&'Auswertung'!$B$3+31)) | C27: =IF('Auswertung'!$A27="","",SUMIFS('Zeiterfassung'!$L$2:$L$101,'Zeiterfassung'!$C$2:$C$101,'Auswertung'!$A27,'Zeiterfassung'!$B$2:$B$101,">="&'Auswertung'!$B$3,'Zeiterfassung'!$B$2:$B$101,"<"&'Auswertung'!$B$3+31)) | D27: =IF('Auswertung'!$A27="","",SUMIFS('Zeiterfassung'!$O$2:$O$101,'Zeiterfassung'!$C$2:$C$101,'Auswertung'!$A27,'Zeiterfassung'!$B$2:$B$101,">="&'Auswertung'!$B$3,'Zeiterfassung'!$B$2:$B$101,"<"&'Auswertung'!$B$3+31)) | E27: =IF(OR('Auswertung'!$A27="",'Auswertung'!$B27=0),"",'Auswertung'!$C27/'Auswertung'!$B27) | F27: =IF('Auswertung'!$E27="","",IF('Auswertung'!$E27>=1,"Ziel erreicht",IF('Auswertung'!$E27>=0.9,"Nahe am Ziel","Prüfen")))
A28: =IF('Stammdaten'!$A11="","",'Stammdaten'!$A11) | B28: =IF('Auswertung'!$A28="","",SUMIFS('Zeiterfassung'!$H$2:$H$101,'Zeiterfassung'!$C$2:$C$101,'Auswertung'!$A28,'Zeiterfassung'!$B$2:$B$101,">="&'Auswertung'!$B$3,'Zeiterfassung'!$B$2:$B$101,"<"&'Auswertung'!$B$3+31)) | C28: =IF('Auswertung'!$A28="","",SUMIFS('Zeiterfassung'!$L$2:$L$101,'Zeiterfassung'!$C$2:$C$101,'Auswertung'!$A28,'Zeiterfassung'!$B$2:$B$101,">="&'Auswertung'!$B$3,'Zeiterfassung'!$B$2:$B$101,"<"&'Auswertung'!$B$3+31)) | D28: =IF('Auswertung'!$A28="","",SUMIFS('Zeiterfassung'!$O$2:$O$101,'Zeiterfassung'!$C$2:$C$101,'Auswertung'!$A28,'Zeiterfassung'!$B$2:$B$101,">="&'Auswertung'!$B$3,'Zeiterfassung'!$B$2:$B$101,"<"&'Auswertung'!$B$3+31)) | E28: =IF(OR('Auswertung'!$A28="",'Auswertung'!$B28=0),"",'Auswertung'!$C28/'Auswertung'!$B28) | F28: =IF('Auswertung'!$E28="","",IF('Auswertung'!$E28>=1,"Ziel erreicht",IF('Auswertung'!$E28>=0.9,"Nahe am Ziel","Prüfen")))
A29: =IF('Stammdaten'!$A12="","",'Stammdaten'!$A12) | B29: =IF('Auswertung'!$A29="","",SUMIFS('Zeiterfassung'!$H$2:$H$101,'Zeiterfassung'!$C$2:$C$101,'Auswertung'!$A29,'Zeiterfassung'!$B$2:$B$101,">="&'Auswertung'!$B$3,'Zeiterfassung'!$B$2:$B$101,"<"&'Auswertung'!$B$3+31)) | C29: =IF('Auswertung'!$A29="","",SUMIFS('Zeiterfassung'!$L$2:$L$101,'Zeiterfassung'!$C$2:$C$101,'Auswertung'!$A29,'Zeiterfassung'!$B$2:$B$101,">="&'Auswertung'!$B$3,'Zeiterfassung'!$B$2:$B$101,"<"&'Auswertung'!$B$3+31)) | D29: =IF('Auswertung'!$A29="","",SUMIFS('Zeiterfassung'!$O$2:$O$101,'Zeiterfassung'!$C$2:$C$101,'Auswertung'!$A29,'Zeiterfassung'!$B$2:$B$101,">="&'Auswertung'!$B$3,'Zeiterfassung'!$B$2:$B$101,"<"&'Auswertung'!$B$3+31)) | E29: =IF(OR('Auswertung'!$A29="",'Auswertung'!$B29=0),"",'Auswertung'!$C29/'Auswertung'!$B29) | F29: =IF('Auswertung'!$E29="","",IF('Auswertung'!$E29>=1,"Ziel erreicht",IF('Auswertung'!$E29>=0.9,"Nahe am Ziel","Prüfen")))
A30: =IF('Stammdaten'!$A13="","",'Stammdaten'!$A13) | B30: =IF('Auswertung'!$A30="","",SUMIFS('Zeiterfassung'!$H$2:$H$101,'Zeiterfassung'!$C$2:$C$101,'Auswertung'!$A30,'Zeiterfassung'!$B$2:$B$101,">="&'Auswertung'!$B$3,'Zeiterfassung'!$B$2:$B$101,"<"&'Auswertung'!$B$3+31)) | C30: =IF('Auswertung'!$A30="","",SUMIFS('Zeiterfassung'!$L$2:$L$101,'Zeiterfassung'!$C$2:$C$101,'Auswertung'!$A30,'Zeiterfassung'!$B$2:$B$101,">="&'Auswertung'!$B$3,'Zeiterfassung'!$B$2:$B$101,"<"&'Auswertung'!$B$3+31)) | D30: =IF('Auswertung'!$A30="","",SUMIFS('Zeiterfassung'!$O$2:$O$101,'Zeiterfassung'!$C$2:$C$101,'Auswertung'!$A30,'Zeiterfassung'!$B$2:$B$101,">="&'Auswertung'!$B$3,'Zeiterfassung'!$B$2:$B$101,"<"&'Auswertung'!$B$3+31)) | E30: =IF(OR('Auswertung'!$A30="",'Auswertung'!$B30=0),"",'Auswertung'!$C30/'Auswertung'!$B30) | F30: =IF('Auswertung'!$E30="","",IF('Auswertung'!$E30>=1,"Ziel erreicht",IF('Auswertung'!$E30>=0.9,"Nahe am Ziel","Prüfen")))
... A35: =IF('Stammdaten'!$A18="","",'Stammdaten'!$A18) | B35: =IF('Auswertung'!$A35="","",SUMIFS('Zeiterfassung'!$H$2:$H$101,'Zeiterfassung'!$C$2:$C$101,'Auswertung'!$A35,'Zeiterfassung'!$B$2:$B$101,">="&'Auswertung'!$B$3,'Zeiterfassung'!$B$2:$B$101,"<"&'Auswertung'!$B$3+31)) | C35: =IF('Auswertung'!$A35="","",SUMIFS('Zeiterfassung'!$L$2:$L$101,'Zeiterfassung'!$C$2:$C$101,'Auswertung'!$A35,'Zeiterfassung'!$B$2:$B$101,">="&'Auswertung'!$B$3,'Zeiterfassung'!$B$2:$B$101,"<"&'Auswertung'!$B$3+31)) | D35: =IF('Auswertung'!$A35="","",SUMIFS('Zeiterfassung'!$O$2:$O$101,'Zeiterfassung'!$C$2:$C$101,'Auswertung'!$A35,'Zeiterfassung'!$B$2:$B$101,">="&'Auswertung'!$B$3,'Zeiterfassung'!$B$2:$B$101,"<"&'Auswertung'!$B$3+31)) | E35: =IF(OR('Auswertung'!$A35="",'Auswertung'!$B35=0),"",'Auswertung'!$C35/'Auswertung'!$B35) | F35: =IF('Auswertung'!$E35="","",IF('Auswertung'!$E35>=1,"Ziel erreicht",IF('Auswertung'!$E35>=0.9,"Nahe am Ziel","Prüfen")))
A36: =IF('Stammdaten'!$A19="","",'Stammdaten'!$A19) | B36: =IF('Auswertung'!$A36="","",SUMIFS('Zeiterfassung'!$H$2:$H$101,'Zeiterfassung'!$C$2:$C$101,'Auswertung'!$A36,'Zeiterfassung'!$B$2:$B$101,">="&'Auswertung'!$B$3,'Zeiterfassung'!$B$2:$B$101,"<"&'Auswertung'!$B$3+31)) | C36: =IF('Auswertung'!$A36="","",SUMIFS('Zeiterfassung'!$L$2:$L$101,'Zeiterfassung'!$C$2:$C$101,'Auswertung'!$A36,'Zeiterfassung'!$B$2:$B$101,">="&'Auswertung'!$B$3,'Zeiterfassung'!$B$2:$B$101,"<"&'Auswertung'!$B$3+31)) | D36: =IF('Auswertung'!$A36="","",SUMIFS('Zeiterfassung'!$O$2:$O$101,'Zeiterfassung'!$C$2:$C$101,'Auswertung'!$A36,'Zeiterfassung'!$B$2:$B$101,">="&'Auswertung'!$B$3,'Zeiterfassung'!$B$2:$B$101,"<"&'Auswertung'!$B$3+31)) | E36: =IF(OR('Auswertung'!$A36="",'Auswertung'!$B36=0),"",'Auswertung'!$C36/'Auswertung'!$B36) | F36: =IF('Auswertung'!$E36="","",IF('Auswertung'!$E36>=1,"Ziel erreicht",IF('Auswertung'!$E36>=0.9,"Nahe am Ziel","Prüfen"))) | H36: Abwesenheitsart | I36: Stunden
A37: =IF('Stammdaten'!$A20="","",'Stammdaten'!$A20) | B37: =IF('Auswertung'!$A37="","",SUMIFS('Zeiterfassung'!$H$2:$H$101,'Zeiterfassung'!$C$2:$C$101,'Auswertung'!$A37,'Zeiterfassung'!$B$2:$B$101,">="&'Auswertung'!$B$3,'Zeiterfassung'!$B$2:$B$101,"<"&'Auswertung'!$B$3+31)) | C37: =IF('Auswertung'!$A37="","",SUMIFS('Zeiterfassung'!$L$2:$L$101,'Zeiterfassung'!$C$2:$C$101,'Auswertung'!$A37,'Zeiterfassung'!$B$2:$B$101,">="&'Auswertung'!$B$3,'Zeiterfassung'!$B$2:$B$101,"<"&'Auswertung'!$B$3+31)) | D37: =IF('Auswertung'!$A37="","",SUMIFS('Zeiterfassung'!$O$2:$O$101,'Zeiterfassung'!$C$2:$C$101,'Auswertung'!$A37,'Zeiterfassung'!$B$2:$B$101,">="&'Auswertung'!$B$3,'Zeiterfassung'!$B$2:$B$101,"<"&'Auswertung'!$B$3+31)) | E37: =IF(OR('Auswertung'!$A37="",'Auswertung'!$B37=0),"",'Auswertung'!$C37/'Auswertung'!$B37) | F37: =IF('Auswertung'!$E37="","",IF('Auswertung'!$E37>=1,"Ziel erreicht",IF('Auswertung'!$E37>=0.9,"Nahe am Ziel","Prüfen"))) | H37: Keine | I37: =SUMIFS('Zeiterfassung'!$N$2:$N$101,'Zeiterfassung'!$M$2:$M$101,'Auswertung'!$H37,'Zeiterfassung'!$B$2:$B$101,">="&'Auswertung'!$B$3,'Zeiterfassung'!$B$2:$B$101,"<"&'Auswertung'!$B$3+31)
A38: =IF('Stammdaten'!$A21="","",'Stammdaten'!$A21) | B38: =IF('Auswertung'!$A38="","",SUMIFS('Zeiterfassung'!$H$2:$H$101,'Zeiterfassung'!$C$2:$C$101,'Auswertung'!$A38,'Zeiterfassung'!$B$2:$B$101,">="&'Auswertung'!$B$3,'Zeiterfassung'!$B$2:$B$101,"<"&'Auswertung'!$B$3+31)) | C38: =IF('Auswertung'!$A38="","",SUMIFS('Zeiterfassung'!$L$2:$L$101,'Zeiterfassung'!$C$2:$C$101,'Auswertung'!$A38,'Zeiterfassung'!$B$2:$B$101,">="&'Auswertung'!$B$3,'Zeiterfassung'!$B$2:$B$101,"<"&'Auswertung'!$B$3+31)) | D38: =IF('Auswertung'!$A38="","",SUMIFS('Zeiterfassung'!$O$2:$O$101,'Zeiterfassung'!$C$2:$C$101,'Auswertung'!$A38,'Zeiterfassung'!$B$2:$B$101,">="&'Auswertung'!$B$3,'Zeiterfassung'!$B$2:$B$101,"<"&'Auswertung'!$B$3+31)) | E38: =IF(OR('Auswertung'!$A38="",'Auswertung'!$B38=0),"",'Auswertung'!$C38/'Auswertung'!$B38) | F38: =IF('Auswertung'!$E38="","",IF('Auswertung'!$E38>=1,"Ziel erreicht",IF('Auswertung'!$E38>=0.9,"Nahe am Ziel","Prüfen"))) | H38: Ferien | I38: =SUMIFS('Zeiterfassung'!$N$2:$N$101,'Zeiterfassung'!$M$2:$M$101,'Auswertung'!$H38,'Zeiterfassung'!$B$2:$B$101,">="&'Auswertung'!$B$3,'Zeiterfassung'!$B$2:$B$101,"<"&'Auswertung'!$B$3+31)
A39: =IF('Stammdaten'!$A22="","",'Stammdaten'!$A22) | B39: =IF('Auswertung'!$A39="","",SUMIFS('Zeiterfassung'!$H$2:$H$101,'Zeiterfassung'!$C$2:$C$101,'Auswertung'!$A39,'Zeiterfassung'!$B$2:$B$101,">="&'Auswertung'!$B$3,'Zeiterfassung'!$B$2:$B$101,"<"&'Auswertung'!$B$3+31)) | C39: =IF('Auswertung'!$A39="","",SUMIFS('Zeiterfassung'!$L$2:$L$101,'Zeiterfassung'!$C$2:$C$101,'Auswertung'!$A39,'Zeiterfassung'!$B$2:$B$101,">="&'Auswertung'!$B$3,'Zeiterfassung'!$B$2:$B$101,"<"&'Auswertung'!$B$3+31)) | D39: =IF('Auswertung'!$A39="","",SUMIFS('Zeiterfassung'!$O$2:$O$101,'Zeiterfassung'!$C$2:$C$101,'Auswertung'!$A39,'Zeiterfassung'!$B$2:$B$101,">="&'Auswertung'!$B$3,'Zeiterfassung'!$B$2:$B$101,"<"&'Auswertung'!$B$3+31)) | E39: =IF(OR('Auswertung'!$A39="",'Auswertung'!$B39=0),"",'Auswertung'!$C39/'Auswertung'!$B39) | F39: =IF('Auswertung'!$E39="","",IF('Auswertung'!$E39>=1,"Ziel erreicht",IF('Auswertung'!$E39>=0.9,"Nahe am Ziel","Prüfen"))) | H39: Krankheit | I39: =SUMIFS('Zeiterfassung'!$N$2:$N$101,'Zeiterfassung'!$M$2:$M$101,'Auswertung'!$H39,'Zeiterfassung'!$B$2:$B$101,">="&'Auswertung'!$B$3,'Zeiterfassung'!$B$2:$B$101,"<"&'Auswertung'!$B$3+31)
A40: =IF('Stammdaten'!$A23="","",'Stammdaten'!$A23) | B40: =IF('Auswertung'!$A40="","",SUMIFS('Zeiterfassung'!$H$2:$H$101,'Zeiterfassung'!$C$2:$C$101,'Auswertung'!$A40,'Zeiterfassung'!$B$2:$B$101,">="&'Auswertung'!$B$3,'Zeiterfassung'!$B$2:$B$101,"<"&'Auswertung'!$B$3+31)) | C40: =IF('Auswertung'!$A40="","",SUMIFS('Zeiterfassung'!$L$2:$L$101,'Zeiterfassung'!$C$2:$C$101,'Auswertung'!$A40,'Zeiterfassung'!$B$2:$B$101,">="&'Auswertung'!$B$3,'Zeiterfassung'!$B$2:$B$101,"<"&'Auswertung'!$B$3+31)) | D40: =IF('Auswertung'!$A40="","",SUMIFS('Zeiterfassung'!$O$2:$O$101,'Zeiterfassung'!$C$2:$C$101,'Auswertung'!$A40,'Zeiterfassung'!$B$2:$B$101,">="&'Auswertung'!$B$3,'Zeiterfassung'!$B$2:$B$101,"<"&'Auswertung'!$B$3+31)) | E40: =IF(OR('Auswertung'!$A40="",'Auswertung'!$B40=0),"",'Auswertung'!$C40/'Auswertung'!$B40) | F40: =IF('Auswertung'!$E40="","",IF('Auswertung'!$E40>=1,"Ziel erreicht",IF('Auswertung'!$E40>=0.9,"Nahe am Ziel","Prüfen"))) | H40: Unfall | I40: =SUMIFS('Zeiterfassung'!$N$2:$N$101,'Zeiterfassung'!$M$2:$M$101,'Auswertung'!$H40,'Zeiterfassung'!$B$2:$B$101,">="&'Auswertung'!$B$3,'Zeiterfassung'!$B$2:$B$101,"<"&'Auswertung'!$B$3+31)
A41: =IF('Stammdaten'!$A24="","",'Stammdaten'!$A24) | B41: =IF('Auswertung'!$A41="","",SUMIFS('Zeiterfassung'!$H$2:$H$101,'Zeiterfassung'!$C$2:$C$101,'Auswertung'!$A41,'Zeiterfassung'!$B$2:$B$101,">="&'Auswertung'!$B$3,'Zeiterfassung'!$B$2:$B$101,"<"&'Auswertung'!$B$3+31)) | C41: =IF('Auswertung'!$A41="","",SUMIFS('Zeiterfassung'!$L$2:$L$101,'Zeiterfassung'!$C$2:$C$101,'Auswertung'!$A41,'Zeiterfassung'!$B$2:$B$101,">="&'Auswertung'!$B$3,'Zeiterfassung'!$B$2:$B$101,"<"&'Auswertung'!$B$3+31)) | D41: =IF('Auswertung'!$A41="","",SUMIFS('Zeiterfassung'!$O$2:$O$101,'Zeiterfassung'!$C$2:$C$101,'Auswertung'!$A41,'Zeiterfassung'!$B$2:$B$101,">="&'Auswertung'!$B$3,'Zeiterfassung'!$B$2:$B$101,"<"&'Auswertung'!$B$3+31)) | E41: =IF(OR('Auswertung'!$A41="",'Auswertung'!$B41=0),"",'Auswertung'!$C41/'Auswertung'!$B41) | F41: =IF('Auswertung'!$E41="","",IF('Auswertung'!$E41>=1,"Ziel erreicht",IF('Auswertung'!$E41>=0.9,"Nahe am Ziel","Prüfen"))) | H41: Weiterbildung | I41: =SUMIFS('Zeiterfassung'!$N$2:$N$101,'Zeiterfassung'!$M$2:$M$101,'Auswertung'!$H41,'Zeiterfassung'!$B$2:$B$101,">="&'Auswertung'!$B$3,'Zeiterfassung'!$B$2:$B$101,"<"&'Auswertung'!$B$3+31)
A42: =IF('Stammdaten'!$A25="","",'Stammdaten'!$A25) | B42: =IF('Auswertung'!$A42="","",SUMIFS('Zeiterfassung'!$H$2:$H$101,'Zeiterfassung'!$C$2:$C$101,'Auswertung'!$A42,'Zeiterfassung'!$B$2:$B$101,">="&'Auswertung'!$B$3,'Zeiterfassung'!$B$2:$B$101,"<"&'Auswertung'!$B$3+31)) | C42: =IF('Auswertung'!$A42="","",SUMIFS('Zeiterfassung'!$L$2:$L$101,'Zeiterfassung'!$C$2:$C$101,'Auswertung'!$A42,'Zeiterfassung'!$B$2:$B$101,">="&'Auswertung'!$B$3,'Zeiterfassung'!$B$2:$B$101,"<"&'Auswertung'!$B$3+31)) | D42: =IF('Auswertung'!$A42="","",SUMIFS('Zeiterfassung'!$O$2:$O$101,'Zeiterfassung'!$C$2:$C$101,'Auswertung'!$A42,'Zeiterfassung'!$B$2:$B$101,">="&'Auswertung'!$B$3,'Zeiterfassung'!$B$2:$B$101,"<"&'Auswertung'!$B$3+31)) | E42: =IF(OR('Auswertung'!$A42="",'Auswertung'!$B42=0),"",'Auswertung'!$C42/'Auswertung'!$B42) | F42: =IF('Auswertung'!$E42="","",IF('Auswertung'!$E42>=1,"Ziel erreicht",IF('Auswertung'!$E42>=0.9,"Nahe am Ziel","Prüfen"))) | H42: Militär/Zivildienst | I42: =SUMIFS('Zeiterfassung'!$N$2:$N$101,'Zeiterfassung'!$M$2:$M$101,'Auswertung'!$H42,'Zeiterfassung'!$B$2:$B$101,">="&'Auswertung'!$B$3,'Zeiterfassung'!$B$2:$B$101,"<"&'Auswertung'!$B$3+31)
A43: =IF('Stammdaten'!$A26="","",'Stammdaten'!$A26) | B43: =IF('Auswertung'!$A43="","",SUMIFS('Zeiterfassung'!$H$2:$H$101,'Zeiterfassung'!$C$2:$C$101,'Auswertung'!$A43,'Zeiterfassung'!$B$2:$B$101,">="&'Auswertung'!$B$3,'Zeiterfassung'!$B$2:$B$101,"<"&'Auswertung'!$B$3+31)) | C43: =IF('Auswertung'!$A43="","",SUMIFS('Zeiterfassung'!$L$2:$L$101,'Zeiterfassung'!$C$2:$C$101,'Auswertung'!$A43,'Zeiterfassung'!$B$2:$B$101,">="&'Auswertung'!$B$3,'Zeiterfassung'!$B$2:$B$101,"<"&'Auswertung'!$B$3+31)) | D43: =IF('Auswertung'!$A43="","",SUMIFS('Zeiterfassung'!$O$2:$O$101,'Zeiterfassung'!$C$2:$C$101,'Auswertung'!$A43,'Zeiterfassung'!$B$2:$B$101,">="&'Auswertung'!$B$3,'Zeiterfassung'!$B$2:$B$101,"<"&'Auswertung'!$B$3+31)) | E43: =IF(OR('Auswertung'!$A43="",'Auswertung'!$B43=0),"",'Auswertung'!$C43/'Auswertung'!$B43) | F43: =IF('Auswertung'!$E43="","",IF('Auswertung'!$E43>=1,"Ziel erreicht",IF('Auswertung'!$E43>=0.9,"Nahe am Ziel","Prüfen"))) | H43: Feiertag | I43: =SUMIFS('Zeiterfassung'!$N$2:$N$101,'Zeiterfassung'!$M$2:$M$101,'Auswertung'!$H43,'Zeiterfassung'!$B$2:$B$101,">="&'Auswertung'!$B$3,'Zeiterfassung'!$B$2:$B$101,"<"&'Auswertung'!$B$3+31)
A44: =IF('Stammdaten'!$A27="","",'Stammdaten'!$A27) | B44: =IF('Auswertung'!$A44="","",SUMIFS('Zeiterfassung'!$H$2:$H$101,'Zeiterfassung'!$C$2:$C$101,'Auswertung'!$A44,'Zeiterfassung'!$B$2:$B$101,">="&'Auswertung'!$B$3,'Zeiterfassung'!$B$2:$B$101,"<"&'Auswertung'!$B$3+31)) | C44: =IF('Auswertung'!$A44="","",SUMIFS('Zeiterfassung'!$L$2:$L$101,'Zeiterfassung'!$C$2:$C$101,'Auswertung'!$A44,'Zeiterfassung'!$B$2:$B$101,">="&'Auswertung'!$B$3,'Zeiterfassung'!$B$2:$B$101,"<"&'Auswertung'!$B$3+31)) | D44: =IF('Auswertung'!$A44="","",SUMIFS('Zeiterfassung'!$O$2:$O$101,'Zeiterfassung'!$C$2:$C$101,'Auswertung'!$A44,'Zeiterfassung'!$B$2:$B$101,">="&'Auswertung'!$B$3,'Zeiterfassung'!$B$2:$B$101,"<"&'Auswertung'!$B$3+31)) | E44: =IF(OR('Auswertung'!$A44="",'Auswertung'!$B44=0),"",'Auswertung'!$C44/'Auswertung'!$B44) | F44: =IF('Auswertung'!$E44="","",IF('Auswertung'!$E44>=1,"Ziel erreicht",IF('Auswertung'!$E44>=0.9,"Nahe am Ziel","Prüfen")))
A45: =IF('Stammdaten'!$A28="","",'Stammdaten'!$A28) | B45: =IF('Auswertung'!$A45="","",SUMIFS('Zeiterfassung'!$H$2:$H$101,'Zeiterfassung'!$C$2:$C$101,'Auswertung'!$A45,'Zeiterfassung'!$B$2:$B$101,">="&'Auswertung'!$B$3,'Zeiterfassung'!$B$2:$B$101,"<"&'Auswertung'!$B$3+31)) | C45: =IF('Auswertung'!$A45="","",SUMIFS('Zeiterfassung'!$L$2:$L$101,'Zeiterfassung'!$C$2:$C$101,'Auswertung'!$A45,'Zeiterfassung'!$B$2:$B$101,">="&'Auswertung'!$B$3,'Zeiterfassung'!$B$2:$B$101,"<"&'Auswertung'!$B$3+31)) | D45: =IF('Auswertung'!$A45="","",SUMIFS('Zeiterfassung'!$O$2:$O$101,'Zeiterfassung'!$C$2:$C$101,'Auswertung'!$A45,'Zeiterfassung'!$B$2:$B$101,">="&'Auswertung'!$B$3,'Zeiterfassung'!$B$2:$B$101,"<"&'Auswertung'!$B$3+31)) | E45: =IF(OR('Auswertung'!$A45="",'Auswertung'!$B45=0),"",'Auswertung'!$C45/'Auswertung'!$B45) | F45: =IF('Auswertung'!$E45="","",IF('Auswertung'!$E45>=1,"Ziel erreicht",IF('Auswertung'!$E45>=0.9,"Nahe am Ziel","Prüfen")))
A46: =IF('Stammdaten'!$A29="","",'Stammdaten'!$A29) | B46: =IF('Auswertung'!$A46="","",SUMIFS('Zeiterfassung'!$H$2:$H$101,'Zeiterfassung'!$C$2:$C$101,'Auswertung'!$A46,'Zeiterfassung'!$B$2:$B$101,">="&'Auswertung'!$B$3,'Zeiterfassung'!$B$2:$B$101,"<"&'Auswertung'!$B$3+31)) | C46: =IF('Auswertung'!$A46="","",SUMIFS('Zeiterfassung'!$L$2:$L$101,'Zeiterfassung'!$C$2:$C$101,'Auswertung'!$A46,'Zeiterfassung'!$B$2:$B$101,">="&'Auswertung'!$B$3,'Zeiterfassung'!$B$2:$B$101,"<"&'Auswertung'!$B$3+31)) | D46: =IF('Auswertung'!$A46="","",SUMIFS('Zeiterfassung'!$O$2:$O$101,'Zeiterfassung'!$C$2:$C$101,'Auswertung'!$A46,'Zeiterfassung'!$B$2:$B$101,">="&'Auswertung'!$B$3,'Zeiterfassung'!$B$2:$B$101,"<"&'Auswertung'!$B$3+31)) | E46: =IF(OR('Auswertung'!$A46="",'Auswertung'!$B46=0),"",'Auswertung'!$C46/'Auswertung'!$B46) | F46: =IF('Auswertung'!$E46="","",IF('Auswertung'!$E46>=1,"Ziel erreicht",IF('Auswertung'!$E46>=0.9,"Nahe am Ziel","Prüfen")))
A47: =IF('Stammdaten'!$A30="","",'Stammdaten'!$A30) | B47: =IF('Auswertung'!$A47="","",SUMIFS('Zeiterfassung'!$H$2:$H$101,'Zeiterfassung'!$C$2:$C$101,'Auswertung'!$A47,'Zeiterfassung'!$B$2:$B$101,">="&'Auswertung'!$B$3,'Zeiterfassung'!$B$2:$B$101,"<"&'Auswertung'!$B$3+31)) | C47: =IF('Auswertung'!$A47="","",SUMIFS('Zeiterfassung'!$L$2:$L$101,'Zeiterfassung'!$C$2:$C$101,'Auswertung'!$A47,'Zeiterfassung'!$B$2:$B$101,">="&'Auswertung'!$B$3,'Zeiterfassung'!$B$2:$B$101,"<"&'Auswertung'!$B$3+31)) | D47: =IF('Auswertung'!$A47="","",SUMIFS('Zeiterfassung'!$O$2:$O$101,'Zeiterfassung'!$C$2:$C$101,'Auswertung'!$A47,'Zeiterfassung'!$B$2:$B$101,">="&'Auswertung'!$B$3,'Zeiterfassung'!$B$2:$B$101,"<"&'Auswertung'!$B$3+31)) | E47: =IF(OR('Auswertung'!$A47="",'Auswertung'!$B47=0),"",'Auswertung'!$C47/'Auswertung'!$B47) | F47: =IF('Auswertung'!$E47="","",IF('Auswertung'!$E47>=1,"Ziel erreicht",IF('Auswertung'!$E47>=0.9,"Nahe am Ziel","Prüfen")))
A48: =IF('Stammdaten'!$A31="","",'Stammdaten'!$A31) | B48: =IF('Auswertung'!$A48="","",SUMIFS('Zeiterfassung'!$H$2:$H$101,'Zeiterfassung'!$C$2:$C$101,'Auswertung'!$A48,'Zeiterfassung'!$B$2:$B$101,">="&'Auswertung'!$B$3,'Zeiterfassung'!$B$2:$B$101,"<"&'Auswertung'!$B$3+31)) | C48: =IF('Auswertung'!$A48="","",SUMIFS('Zeiterfassung'!$L$2:$L$101,'Zeiterfassung'!$C$2:$C$101,'Auswertung'!$A48,'Zeiterfassung'!$B$2:$B$101,">="&'Auswertung'!$B$3,'Zeiterfassung'!$B$2:$B$101,"<"&'Auswertung'!$B$3+31)) | D48: =IF('Auswertung'!$A48="","",SUMIFS('Zeiterfassung'!$O$2:$O$101,'Zeiterfassung'!$C$2:$C$101,'Auswertung'!$A48,'Zeiterfassung'!$B$2:$B$101,">="&'Auswertung'!$B$3,'Zeiterfassung'!$B$2:$B$101,"<"&'Auswertung'!$B$3+31)) | E48: =IF(OR('Auswertung'!$A48="",'Auswertung'!$B48=0),"",'Auswertung'!$C48/'Auswertung'!$B48) | F48: =IF('Auswertung'!$E48="","",IF('Auswertung'!$E48>=1,"Ziel erreicht",IF('Auswertung'!$E48>=0.9,"Nahe am Ziel","Prüfen")))
